BEGIN:VCALENDAR
VERSION:2.0
PRODID:-//Vakarų Vėjai - ECPv6.15.3//NONSGML v1.0//EN
CALSCALE:GREGORIAN
METHOD:PUBLISH
X-ORIGINAL-URL:https://vakaruvejai.com
X-WR-CALDESC:Vakarų Vėjai renginiai
REFRESH-INTERVAL;VALUE=DURATION:PT1H
X-Robots-Tag:noindex
X-PUBLISHED-TTL:PT1H
BEGIN:VTIMEZONE
TZID:America/Los_Angeles
BEGIN:DAYLIGHT
TZOFFSETFROM:-0800
TZOFFSETTO:-0700
TZNAME:PDT
DTSTART:20240310T100000
END:DAYLIGHT
BEGIN:STANDARD
TZOFFSETFROM:-0700
TZOFFSETTO:-0800
TZNAME:PST
DTSTART:20241103T090000
END:STANDARD
END:VTIMEZONE
BEGIN:VEVENT
DTSTART;TZID=America/Los_Angeles:20240508T173000
DTEND;TZID=America/Los_Angeles:20240508T193000
DTSTAMP:20260423T161904
CREATED:20240504T035933Z
LAST-MODIFIED:20240504T035933Z
UID:26720-1715189400-1715196600@vakaruvejai.com
SUMMARY:Happy Hour - "Pasakyk TAIP 4MLN Lietuvai"\, Santa Monika
DESCRIPTION:Kviečiame prisijungti pabendrauti Happy Hour ateinantį trečiadienį\, gegužės 8d. 17:30 val Santa Monica Brew Works Santa Monikoje. https://santamonicabrewworks.com/\nPirmyn Pasaulio Lietuviai gyvenantys Los Angeles! Iki referendumo del Lietuvos Respublikos pilietybės išsaugojimo liko tik 9 dienos!\nPrimename\, kad balsuoti bus galima konsulate Los Angeles.\nKonsulate jūsų lauks atvykstant balsuoti referendume dėl pilietybės išlaikymo ir Lietuvos Respublikos Prezidento rinkimuose šiuo laiku:\ngegužės 9-10 d. 9:00-13:00 val. ir 14:00-19:00 val. bei gegužės 12 d. 7-10 val. ryte. Generalinio konsulato adresas: 11766 Wilshire Blvd. Suite 560\, Los Angeles\, CA 90025.\nSVARBU:JAV Vakarų pakrantėje gyvenantys ar atostogaujantys piliečiai\, neužsiregistravę balsuoti (arba nebalsavę) paštu\, gali balsuoti asmeniškai atvykę į generalinį konsulatą nurodytomis dienomis ir valandomis bet kuriuo metu\, be išankstinės vizito generaliniame konsulate registracijos.Atvykdami būtinai turėkite savo Lietuvos Respublikos pasą ar asmens tapatybės kortelę.Išankstinė registracija elektroninėje sistemoje www.rinkejopuslapis.lt generaliniame konsulate pageidaujantiems balsuoti Lietuvos piliečiams nėra būtina\, tačiau raginame tą padaryti: tai pagreitins procesą\, padės išvengti galimų eilių balsavimo dienomis
URL:https://vakaruvejai.com/renginys/happy-hour-pasakyk-taip-4mln-lietuvai-santa-monika/
LOCATION:Santa Monica Brew Works\, 1920 Colorado Ave. Unit C\, Santa Monica\, CA\, 90404
CATEGORIES:Lietuviški renginiai,Los Andželas
ATTACH;FMTTYPE=image/jpeg:https://vakaruvejai.com/wp-content/uploads/2024/05/441346398_827935409368232_266845298411852158_n.jpeg
END:VEVENT
END:VCALENDAR