BEGIN:VCALENDAR
VERSION:2.0
PRODID:-//Vakarų Vėjai - ECPv6.15.3//NONSGML v1.0//EN
CALSCALE:GREGORIAN
METHOD:PUBLISH
X-ORIGINAL-URL:https://vakaruvejai.com
X-WR-CALDESC:Vakarų Vėjai renginiai
REFRESH-INTERVAL;VALUE=DURATION:PT1H
X-Robots-Tag:noindex
X-PUBLISHED-TTL:PT1H
BEGIN:VTIMEZONE
TZID:America/Los_Angeles
BEGIN:DAYLIGHT
TZOFFSETFROM:-0800
TZOFFSETTO:-0700
TZNAME:PDT
DTSTART:20240310T100000
END:DAYLIGHT
BEGIN:STANDARD
TZOFFSETFROM:-0700
TZOFFSETTO:-0800
TZNAME:PST
DTSTART:20241103T090000
END:STANDARD
END:VTIMEZONE
BEGIN:VEVENT
DTSTART;TZID=America/Los_Angeles:20241005T070000
DTEND;TZID=America/Los_Angeles:20241005T090000
DTSTAMP:20260423T131340
CREATED:20240907T012606Z
LAST-MODIFIED:20240907T012606Z
UID:27488-1728111600-1728118800@vakaruvejai.com
SUMMARY:Lietuvių dienų 5K bėgimas/Lithuanian days 5K run\, Los Andželas
DESCRIPTION:KAS? Planuojate dalyvauti „Lietuvių dienų“ cepelinų\, kugelio ir lietuviško alaus puotoje? Prieš tai kviečiame visus prisijungti prie 5 km bėgimo paplūdimyje arba ramaus 1 mylios pasivaikščiojimo!\n\n\nKUR? Crescent Bay Park stovėjimo aikštelė\n2000 Ocean Ave Santa Monica\, CA 90405\nKADA? Saturday\, October 5th 2024 7:00 val. ryto (7 AM)\n\n\n\nNorite dalyvauti? Nepamirškite užsiregistruoti čia: https://forms.gle/q1n2biPQLFdmB5M87.\n\n\nKyla klausimų Susisiekite su bėgimo guru (taip pat žinoma kaip vyriausia motyvatorė) bei renginio organizatore Eglė Zalpys telefonu (360) 818-1235.\n\nIki pasimatymo!\n\n\n~~~~~~~~~~~~\n\n\nWHAT? Before you dive into a feast of cepelinai\, kugelis\, and Lithuanian beer at the Lithuanian Days Festival\, join us for a beachside 5k run or a leisurely 1-mile walk!\n\n\nWHERE? Parking lot of Crescent Bay Park – 2000 Ocean Ave Santa Monica\, CA 90405\nWHEN? Saturday\, October 5th\, 2024 @ 7 AM\n\n\n\nDon’t forget to sign up using this link: https://forms.gle/q1n2biPQLFdmB5M87.\n\n\nAny questions Text our Lithuanian running guru (aka chief motivator) and the organizer of the event Egle Zalpys at (360) 818-1235.\n\nSee you there!
URL:https://vakaruvejai.com/renginys/lietuviu-dienu-5k-begimas-lithuanian-days-5k-run-los-andzelas/
LOCATION:Crescent Bay Park\, 2000 Ocean Ave\, Santa Monica\, CA\, 90405
CATEGORIES:Lietuviški renginiai,Los Andželas
ATTACH;FMTTYPE=image/jpeg:https://vakaruvejai.com/wp-content/uploads/2024/09/458152696_826373546370044_2009222754372631342_n.jpeg
END:VEVENT
END:VCALENDAR