BEGIN:VCALENDAR
VERSION:2.0
PRODID:-//Vakarų Vėjai - ECPv6.15.3//NONSGML v1.0//EN
CALSCALE:GREGORIAN
METHOD:PUBLISH
X-WR-CALNAME:Vakarų Vėjai
X-ORIGINAL-URL:https://vakaruvejai.com
X-WR-CALDESC:Vakarų Vėjai renginiai
REFRESH-INTERVAL;VALUE=DURATION:PT1H
X-Robots-Tag:noindex
X-PUBLISHED-TTL:PT1H
BEGIN:VTIMEZONE
TZID:America/Los_Angeles
BEGIN:DAYLIGHT
TZOFFSETFROM:-0800
TZOFFSETTO:-0700
TZNAME:PDT
DTSTART:20240310T100000
END:DAYLIGHT
BEGIN:STANDARD
TZOFFSETFROM:-0700
TZOFFSETTO:-0800
TZNAME:PST
DTSTART:20241103T090000
END:STANDARD
END:VTIMEZONE
BEGIN:VEVENT
DTSTART;TZID=America/Los_Angeles:20241102T180000
DTEND;TZID=America/Los_Angeles:20241102T200000
DTSTAMP:20260423T162059
CREATED:20241005T064215Z
LAST-MODIFIED:20241005T064242Z
UID:27668-1730570400-1730577600@vakaruvejai.com
SUMMARY:Meno paroda: Irenos petraitienės akvarelės paroda ir Viktorijos Lakštutės autorinis koncertas\, San Diegas
DESCRIPTION:LT\n\nKviečiame į dailės ir muzikos vakarą Lapkričio 2-ą\, šeštadienį\, 18 val. Susipažinsime su pripažintais bendruomenės talentais: akvareliste Irena Petraitiene bei pianiste\, dainų autore ir atlikėja Viktorija Lakštute. Laukiame!\nRenginys nemokamas. Vyno bus\, $5.\nAdresas: 1197 Whispering Water Dr\, San Marcos\, CA 92078\n\nEN\n\nThe Art Night\nYou are warmly invited to an evening with the talented members of our Lithuanian Community. The event will feature an exhibition by award-winning watercolor artist Irena Petraitienė\, a member of the San Diego Watercolor Society\, and a live performance by songwriter and performer Viktorija Lakštutė.\nThis is a free event. Wine will be served for $5 a glass.\nAddress: 1197 Whispering Water Dr\, San Marcos\, CA 92078
URL:https://vakaruvejai.com/renginys/meno-paroda-irenos-petraitienes-akvareles-paroda-ir-viktorijos-lakstutes-autorinis-koncertas-san-diegas/
LOCATION:1197 Whispering Water Dr\, San Marcos\, CA 92078
CATEGORIES:Lietuviški renginiai,San Diego
ATTACH;FMTTYPE=image/jpeg:https://vakaruvejai.com/wp-content/uploads/2024/10/461879893_10232205142406350_3576021913789694261_n.jpeg
END:VEVENT
END:VCALENDAR