BEGIN:VCALENDAR
VERSION:2.0
PRODID:-//Vakarų Vėjai - ECPv6.15.3//NONSGML v1.0//EN
CALSCALE:GREGORIAN
METHOD:PUBLISH
X-WR-CALNAME:Vakarų Vėjai
X-ORIGINAL-URL:https://vakaruvejai.com
X-WR-CALDESC:Vakarų Vėjai renginiai
REFRESH-INTERVAL;VALUE=DURATION:PT1H
X-Robots-Tag:noindex
X-PUBLISHED-TTL:PT1H
BEGIN:VTIMEZONE
TZID:America/Los_Angeles
BEGIN:DAYLIGHT
TZOFFSETFROM:-0800
TZOFFSETTO:-0700
TZNAME:PDT
DTSTART:20250309T100000
END:DAYLIGHT
BEGIN:STANDARD
TZOFFSETFROM:-0700
TZOFFSETTO:-0800
TZNAME:PST
DTSTART:20251102T090000
END:STANDARD
END:VTIMEZONE
BEGIN:VEVENT
DTSTART;TZID=America/Los_Angeles:20250412T110000
DTEND;TZID=America/Los_Angeles:20250412T120000
DTSTAMP:20260423T163901
CREATED:20250329T062219Z
LAST-MODIFIED:20250412T055432Z
UID:28844-1744455600-1744459200@vakaruvejai.com
SUMMARY:Meeting with Ambassador of Lithuania to the United States Audra Plepytė\, Sietlas
DESCRIPTION:Exciting news for the Lithuanian community in Seattle!\nFrom April 10-12\, the Ambassador of Lithuania to the United States\, Audra Plepytė\, will be visiting Seattle. This is a fantastic opportunity for community members to meet the ambassador\, hear the latest news from Lithuania\, ask questions\, and connect with fellow Lithuanians.\nHonorary Consul Rasa Raišys warmly invites you and your family to an Open House & Brunch on April 12th at 11:00 AM at 1351 Lake Washington Blvd S\, Seattle\, Washington 98144.\nMark your calendars and don’t miss this special opportunity to meet the ambassador!
URL:https://vakaruvejai.com/renginys/meeting-with-ambassador-of-lithuania-to-the-united-states-audra-plepyte/
LOCATION:1351 Lake Washington Blvd S\, Seattle\, WA 98144
CATEGORIES:Lietuviški renginiai,Seattle
ATTACH;FMTTYPE=image/jpeg:https://vakaruvejai.com/wp-content/uploads/2025/03/485892274_1057310693087934_7365504434514260641_n.jpeg
ORGANIZER;CN="Seattle Lithuanian Community/Seattle Lietuvi%C5%B3 Bendruomen%C4%97":MAILTO:seattlelb.president@gmail.com
END:VEVENT
END:VCALENDAR