BEGIN:VCALENDAR
VERSION:2.0
PRODID:-//Vakarų Vėjai - ECPv6.15.3//NONSGML v1.0//EN
CALSCALE:GREGORIAN
METHOD:PUBLISH
X-WR-CALNAME:Vakarų Vėjai
X-ORIGINAL-URL:https://vakaruvejai.com
X-WR-CALDESC:Vakarų Vėjai renginiai
REFRESH-INTERVAL;VALUE=DURATION:PT1H
X-Robots-Tag:noindex
X-PUBLISHED-TTL:PT1H
BEGIN:VTIMEZONE
TZID:America/Los_Angeles
BEGIN:DAYLIGHT
TZOFFSETFROM:-0800
TZOFFSETTO:-0700
TZNAME:PDT
DTSTART:20240310T100000
END:DAYLIGHT
BEGIN:STANDARD
TZOFFSETFROM:-0700
TZOFFSETTO:-0800
TZNAME:PST
DTSTART:20241103T090000
END:STANDARD
END:VTIMEZONE
BEGIN:VEVENT
DTSTART;TZID=America/Los_Angeles:20240608T180000
DTEND;TZID=America/Los_Angeles:20240608T200000
DTSTAMP:20260423T180610
CREATED:20240518T060643Z
LAST-MODIFIED:20240518T060643Z
UID:26861-1717869600-1717876800@vakaruvejai.com
SUMMARY:Europos parlamento rinkimai/Happy Hour\, Los Andželas
DESCRIPTION:LT\n\nAmerikos latvių jaunimo asociacija kviečia Baltijos šalių jaunimą aktyviai dalyvauti Europos parlamento rinkimuose bei prisijungti prie pasibuvimo Los Andžele!\n\n\nKada? Šeštadienį\, birželio 8 d. 18:00 val.\nKur? The Red Lion Tavern (2366 Glendale Blvd\, Los Andželas\, CA 90039)\nRSVP nuoroda – https://partiful.com/e/45JuSbSvbF7YDPhCOzwJ\nTurite klausimų? Susisiekite su ALJA asmenine žinute arba el. paštu aljavalde@gmail.com\n\n\n\nEN\n\nJoin American Latvian Youth Association as they invite Baltic youth to actively participate in European Parliament Election and join the Happy Hour!\n\n\nWhen? Saturday\, June 8\, 6:00 pm\nWhere? The Red Lion Tavern (2366 Glendale Blvd\, Los Angeles\, CA 90039)\nRSVP link – https://partiful.com/e/45JuSbSvbF7YDPhCOzwJ\nWant to know more? Please message ALJA or send an email to aljavalde@gmail.com
URL:https://vakaruvejai.com/renginys/europos-parlamento-rinkimai-happy-hour-los-andzelas/
LOCATION:Red Lion Tavern\, 2366 Glendale Blvd.\, Los Angeles\, CA\, 90039
CATEGORIES:Los Andželas
ATTACH;FMTTYPE=image/jpeg:https://vakaruvejai.com/wp-content/uploads/2024/05/440326496_18431817277044634_5198276230487620947_n.jpeg
END:VEVENT
END:VCALENDAR