BEGIN:VCALENDAR
VERSION:2.0
PRODID:-//Vakarų Vėjai - ECPv6.15.3//NONSGML v1.0//EN
CALSCALE:GREGORIAN
METHOD:PUBLISH
X-WR-CALNAME:Vakarų Vėjai
X-ORIGINAL-URL:https://vakaruvejai.com
X-WR-CALDESC:Vakarų Vėjai renginiai
REFRESH-INTERVAL;VALUE=DURATION:PT1H
X-Robots-Tag:noindex
X-PUBLISHED-TTL:PT1H
BEGIN:VTIMEZONE
TZID:America/Los_Angeles
BEGIN:DAYLIGHT
TZOFFSETFROM:-0800
TZOFFSETTO:-0700
TZNAME:PDT
DTSTART:20230312T100000
END:DAYLIGHT
BEGIN:STANDARD
TZOFFSETFROM:-0700
TZOFFSETTO:-0800
TZNAME:PST
DTSTART:20231105T090000
END:STANDARD
END:VTIMEZONE
BEGIN:VEVENT
DTSTART;TZID=America/Los_Angeles:20230129T140000
DTEND;TZID=America/Los_Angeles:20230129T160000
DTSTAMP:20260423T161751
CREATED:20230128T011139Z
LAST-MODIFIED:20230128T011139Z
UID:23584-1675000800-1675008000@vakaruvejai.com
SUMMARY:David Labkovski Project's Traveling Art Exhibit & Lecture "Documenting History through Art"\, Las Vegas
DESCRIPTION:David Labkovski Project’s Traveling Art Exhibit & Lecture „Documenting History through Art” Comes to Las Vegas for International United Nations Holocaust Remembrance Day \nWhen: January 29\, 2023 2:00PM-4:00PM \nIn commemoration of International Holocaust Remembrance Day\, Leora Raikin\, grand-niece of Lithuanian-Israeli artist David Labkovski\, will bring DLP’s Art Exhibit & LectureDocumenting History through Art to Temple Beth Sholom in Las Vegas. \nWe invite you to attend this commemoration event on January 29\, 2023 from 2:00PM-4:00PM. To register\, please call Susan at (818) 606-0793 or email susandubin48@gmail.com. \nLocation: \nTemple Beth Sholom \n10700 Havenwood Lane \nLas Vegas\, NV 89135 \nFor those who cannot join\, we hope you will consider donating to DLP to support our Holocaust education programs. \nEmail RSVP to Susan for this Commemoration & Exhibit
URL:https://vakaruvejai.com/renginys/david-labkovski-projects-traveling-art-exhibit-lecture-documenting-history-through-art-las-vegas/
LOCATION:Temple Beth Sholom\, 10700 Havenwood Lane\, Las Vegas\, NV\, 89135
CATEGORIES:Nevada
ATTACH;FMTTYPE=image/jpeg:https://vakaruvejai.com/wp-content/uploads/2023/01/image001-5.jpg
END:VEVENT
END:VCALENDAR