BEGIN:VCALENDAR
VERSION:2.0
PRODID:-//Vakarų Vėjai - ECPv6.15.3//NONSGML v1.0//EN
CALSCALE:GREGORIAN
METHOD:PUBLISH
X-WR-CALNAME:Vakarų Vėjai
X-ORIGINAL-URL:https://vakaruvejai.com
X-WR-CALDESC:Vakarų Vėjai renginiai
REFRESH-INTERVAL;VALUE=DURATION:PT1H
X-Robots-Tag:noindex
X-PUBLISHED-TTL:PT1H
BEGIN:VTIMEZONE
TZID:America/Los_Angeles
BEGIN:DAYLIGHT
TZOFFSETFROM:-0800
TZOFFSETTO:-0700
TZNAME:PDT
DTSTART:20230312T100000
END:DAYLIGHT
BEGIN:STANDARD
TZOFFSETFROM:-0700
TZOFFSETTO:-0800
TZNAME:PST
DTSTART:20231105T090000
END:STANDARD
BEGIN:DAYLIGHT
TZOFFSETFROM:-0800
TZOFFSETTO:-0700
TZNAME:PDT
DTSTART:20240310T100000
END:DAYLIGHT
BEGIN:STANDARD
TZOFFSETFROM:-0700
TZOFFSETTO:-0800
TZNAME:PST
DTSTART:20241103T090000
END:STANDARD
BEGIN:DAYLIGHT
TZOFFSETFROM:-0800
TZOFFSETTO:-0700
TZNAME:PDT
DTSTART:20250309T100000
END:DAYLIGHT
BEGIN:STANDARD
TZOFFSETFROM:-0700
TZOFFSETTO:-0800
TZNAME:PST
DTSTART:20251102T090000
END:STANDARD
END:VTIMEZONE
BEGIN:VEVENT
DTSTART;VALUE=DATE:20250306
DTEND;VALUE=DATE:20250308
DTSTAMP:20260423T160308
CREATED:20250301T013454Z
LAST-MODIFIED:20250301T013454Z
UID:28491-1741219200-1741391999@vakaruvejai.com
SUMMARY:Konsulinė misija San Franciske
DESCRIPTION:Kovo 6-7 dienomis Lietuvos generalinis konsulatas Los Andžele rengia konsulinę misiją San Fransiske\, Kalifornijos valstijoje.\n\n\nIš anksto iki kovo 2 d. užsiregistravusius elektroninės registracijos sistemoje (prisijungę pasirinkite paslaugą „Konsulinė misija“) Lietuvos piliečius kviečiame pateikti prašymus:\n\n\nišduoti ar pakeisti pasą ir asmens tapatybės kortelę;\n gyvenamosios vietos deklaracijai;\n išduoti asmens grįžimo pažymėjimą;\n įtraukti į apskaitą užsienio valstybėje įregistruotus civilinės būklės aktus;\n pakeisti vardą\, pavardę;\n išduoti civilinės būklės aktą patvirtinančius įrašus;\n išduoti konsulines pažymas;\n dėl dokumentų pareikalavimo iš Lietuvos Respublikos institucijų;\n įregistruoti santuoką ambasadoje / konsulinėje įstaigoje;\n dėl Lietuvos Respublikos pilietybės ir pranešimus apie kitos valstybės pilietybės įgijimą;\n pranešti apie prarastus asmens dokumentus;\n dėl notarinių veiksmų atlikimo.\n\n\nKonsulinė misija vyks adresu: 1940 Bonita Avenue\, Berkeley\, CA 94704. Užsiregistravę asmenys bus priimami kovo 6 d. nuo 8.00 val. iki 15.00 val. ir kovo 7 d. nuo 8.00 iki 17.00 val.\nKonsulinių misijų metu konsulinių paslaugų mokestis didinamas 50 proc. Konsulinio mokesčio dydžiai skelbiami čia.\n\n\nDaugiau informacijos apie konsulinę misiją https://la.mfa.lt/…/kovo-6-7-d.-rengiama-konsuline…
URL:https://vakaruvejai.com/renginys/konsuline-misija-san-franciske-2/
LOCATION:1940 Bonita Avenue\, Berkeley\, CA 94704\, 1940 Bonita Avenue\, Berkeley\, CA\, 94704
CATEGORIES:San Franciskas
ATTACH;FMTTYPE=image/jpeg:https://vakaruvejai.com/wp-content/uploads/2025/02/475362685_1021966489973329_1918964103602166019_n.jpeg
END:VEVENT
BEGIN:VEVENT
DTSTART;VALUE=DATE:20240411
DTEND;VALUE=DATE:20240413
DTSTAMP:20260423T160308
CREATED:20240309T054013Z
LAST-MODIFIED:20240411T013053Z
UID:26241-1712793600-1712966399@vakaruvejai.com
SUMMARY:Konsulinė misija į Honolulu\, Havajai
DESCRIPTION:Lietuvos Respublikos generalinis konsulatas Los Andžele 2024 m. balandžio 11-12 d. rengia konsulinę misiją Honolulu\, Havajų valstijoje. \n\nLietuvos konsulinis pareigūnas tomis dienomis priims šiuos Lietuvos Respublikos piliečių dokumentus: \n\nprašymus išduoti ar pakeisti pasą ir asmens tapatybės kortelę (būtina pateikti 2 asmens amžių atitinkančias nuotraukas);\nilgesniam nei 6 mėnesių laikotarpiui iš Lietuvos išvykusių piliečių gyvenamosios vietos deklaracijas;\nprašymus išduoti asmens grįžimo pažymėjimą;\npranešimus apie prarastus asmens dokumentus;\nprašymus įtraukti į apskaitą užsienio valstybėje įregistruotus civilinės būklės aktus;\nprašymus pakeisti vardą\, pavardę;\nprašymus išduoti civilinės būklės aktą patvirtinančius įrašus;\nprašymus išduoti konsulines pažymas;\nprašymus dėl dokumentų pareikalavimo iš Lietuvos Respublikos institucijų;\nprašymus dėl Lietuvos Respublikos pilietybės (tvirtins elektroniniu būdu į MIGRIS sistemą įkeltų Lietuvos pilietybės prašymų ir pranešimų apie kitos valstybės pilietybės įgijimą dokumentų autentiškumą);\nbe to\, atliks notarinius veiksmus: tvirtins įgaliojimus\, tvirtins faktą\, kad asmuo yra gyvas ir yra tam tikroje vietovėje (pažyma „Sodrai“ dėl pensijos mokėjimo).\n\nKonsulinė misija vyks adresu: 46-420 Haiku Plantations Dr\, Kaneohe HI 96744\, asmenys bus priimami balandžio 11-12 d. nuo 8.30 iki 13.00 val. ir nuo 14.00 iki 17.00 val. \nKonsulinės misijos metu bus aptarnaujami tik iš anksto užsiregistravę ir registracijos patvirtinimą gavę asmenys. Registracija į priėmimą vyksta elektroninės registracijos sistemoje iki balandžio 7 d. (nelikus vietų registracija gali baigtis anksčiau). Prisijungę pasirinkite paslaugą „Konsulinė misija“\, registruojantis prašome pastabose nurodyti savo ir / ar asmens (vaiko)\, kuriam bus reikalingos konsulinės paslaugos vardą\, pavardę ir gimimo datą\, kontaktinį elektroninio pašto adresą bei telefono numerį ir dėl kokios konsulinės paslaugos kreipiamasi. Konsulinių misijų metu konsulinių paslaugų mokestis didinamas 50 proc. (konsulinio mokesčio dydžiai skelbiami čia)\, mokestis mokamas tik mokėjimo kortele (išskyrus American Express). \nInformacija apie konsulinės misijos pareigūnų atliekamas funkcijas ir reikalingus pateikti dokumentus skelbiama Lietuvos generalinio konsulato Los Andžele interneto svetainėje\, pasiteirauti dėl teikiamų konsulinių paslaugų galite el. paštu cons.losangeles@mfa.lt\, tel. (424)341-8701. Šiuo el. paštu ar telefonu taip pat kviečiami kreiptis asmenys\, kuriems reikalinga tik konsultacija dėl konsulato teikiamų konsulinių paslaugų ir kurie nepageidauja registruotis dokumentų misijos metu pateikimui. \nPrašome prieš registruojantis į konsulinę misiją įvertinti\, ar reikalingos Lietuvos institucijų paslaugos nebūtų galima gauti nuotoliniu būdu. Toliau pateikiame užsienyje gyvenantiems Lietuvos piliečiams aktualių paslaugų sąrašą ir nuorodas į portalus\, per kuriuos reikėtų kreiptis dėl šių paslaugų: \nmigracija.lt \n\npranešimas apie asmens tapatybę ir pilietybę patvirtinančio dokumento praradimą;\n\nePaslaugos.lt \n\nišvykimo iš Lietuvos deklaravimas;\npažymos apie pradėtą ikiteisminį tyrimą ar teistumą (neteistumą) išdavimas;\n\niPasas.lt \n\nužsienyje registruotų civilinės būklės aktų įtraukimas į apskaitą Lietuvoje;\ncivilinės būklės aktų įrašus liudijančių išrašų ir jų daugiakalbių formų išdavimas;\npažymų dėl šeiminės padėties ir apie kliūčių santuokai nebuvimą išdavimas;\ngimimo registravimas;\ntėvystės pripažinimo registravimas;\nprašymo registruoti santuoką pateikimas;\nvardo\, pavardės keitimas dėl užsienio valstybėje įregistruotų civilinės būklės aktų įtraukimo į apskaitą Lietuvoje;\n\neNotaras.lt \n\nsutarčių\, įgaliojimų\, pareiškimų ir kitų dokumentų tvirtinimas (išskyrus testamentų tvirtinimą ir jų priėmimą saugoti bei fakto\, kad asmuo gyvas ir yra tam tikroje vietoje\, tvirtinimą);\n\nElektroninio archyvo informacinė sistema \n\ndarbo stažą ir gautą atlyginimą patvirtinančių dokumentų išdavimas;\ncivilinį metrikacijos faktą (gimimo\, santuokos\, santuokos nutraukimo ar mirties) iki 2007 metų patvirtinančių dokumentų išdavimas;\ngyvenimo Lietuvoje faktą (iki 1942 m.) ir šeimos sudėtį patvirtinančių dokumentų išdavimas;\nkitų dokumentų\, patvirtinančių tam tikrus juridinius faktus\, išdavimas.
URL:https://vakaruvejai.com/renginys/konsuline-misija-i-honolulu-havajus/
LOCATION:CA
CATEGORIES:Hawaii
ATTACH;FMTTYPE=image/png:https://vakaruvejai.com/wp-content/uploads/2024/03/Screen-Shot-2024-03-08-at-9.30.08-PM.png
END:VEVENT
BEGIN:VEVENT
DTSTART;VALUE=DATE:20231130
DTEND;VALUE=DATE:20231202
DTSTAMP:20260423T160308
CREATED:20231104T021810Z
LAST-MODIFIED:20231104T021810Z
UID:25509-1701302400-1701475199@vakaruvejai.com
SUMMARY:Konsulinė misija San Franciske
DESCRIPTION:Lapkričio 30 – gruodžio 1 dienomis Lietuvos generalinis konsulatas Los Andžele rengia konsulinę misiją San Franciske\, Kalifornijos valstijoje.\n\n\nIš anksto iki lapkričio 26 d. užsiregistravusius elektroninės registracijos sistemoje (prisijungę pasirinkite paslaugą „Konsulinė misija“: http://la.mfa.lt/losandzelas/lt/widgets/bannerClick/id.4815) Lietuvos piliečius kviečiame pateikti prašymus:\n\n\nišduoti ar pakeisti pasą ir asmens tapatybės kortelę;\n gyvenamosios vietos deklaracijai;\n išduoti asmens grįžimo pažymėjimą;\n įtraukti į apskaitą užsienio valstybėje įregistruotus civilinės būklės aktus;\n pakeisti vardą\, pavardę;\n išduoti civilinės būklės aktą patvirtinančius įrašus;\n išduoti konsulines pažymas;\n dėl dokumentų pareikalavimo iš Lietuvos Respublikos institucijų;\n dėl Lietuvos Respublikos pilietybės ir pranešimus apie kitos valstybės pilietybės įgijimą;\n pranešti apie prarastus asmens dokumentus;\n dėl notarinių veiksmų atlikimo.\n\n\nKonsulinė misija vyks adresu: 1940 Bonita Avenue\, Berkeley\, CA 94704.\n\n\nKonsulinių misijų metu konsulinių paslaugų mokestis didinamas 50 proc. Konsulinio mokesčio dydžiai skelbiami čia: http://la.mfa.lt/…/aktualia…/konsulinio-mokescio-tarifai.\n\n\nDaugiau informacijos apie konsulinę misiją rasite čia: http://la.mfa.lt/…/lapkricio-30-dgruodzio-1-d-rengiama….
URL:https://vakaruvejai.com/renginys/konsuline-misija-san-franciske/
LOCATION:1940 Bonita Avenue\, Berkeley\, CA 94704\, 1940 Bonita Avenue\, Berkeley\, CA\, 94704
CATEGORIES:San Franciskas
ATTACH;FMTTYPE=image/jpeg:https://vakaruvejai.com/wp-content/uploads/2023/11/392946607_715900567246591_7895929582371421462_n.jpeg
END:VEVENT
END:VCALENDAR