BEGIN:VCALENDAR
VERSION:2.0
PRODID:-//Vakarų Vėjai - ECPv6.15.3//NONSGML v1.0//EN
CALSCALE:GREGORIAN
METHOD:PUBLISH
X-WR-CALNAME:Vakarų Vėjai
X-ORIGINAL-URL:https://vakaruvejai.com
X-WR-CALDESC:Vakarų Vėjai renginiai
REFRESH-INTERVAL;VALUE=DURATION:PT1H
X-Robots-Tag:noindex
X-PUBLISHED-TTL:PT1H
BEGIN:VTIMEZONE
TZID:America/Los_Angeles
BEGIN:DAYLIGHT
TZOFFSETFROM:-0800
TZOFFSETTO:-0700
TZNAME:PDT
DTSTART:20240310T100000
END:DAYLIGHT
BEGIN:STANDARD
TZOFFSETFROM:-0700
TZOFFSETTO:-0800
TZNAME:PST
DTSTART:20241103T090000
END:STANDARD
END:VTIMEZONE
BEGIN:VEVENT
DTSTART;TZID=America/Los_Angeles:20241215T150000
DTEND;TZID=America/Los_Angeles:20241215T170000
DTSTAMP:20260423T185814
CREATED:20241129T081043Z
LAST-MODIFIED:20241129T081043Z
UID:27980-1734274800-1734282000@vakaruvejai.com
SUMMARY:Asmik Grigorian and Lukas Geniušas concert\, Berkeley\, CA
DESCRIPTION:Lest there be any doubt that Lithuanian soprano Asmik Grigorian is among the most electrifying performers of her generation\, the Guardian has compared her voice to “velvet-wrapped steel” and Classical Source has described “words pouring from her like streams of molten lava.” Having sung lead roles in Madama Butterfly\, Jenůfa\, and Salome to great acclaim in recent seasons\, Grigorian makes a rare US visit in an all-Russian-language Cal Performances debut recital\, performing rarely heard songs—“small pieces of opera in a few minutes\,” she calls them—by Tchaikovsky and Rachmaninoff. She is joined by frequent collaborator\, Lithuanian pianist Lukas Geniušas. \nThis performance is made possible\, in part\, by S. Shariq Yosufzai and Brian James. \nDecember 15\, 3 pm\nHertz Hall\, University of California Berkeley\, 101 Cross-Sproul Path\, Berkeley\, CA 94704 \nTickets
URL:https://vakaruvejai.com/renginys/asmik-grigorian-and-lukas-geniusas-concert-berkeley-ca/
LOCATION:Hertz Hall\, University of California Berkeley\, 101 Cross-Sproul Path\, Berkeley\, CA\, 94704
CATEGORIES:San Franciskas
ATTACH;FMTTYPE=image/png:https://vakaruvejai.com/wp-content/uploads/2024/11/Screen-Shot-2024-11-29-at-12.09.43-AM.png
END:VEVENT
END:VCALENDAR