BEGIN:VCALENDAR
VERSION:2.0
PRODID:-//Vakarų Vėjai - ECPv6.15.3//NONSGML v1.0//EN
CALSCALE:GREGORIAN
METHOD:PUBLISH
X-ORIGINAL-URL:https://vakaruvejai.com
X-WR-CALDESC:Vakarų Vėjai renginiai
REFRESH-INTERVAL;VALUE=DURATION:PT1H
X-Robots-Tag:noindex
X-PUBLISHED-TTL:PT1H
BEGIN:VTIMEZONE
TZID:America/Los_Angeles
BEGIN:DAYLIGHT
TZOFFSETFROM:-0800
TZOFFSETTO:-0700
TZNAME:PDT
DTSTART:20230312T100000
END:DAYLIGHT
BEGIN:STANDARD
TZOFFSETFROM:-0700
TZOFFSETTO:-0800
TZNAME:PST
DTSTART:20231105T090000
END:STANDARD
END:VTIMEZONE
BEGIN:VEVENT
DTSTART;TZID=America/Los_Angeles:20230411T193000
DTEND;TZID=America/Los_Angeles:20230411T203000
DTSTAMP:20260423T160448
CREATED:20230407T200302Z
LAST-MODIFIED:20230407T200302Z
UID:24188-1681241400-1681245000@vakaruvejai.com
SUMMARY:Vaičekonio Baltijos šalių kompozitorių fortepijoninis rečitalis\, Sietlas\, WA
DESCRIPTION:LT \nPianistai Asta ir Dainius Vaičekonis pristato Baltijos šalių kompozitorių fortepijoninį duetą. \nKada: Antradienį\, balandžio 11 dieną\, 7:30 vakare. \nKur: Nickerson Studijos\, 430 W Nickerson Street\, Seattle\, WA 98119. \nĮėjimas nemokamas. \nTikimės pamatyti jus šioje nuostabioje programoje. \nEN \nPianists Asta & Dainius Vaičekonis present a piano duo recital of Baltic composers. \nWhen: Tuesday\, April 11\, 2023\, 7:30 pm. \nWhere: Nickerson Studios\, 430 W Nickerson Street\, Seattle\, WA 98119. \nAdmission: free. \nWe hope to see you at this terrific program.
URL:https://vakaruvejai.com/renginys/vaicekonio-baltijos-saliu-kompozitoriu-fortepijoninis-recitalis-sietlas-wa/
LOCATION:Nickerson Studios in Seattle\, 430 W Nickerson Street\, Seattle\, WA\, 98119
CATEGORIES:Lietuviški renginiai,Seattle
ATTACH;FMTTYPE=image/png:https://vakaruvejai.com/wp-content/uploads/2023/04/Screen-Shot-2023-04-07-at-12.37.37-PM.png
END:VEVENT
END:VCALENDAR