BEGIN:VCALENDAR
VERSION:2.0
PRODID:-//Vakarų Vėjai - ECPv6.15.3//NONSGML v1.0//EN
CALSCALE:GREGORIAN
METHOD:PUBLISH
X-ORIGINAL-URL:https://vakaruvejai.com
X-WR-CALDESC:Vakarų Vėjai renginiai
REFRESH-INTERVAL;VALUE=DURATION:PT1H
X-Robots-Tag:noindex
X-PUBLISHED-TTL:PT1H
BEGIN:VTIMEZONE
TZID:America/Los_Angeles
BEGIN:DAYLIGHT
TZOFFSETFROM:-0800
TZOFFSETTO:-0700
TZNAME:PDT
DTSTART:20240310T100000
END:DAYLIGHT
BEGIN:STANDARD
TZOFFSETFROM:-0700
TZOFFSETTO:-0800
TZNAME:PST
DTSTART:20241103T090000
END:STANDARD
END:VTIMEZONE
BEGIN:VEVENT
DTSTART;TZID=America/Los_Angeles:20240518T090000
DTEND;TZID=America/Los_Angeles:20240518T130000
DTSTAMP:20260423T130115
CREATED:20240503T013248Z
LAST-MODIFIED:20240503T013248Z
UID:26631-1716022800-1716037200@vakaruvejai.com
SUMMARY:Mokslo metų užbaigimas ir abiturientų atestatų įteikimas\, Los Andželas
DESCRIPTION:Gerbiami Los Angeles Šv. Kazimiero Lituanistinės Mokyklos abiturientų tėveliai ir svečiai\, \n2023-2024 mokslo metais į mokyklą užsiregistravo 110 mokinių. Dirbo 25 mokytojos ir talkininkės bei talkininkai. Tai gražus įrodymas\, kad tėvams\, mokiniams ir mokytojoms lietuviškas švietimas užima svarbią vietą jų gyvenime. \nMokyklos dvylikos metų programą baigia šie abiturientai: \n\nMaya Donovich;\nVincentas Gedgaudas;\nLukas Greblikas;\nNida Jakeliūnaitė;\nEmili Kedytė;\nGreta Perevičiūtė;\nErikas Puodžiūnas;\nCamile Casper;\nEmilia Venckutė.\n\nDidžiuojamės jų ištverme ir meile lietuviškam žodžiui ir dėkojame jų mokytojai Vitalijai Virbukienei už mokslą ir globą. Dėkojame tėveliams už tautišką sąmoningumą bei mokyklos tradicijų palaikymą. \nMaloniai Jus kviečiame į 2023-2024 mokslo metų užbaigimą ir abiturientų pagerbimą. \nMokyklos užbaigimo apeigos\, mokytojų ir visų klasių mokinių pagerbimas\, abiturientų išleistuvės ir atestatų įteikimas vyks Šv. Kazimiero parapijos patalpose šeštadienį\, gegužės 18d. pradedant šv. Mišiomis 9 val. ryto. Akademinė dalis 10:30 val. \nPo programos bus galima nusipirkti karštus pietus. \nPagerbkime mūsų jaunimą! \nMarytė S. Newsom ir Tėvų Komitetas
URL:https://vakaruvejai.com/renginys/mokslo-metu-uzbaigimas-ir-abiturientu-atestatu-iteikimas-los-andzelas/
LOCATION:Los Angeles Šv. Kazimiero lituanistinė mokykla\, 2714 St. George St.\, Los Angeles\, CA\, 90027
CATEGORIES:Lietuviški renginiai,Los Andželas
ATTACH;FMTTYPE=image/jpeg:https://vakaruvejai.com/wp-content/uploads/2024/05/baigimas-2024.jpg
END:VEVENT
END:VCALENDAR