BEGIN:VCALENDAR
VERSION:2.0
PRODID:-//Vakarų Vėjai - ECPv6.15.3//NONSGML v1.0//EN
CALSCALE:GREGORIAN
METHOD:PUBLISH
X-ORIGINAL-URL:https://vakaruvejai.com
X-WR-CALDESC:Vakarų Vėjai renginiai
REFRESH-INTERVAL;VALUE=DURATION:PT1H
X-Robots-Tag:noindex
X-PUBLISHED-TTL:PT1H
BEGIN:VTIMEZONE
TZID:America/Los_Angeles
BEGIN:DAYLIGHT
TZOFFSETFROM:-0800
TZOFFSETTO:-0700
TZNAME:PDT
DTSTART:20220313T100000
END:DAYLIGHT
BEGIN:STANDARD
TZOFFSETFROM:-0700
TZOFFSETTO:-0800
TZNAME:PST
DTSTART:20221106T090000
END:STANDARD
BEGIN:DAYLIGHT
TZOFFSETFROM:-0800
TZOFFSETTO:-0700
TZNAME:PDT
DTSTART:20230312T100000
END:DAYLIGHT
BEGIN:STANDARD
TZOFFSETFROM:-0700
TZOFFSETTO:-0800
TZNAME:PST
DTSTART:20231105T090000
END:STANDARD
BEGIN:DAYLIGHT
TZOFFSETFROM:-0800
TZOFFSETTO:-0700
TZNAME:PDT
DTSTART:20240310T100000
END:DAYLIGHT
BEGIN:STANDARD
TZOFFSETFROM:-0700
TZOFFSETTO:-0800
TZNAME:PST
DTSTART:20241103T090000
END:STANDARD
END:VTIMEZONE
BEGIN:VEVENT
DTSTART;TZID=America/Los_Angeles:20240414T130000
DTEND;TZID=America/Los_Angeles:20240414T160000
DTSTAMP:20260423T160229
CREATED:20240323T050904Z
LAST-MODIFIED:20240323T050904Z
UID:26348-1713099600-1713110400@vakaruvejai.com
SUMMARY:Atvelykio šventimas\, Reno\, NV
DESCRIPTION:Issisaugokite data ir iki pasimatymo!
URL:https://vakaruvejai.com/renginys/atvelykio-sventimas-reno-nv/
LOCATION:Crissie Caughlin Park Reno NV
CATEGORIES:Lietuviški renginiai,Nevada
ATTACH;FMTTYPE=image/jpeg:https://vakaruvejai.com/wp-content/uploads/2024/03/431708220_10232239269068698_445152713858772507_n.jpeg
END:VEVENT
BEGIN:VEVENT
DTSTART;TZID=America/Los_Angeles:20220424T093000
DTEND;TZID=America/Los_Angeles:20220424T120000
DTSTAMP:20260423T160229
CREATED:20220419T033916Z
LAST-MODIFIED:20220419T215334Z
UID:20991-1650792600-1650801600@vakaruvejai.com
SUMMARY:Atvelykio pusryčiai\, Irvine\, CA
DESCRIPTION:Visi kviečiami susirinkti ir linksmai pabendrauti šį sekmadienį\, balandžio 24 dieną\, 9:30val\, Ravencreek Park (Irvine) į Atvelykio pusryčius!!!\nAtsineškite:\n🍲 užkandžių ir gėrimų bendram stalui;\n🥚margučių ridenimui.\nPrieš atvykdami pasitikrinkite renginio aprašymą tuo atveju\, jei kas keistųsi!
URL:https://vakaruvejai.com/renginys/atvelykio-pusryciai-irvine-ca/
LOCATION:15521 Valley Oak Dr\, Irvina\, CA 92618
CATEGORIES:Lietuviški renginiai
ATTACH;FMTTYPE=image/jpeg:https://vakaruvejai.com/wp-content/uploads/2022/04/025A1B00-E2F6-4733-AACE-D07948C8A6DF.jpeg
END:VEVENT
END:VCALENDAR