BEGIN:VCALENDAR
VERSION:2.0
PRODID:-//Vakarų Vėjai - ECPv6.15.3//NONSGML v1.0//EN
CALSCALE:GREGORIAN
METHOD:PUBLISH
X-ORIGINAL-URL:https://vakaruvejai.com
X-WR-CALDESC:Vakarų Vėjai renginiai
REFRESH-INTERVAL;VALUE=DURATION:PT1H
X-Robots-Tag:noindex
X-PUBLISHED-TTL:PT1H
BEGIN:VTIMEZONE
TZID:America/Los_Angeles
BEGIN:DAYLIGHT
TZOFFSETFROM:-0800
TZOFFSETTO:-0700
TZNAME:PDT
DTSTART:20200308T100000
END:DAYLIGHT
BEGIN:STANDARD
TZOFFSETFROM:-0700
TZOFFSETTO:-0800
TZNAME:PST
DTSTART:20201101T090000
END:STANDARD
END:VTIMEZONE
BEGIN:VEVENT
DTSTART;VALUE=DATE:20200310
DTEND;VALUE=DATE:20200318
DTSTAMP:20260423T163855
CREATED:20200228T081808Z
LAST-MODIFIED:20200302T162813Z
UID:11602-1583798400-1584489599@vakaruvejai.com
SUMMARY:"Tutto a Dio" gastrolės JAV
DESCRIPTION:LT \nTUTTO a DIO – tai neįprasta klasikinių instrumentų\, alto ir akordeono kombinacija duete – iki šiol vienintelė ir pirmoji Lietuvoje bei itin reta visame pasaulyje.\nProgramoje skambės klasikos lobyno bei lietuvių kompozitorių šedevrai\, modernios lietuvių liaudies dainų aranžuotės.\nhttps://www.youtube.com/watch?v=Mtbkh_gZHNs \nEN \nTutto a Dio: An Afternoon of Classical\, Tango & Northern European Folk Music\n“Tutto a Dio“ is a unique musical virtuoso duo of violist and accordionist from Europe\, extensively traveling the world and having won many international competitions in Switzerland\, Italy\, France\, and Lithuania. Their signature professionalism and creative freedom have inspired audiences around the world. For this performance\, which will feature an energetic and diverse program of classical masterpieces\, tangos and reimagined folk music from the Baltics. A Soprano will join Tutto a Dio for this concert.\nhttps://www.youtube.com/watch?v=Mtbkh_gZHNs \nKoncertai/Concerts: \n\nMarch 10th.\, 4 pm.\, 5500 Grossmont Center Dr\, La Mesa SAN DIEGO\, CALIFORNIA (USA)\nMarch 10th.\, 6:30 pm.\, 5500 Grossmont Center Dr\, La Mesa\, SAN DIEGO\, CALIFORNIA (USA) \nMarch 11th.\, 8 pm.\, First Christian Church of North HOLLYWOOD\, L.A. CALIFORNIA (USA) \nMarch 12th.\, 7:15 pm.\, The Runaway Restaurant\, NAPA\, CALIFORNIA (USA) \nMarch 13th.\, 7:30 pm.\, Welcome Grange at 3275 Hagen Road\, NAPA\, CALIFORNIA (USA) \nMarch 14th.\, 2 pm.\, 1st Congregational Church\, SANTA BARBARA\, CALIFORNIA (USA) \nMarch 15th.\, 3 pm.\, Chetcuti Community room\, SAN FRANCISCO\, CALIFORNIA (USA)  \nMarch 17th.\, 5 pm.\, “The Hamilton” 555 Byron St.\, PALO ALTO\, CALIFORNIA (USA) 
URL:https://vakaruvejai.com/renginys/tutto-a-dio-gastroles-jav/
LOCATION:CA
CATEGORIES:Lietuviški renginiai,Los Andželas,San Diego,San Franciskas
ATTACH;FMTTYPE=application/pdf:https://vakaruvejai.com/wp-content/uploads/2020/02/251.pdf
END:VEVENT
END:VCALENDAR