BEGIN:VCALENDAR
VERSION:2.0
PRODID:-//Vakarų Vėjai - ECPv6.15.3//NONSGML v1.0//EN
CALSCALE:GREGORIAN
METHOD:PUBLISH
X-WR-CALNAME:Vakarų Vėjai
X-ORIGINAL-URL:https://vakaruvejai.com
X-WR-CALDESC:Vakarų Vėjai renginiai
REFRESH-INTERVAL;VALUE=DURATION:PT1H
X-Robots-Tag:noindex
X-PUBLISHED-TTL:PT1H
BEGIN:VTIMEZONE
TZID:America/Los_Angeles
BEGIN:DAYLIGHT
TZOFFSETFROM:-0800
TZOFFSETTO:-0700
TZNAME:PDT
DTSTART:20260308T100000
END:DAYLIGHT
BEGIN:STANDARD
TZOFFSETFROM:-0700
TZOFFSETTO:-0800
TZNAME:PST
DTSTART:20261101T090000
END:STANDARD
END:VTIMEZONE
BEGIN:VEVENT
DTSTART;TZID=America/Los_Angeles:20260509T133000
DTEND;TZID=America/Los_Angeles:20260509T153000
DTSTAMP:20260423T081840
CREATED:20260327T054210Z
LAST-MODIFIED:20260327T054210Z
UID:30801-1778333400-1778340600@vakaruvejai.com
SUMMARY:Sodų rišimo kūrybinės dirbtuvės su menininke Aušra Vabaliene\, Los Andželas
DESCRIPTION:Los Andželo Lietuvių Bendruomenė pristato Sodų rišimo kūrybines dirbtuves su menininke Aušra Vabaliene. \nKūrybinių dirbtuvių metu išmoksite pagrindinių sodų rišimo technikų ir susikursite savo unikalų sodą. \nVietų skaičius ribotas. \nRegistracija: tara@lalithianians.org \nSiūloma auka: $20.
URL:https://vakaruvejai.com/renginys/sodu-risimo-kurybines-dirbtuves-su-menininke-ausra-vabaliene-los-andzelas/
LOCATION:Bernardo Brazdžionio vardo išeivijos menininkų kiemelis\, 2901 Griffith Park Blvd.\, Los Angeles\, CA\, 90027\, United States
CATEGORIES:Lietuviški renginiai,Los Andželas
ATTACH;FMTTYPE=image/jpeg:https://vakaruvejai.com/wp-content/uploads/2026/03/Sodu-Risimo-Kuribines-Dirbtuves-LA-1_Page_1.jpg
END:VEVENT
END:VCALENDAR