BEGIN:VCALENDAR
VERSION:2.0
PRODID:-//Vakarų Vėjai - ECPv6.15.3//NONSGML v1.0//EN
CALSCALE:GREGORIAN
METHOD:PUBLISH
X-WR-CALNAME:Vakarų Vėjai
X-ORIGINAL-URL:https://vakaruvejai.com
X-WR-CALDESC:Vakarų Vėjai renginiai
REFRESH-INTERVAL;VALUE=DURATION:PT1H
X-Robots-Tag:noindex
X-PUBLISHED-TTL:PT1H
BEGIN:VTIMEZONE
TZID:America/Los_Angeles
BEGIN:DAYLIGHT
TZOFFSETFROM:-0800
TZOFFSETTO:-0700
TZNAME:PDT
DTSTART:20210314T100000
END:DAYLIGHT
BEGIN:STANDARD
TZOFFSETFROM:-0700
TZOFFSETTO:-0800
TZNAME:PST
DTSTART:20211107T090000
END:STANDARD
BEGIN:DAYLIGHT
TZOFFSETFROM:-0800
TZOFFSETTO:-0700
TZNAME:PDT
DTSTART:20220313T100000
END:DAYLIGHT
BEGIN:STANDARD
TZOFFSETFROM:-0700
TZOFFSETTO:-0800
TZNAME:PST
DTSTART:20221106T090000
END:STANDARD
BEGIN:DAYLIGHT
TZOFFSETFROM:-0800
TZOFFSETTO:-0700
TZNAME:PDT
DTSTART:20230312T100000
END:DAYLIGHT
BEGIN:STANDARD
TZOFFSETFROM:-0700
TZOFFSETTO:-0800
TZNAME:PST
DTSTART:20231105T090000
END:STANDARD
BEGIN:DAYLIGHT
TZOFFSETFROM:-0800
TZOFFSETTO:-0700
TZNAME:PDT
DTSTART:20240310T100000
END:DAYLIGHT
BEGIN:STANDARD
TZOFFSETFROM:-0700
TZOFFSETTO:-0800
TZNAME:PST
DTSTART:20241103T090000
END:STANDARD
END:VTIMEZONE
BEGIN:VEVENT
DTSTART;TZID=America/Los_Angeles:20241207T100000
DTEND;TZID=America/Los_Angeles:20241207T150000
DTSTAMP:20260423T145946
CREATED:20241115T064021Z
LAST-MODIFIED:20241115T064021Z
UID:27928-1733565600-1733583600@vakaruvejai.com
SUMMARY:10th Baltic Christmas Fair\, San Franciskas
DESCRIPTION:🎁 Christmas time is almost here – come enjoy a taste of Baltic holiday traditions at the San Francisco Baltic Christmas Fair\, and support our local communities! \n🎁 Free admission to the marketplace all day. Hot food and drink available while supplies last. \n🎁 Makers\, sellers\, and artisans from the local Estonian\, Latvian\, and Lithuanian communities offer a variety of gifts for the people on your list. Whether modern\, traditional\, or folk-inspired — you will find it among the jams and preserves\, organic skincare from Estonia\, Baltic-style breads and baked goods\, Baltic amber\, locally produced honey\, beach glass jewelry\, handmade cards and prints\, handmade dolls and stuffed animals\, tree ornaments and other holiday decor\, embroidered textiles and clothing\, table linens\, rugs\, handmade bags\, wool socks and other handmade accessories\, precious and semi-precious gemstone jewelry\, Baltic books and CDs\, handbuilt ceramics\, and Christmas chocolates\, handmade soaps\, wax melts\, room fragrances\, and bath soaks. And maybe a surprise or two! \n🎁 Activities: Enjoy a choir performance from the San Francisco Estonian Choir at 11:00 AM! Kids of all ages\, meet and take pictures with Santa. A raffle with free entry for all attendees will be held throughout the day. \n🎁 Vendors – all vendor spots are full! To be notified of any openings\, join the waitlist by filling out the form here. \n🎁Volunteers and organizers – we need you! Sign up and fill all the slots here. \n🎁Coming by public transit? The Latvian Hall is accessible via the MUNI 48 line\, which runs frequently on the weekend and has a stop very near the Latvian Hall (Clipper & Douglass). Parking can be a challenge in the area — carpooling is encouraged. \n🎁No pets please (service animals excepted). \n🎁Masks are welcome and encouraged in the marketplace area. If you are experiencing COVID or flu symptoms\, please stay home to recover. Let’s all look out for our community\, and have a successful and safe event. \nDecember 7\, 10 am – 3 pm\nLatvian House\, 425 Hoffman Ave\, San Francisco 94114 \n🎁The Baltic Christmas Fair is a joint event by the San Francisco Estonian Society\, Northern California Latvian Association\, and the San Francisco Lithuanian-American Community. Fair proceeds support Baltic community activities in the Bay Area.
URL:https://vakaruvejai.com/renginys/10th-baltic-christmas-fair-san-franciskas/
LOCATION:Latvian Hall San Francisco\, 425 Hoffman Ave.\, San Francisco\, CA\, 94114\, United States
CATEGORIES:San Franciskas
ATTACH;FMTTYPE=image/png:https://vakaruvejai.com/wp-content/uploads/2024/11/Screen-Shot-2024-11-14-at-10.35.33-PM.png
END:VEVENT
BEGIN:VEVENT
DTSTART;TZID=America/Los_Angeles:20211204T100000
DTEND;TZID=America/Los_Angeles:20211204T150000
DTSTAMP:20260423T145946
CREATED:20211104T042528Z
LAST-MODIFIED:20211123T065052Z
UID:18462-1638612000-1638630000@vakaruvejai.com
SUMMARY:Baltiška Kalėdinė Mugė / Baltic Christmas Fair\, San Franciskas
DESCRIPTION:Artėja Kalėdos\, o kur geriausia apsipirkti\, jei ne Baltic Christmas Fair!!!\n\nWe’re back! Join us again for the Baltic Christmas Fair.
URL:https://vakaruvejai.com/renginys/baltic-christmas-fair-san-francisco/
LOCATION:Northern California Latvian Association\, San Francisco
CATEGORIES:San Franciskas
ATTACH;FMTTYPE=image/jpeg:https://vakaruvejai.com/wp-content/uploads/2021/11/250964889_10158028921805759_3525034052892341780_n.jpg
END:VEVENT
END:VCALENDAR