BEGIN:VCALENDAR
VERSION:2.0
PRODID:-//Vakarų Vėjai - ECPv6.15.3//NONSGML v1.0//EN
CALSCALE:GREGORIAN
METHOD:PUBLISH
X-WR-CALNAME:Vakarų Vėjai
X-ORIGINAL-URL:https://vakaruvejai.com
X-WR-CALDESC:Vakarų Vėjai renginiai
REFRESH-INTERVAL;VALUE=DURATION:PT1H
X-Robots-Tag:noindex
X-PUBLISHED-TTL:PT1H
BEGIN:VTIMEZONE
TZID:America/Los_Angeles
BEGIN:DAYLIGHT
TZOFFSETFROM:-0800
TZOFFSETTO:-0700
TZNAME:PDT
DTSTART:20220313T100000
END:DAYLIGHT
BEGIN:STANDARD
TZOFFSETFROM:-0700
TZOFFSETTO:-0800
TZNAME:PST
DTSTART:20221106T090000
END:STANDARD
BEGIN:DAYLIGHT
TZOFFSETFROM:-0800
TZOFFSETTO:-0700
TZNAME:PDT
DTSTART:20230312T100000
END:DAYLIGHT
BEGIN:STANDARD
TZOFFSETFROM:-0700
TZOFFSETTO:-0800
TZNAME:PST
DTSTART:20231105T090000
END:STANDARD
BEGIN:DAYLIGHT
TZOFFSETFROM:-0800
TZOFFSETTO:-0700
TZNAME:PDT
DTSTART:20240310T100000
END:DAYLIGHT
BEGIN:STANDARD
TZOFFSETFROM:-0700
TZOFFSETTO:-0800
TZNAME:PST
DTSTART:20241103T090000
END:STANDARD
END:VTIMEZONE
BEGIN:VEVENT
DTSTART;TZID=America/Los_Angeles:20241208T120000
DTEND;TZID=America/Los_Angeles:20241208T160000
DTSTAMP:20260423T162100
CREATED:20241116T080013Z
LAST-MODIFIED:20241116T080013Z
UID:27933-1733659200-1733673600@vakaruvejai.com
SUMMARY:Baltos Kalėdos\, Irvine\, Orange County
DESCRIPTION:Planuojamos OC Lietuvių Baltos Kalėdos\nGruodžio 8 dieną.\nLaikas: 12 – 4 val.\nVieta: Great Park\, Irvine (Prie Visitor Center priėjus žiūrėti kur bus netoliese esantys stalai su Lietuviškais balionais)\nKviečiame:\n– Apsirengti baltai– Atsinesti lietuvišką patiekalą pasidalinti– Atsinešti savo vaikui dovanėlę (bus Kalėdų senelis)\np.s. galimi vietos ar datos pakeitimai\, jei būtų blogas oras\, bet tikėkimės viskas vyks sklandžiai\nIki greito susitikimo\, lauksime labai Jūsų visų\nJurgita 9495587931
URL:https://vakaruvejai.com/renginys/baltos-kaledos-irvine-orange-county/
LOCATION:Great Park Blvd\, Irvine\, CA 92618\, Great Park Blvd\, Irvine\, CA\, 92618\, Jungtinės Amerikos Valstijos
CATEGORIES:Lietuviški renginiai
ATTACH;FMTTYPE=image/jpeg:https://vakaruvejai.com/wp-content/uploads/2024/11/465775153_10226946530994690_8373391525564725386_n.jpeg
END:VEVENT
BEGIN:VEVENT
DTSTART;TZID=America/Los_Angeles:20231210T140000
DTEND;TZID=America/Los_Angeles:20231210T160000
DTSTAMP:20260423T162100
CREATED:20231202T070953Z
LAST-MODIFIED:20231202T071036Z
UID:25667-1702216800-1702224000@vakaruvejai.com
SUMMARY:Baltos Kalėdos\, Orange County
DESCRIPTION:Orange County lietuvių bendruomenė kviečia visus susirinkti ir linksmai pabendrauti bei paskanauti lietuviškų patiekalų. Prašome atsinešti mėgstamiausią tradicinį lietuvišką Kūčių patiekalą ir tik nealkoholinius gėrimus.\nVaikučius aplankys Kalėdų Senelis. Tėveliai\, jei norėsite\, kad Kalėdų Senelis įteiktų jūsų vaikučiui dovanėlę prašau atsineškite kuklią dovanėlę\, iki $10 vertės\, su užrašytu vaiko vardu bei pavarde.
URL:https://vakaruvejai.com/renginys/baltos-kaledos-orange-county/
LOCATION:Portola Springs Community Park\, 900 Tomato Springs\, Irvine\, CA\, 92620
CATEGORIES:Lietuviški renginiai
ATTACH;FMTTYPE=image/jpeg:https://vakaruvejai.com/wp-content/uploads/2023/12/405078813_10224640671229637_2645511885239760307_n.jpeg
END:VEVENT
BEGIN:VEVENT
DTSTART;TZID=America/Los_Angeles:20221204T120000
DTEND;TZID=America/Los_Angeles:20221204T160000
DTSTAMP:20260423T162100
CREATED:20221119T233914Z
LAST-MODIFIED:20221119T233914Z
UID:23121-1670155200-1670169600@vakaruvejai.com
SUMMARY:Baltos Kalėdos\, Mission Viejo\, CA
DESCRIPTION:Orange County lietuvių bendruomenė kviečia visus susirinkti ir linksmai pabendrauti bei paskanauti lietuviškų patiekalų. \nPrašome atsinešti mėgstamiausią tradicinį lietuvišką Kūčių patiekalą ne tik sau\, bet ir draugams\, kad užtektų paskanauti! \nVaikučius aplankys Kalėdų Senelis. Tėveliai\, jei norėsite\, kad Kalėdų Senelis įteiktų jūsų vaikučiui dovanėlę prašau atsineškite kuklią dovanėlę\, iki $10 vertės\, su užrašytu vaiko vardu bei pavarde.\nSiūlome\, kad visi dalyviai vilkėtų baltos spalvos drabužius. \nĮėjimo kaina $10 suaugusiems. Vaikams iki 16m. už įėjimą mokėti nereikia.
URL:https://vakaruvejai.com/renginys/baltos-kaledos-mission-viejo-ca-3/
LOCATION:Norman P. Murray Community and Senior Center\, 24932 Veterans Way\, Mission Viejo\, CA\, 92692
CATEGORIES:Lietuviški renginiai
ATTACH;FMTTYPE=image/jpeg:https://vakaruvejai.com/wp-content/uploads/2022/11/9F0BBD8A-AC02-4E53-8072-94F92A93A5F2.jpeg
END:VEVENT
END:VCALENDAR