BEGIN:VCALENDAR
VERSION:2.0
PRODID:-//Vakarų Vėjai - ECPv6.15.3//NONSGML v1.0//EN
CALSCALE:GREGORIAN
METHOD:PUBLISH
X-ORIGINAL-URL:https://vakaruvejai.com
X-WR-CALDESC:Vakarų Vėjai renginiai
REFRESH-INTERVAL;VALUE=DURATION:PT1H
X-Robots-Tag:noindex
X-PUBLISHED-TTL:PT1H
BEGIN:VTIMEZONE
TZID:America/Los_Angeles
BEGIN:DAYLIGHT
TZOFFSETFROM:-0800
TZOFFSETTO:-0700
TZNAME:PDT
DTSTART:20240310T100000
END:DAYLIGHT
BEGIN:STANDARD
TZOFFSETFROM:-0700
TZOFFSETTO:-0800
TZNAME:PST
DTSTART:20241103T090000
END:STANDARD
END:VTIMEZONE
BEGIN:VEVENT
DTSTART;TZID=America/Los_Angeles:20241116T180000
DTEND;TZID=America/Los_Angeles:20241116T220000
DTSTAMP:20260423T162047
CREATED:20240906T070550Z
LAST-MODIFIED:20240907T010410Z
UID:27484-1731780000-1731794400@vakaruvejai.com
SUMMARY:Los Angeles Šv. Kazimiero lituanistinės mokyklos jubiliejinis banketas\, Los Andželas
DESCRIPTION:Kviečiame visus paminėti Los Angeles Šv. Kazimiero lituanistinės mokyklos jubiliejinius 75 – uosius gyvavimo metus. Jūsų lauks vakarienė\, muzikinė programa ir tylusis aukcionas. Į bilieto kainą maistas ir gėrimai yra įskaičiuoti. \nBilietus galite užsisakyti pas Dainą Mattienę: tel. (217) 390-4133 / email. mattisdaina@gmail.com \n 
URL:https://vakaruvejai.com/renginys/los-angeles-sv-kazimiero-lituanistines-mokyklos-jubiliejinis-banketas-los-andzelas/
LOCATION:Castaway\, 1250 E Harvard Rd\, Burbank\, CA\, 91501
CATEGORIES:Lietuviški renginiai,Los Andželas
ATTACH;FMTTYPE=image/png:https://vakaruvejai.com/wp-content/uploads/2024/09/image0.png
END:VEVENT
BEGIN:VEVENT
DTSTART;TZID=America/Los_Angeles:20240420T180000
DTEND;TZID=America/Los_Angeles:20240420T220000
DTSTAMP:20260423T162047
CREATED:20240323T002129Z
LAST-MODIFIED:20240323T020502Z
UID:26263-1713636000-1713650400@vakaruvejai.com
SUMMARY:2024 BAFL Awards Banquet\, Los Andželas
DESCRIPTION:The Baltic American Freedom League cordially invites you to 2024 BAF Awards Banquet.\nSee flyer for more information. \nOrganization website: BALTIC AMERICAN FREEDOM LEAGUE
URL:https://vakaruvejai.com/renginys/2024-bafl-awards-banquet-los-andzelas/
LOCATION:Latvian Community Center\, 1955 Riverside Dr.\, Los Angeles\, CA\, 90039
CATEGORIES:Los Andželas
ATTACH;FMTTYPE=image/jpeg:https://vakaruvejai.com/wp-content/uploads/2024/03/IMG_5786-scaled.jpg
END:VEVENT
END:VCALENDAR