BEGIN:VCALENDAR
VERSION:2.0
PRODID:-//Vakarų Vėjai - ECPv6.15.3//NONSGML v1.0//EN
CALSCALE:GREGORIAN
METHOD:PUBLISH
X-WR-CALNAME:Vakarų Vėjai
X-ORIGINAL-URL:https://vakaruvejai.com
X-WR-CALDESC:Vakarų Vėjai renginiai
REFRESH-INTERVAL;VALUE=DURATION:PT1H
X-Robots-Tag:noindex
X-PUBLISHED-TTL:PT1H
BEGIN:VTIMEZONE
TZID:America/Los_Angeles
BEGIN:DAYLIGHT
TZOFFSETFROM:-0800
TZOFFSETTO:-0700
TZNAME:PDT
DTSTART:20200308T100000
END:DAYLIGHT
BEGIN:STANDARD
TZOFFSETFROM:-0700
TZOFFSETTO:-0800
TZNAME:PST
DTSTART:20201101T090000
END:STANDARD
BEGIN:DAYLIGHT
TZOFFSETFROM:-0800
TZOFFSETTO:-0700
TZNAME:PDT
DTSTART:20210314T100000
END:DAYLIGHT
BEGIN:STANDARD
TZOFFSETFROM:-0700
TZOFFSETTO:-0800
TZNAME:PST
DTSTART:20211107T090000
END:STANDARD
BEGIN:DAYLIGHT
TZOFFSETFROM:-0800
TZOFFSETTO:-0700
TZNAME:PDT
DTSTART:20220313T100000
END:DAYLIGHT
BEGIN:STANDARD
TZOFFSETFROM:-0700
TZOFFSETTO:-0800
TZNAME:PST
DTSTART:20221106T090000
END:STANDARD
BEGIN:DAYLIGHT
TZOFFSETFROM:-0800
TZOFFSETTO:-0700
TZNAME:PDT
DTSTART:20230312T100000
END:DAYLIGHT
BEGIN:STANDARD
TZOFFSETFROM:-0700
TZOFFSETTO:-0800
TZNAME:PST
DTSTART:20231105T090000
END:STANDARD
BEGIN:DAYLIGHT
TZOFFSETFROM:-0800
TZOFFSETTO:-0700
TZNAME:PDT
DTSTART:20240310T100000
END:DAYLIGHT
BEGIN:STANDARD
TZOFFSETFROM:-0700
TZOFFSETTO:-0800
TZNAME:PST
DTSTART:20241103T090000
END:STANDARD
BEGIN:DAYLIGHT
TZOFFSETFROM:-0800
TZOFFSETTO:-0700
TZNAME:PDT
DTSTART:20250309T100000
END:DAYLIGHT
BEGIN:STANDARD
TZOFFSETFROM:-0700
TZOFFSETTO:-0800
TZNAME:PST
DTSTART:20251102T090000
END:STANDARD
END:VTIMEZONE
BEGIN:VEVENT
DTSTART;TZID=America/Los_Angeles:20250921T083000
DTEND;TZID=America/Los_Angeles:20250921T120000
DTSTAMP:20260423T143757
CREATED:20250830T033530Z
LAST-MODIFIED:20250830T045637Z
UID:29626-1758443400-1758456000@vakaruvejai.com
SUMMARY:Bėgimas: 5 už Lietuvą\, Los Andželas
DESCRIPTION:Bėkite ar eikite\, bet dalyvaukite!  Rugsėjo 21d. 8:30 val ryte bėgsime kartu su komandomis iš viso pasaulio švęsti laisvą lietuvišką žodį! Apsirenkite trispalviškai. Susitinkam Playa Provisions\, Playa del Rey kavinėje  8:30 val. ryte. Iš kavinės pajudėsime 9:00 val. ryte. Po bėgimo/ėjimo\, kas norės\, galės tuoliau bendrauti Playa Provisions. \nTurite klausimų\, kreipkitės į: tara@lalithuanians.org
URL:https://vakaruvejai.com/renginys/begimas-5-uz-lietuva-los-andzelas/
LOCATION:Playa Provisions kavinė\, 119 Culver Blvd.\, Playa Del Rey\, CA\, 90293
CATEGORIES:Lietuviški renginiai,Los Andželas
ATTACH;FMTTYPE=image/png:https://vakaruvejai.com/wp-content/uploads/2025/08/Screen-Shot-2025-08-29-at-8.27.44-PM.png
END:VEVENT
BEGIN:VEVENT
DTSTART;TZID=America/Los_Angeles:20250222T090000
DTEND;TZID=America/Los_Angeles:20250222T110000
DTSTAMP:20260423T143757
CREATED:20250201T054102Z
LAST-MODIFIED:20250201T054102Z
UID:28306-1740214800-1740222000@vakaruvejai.com
SUMMARY:Pagarbos bėgimas sausio 13-osios ir Ukrainos laisvės gynėjų atminimui\, Los Andželas
DESCRIPTION:LT \n\nŠiais metais dėl Los Andžele kilusių gaisrų negalėjome susitikti Sausio 13-osios atminimo renginyje\, tačiau išlaikydami pagarbą šiai reikšmingai datai\, kviečiame Jus dalyvauti Pagarbos bėgime\, kuris vyks vasario 22 d.\nPrisiminsime ne tik Sausio 13-osios didvyrius\, gynusius Lietuvos laisvę ir už ją žuvusius\, bet kartu paminėsime ir rusijos plataus masto invazijos į Ukrainą trečiąsias metines. Šios dvi datos – Sausio 13-oji ir 2022 m. vasario 24-oji – primena apie laisvės kainą ir drąsą priešintis agresijai. Maloniai kviečiame dalyvauti ir kartu prisiminti\, kad laisvė – tai vertybė\, kurią turime branginti\, ginti ir remti kasdien. Vieningi esame stiprūs!\n\nBėgimas vyks vasario 22 d.\, šeštadienį\, pradžia – 9 val. ryte (9 AM).Susitikimo vieta ir bėgimo/ėjimo pradžia bei pabaiga – Crescent Bay Park stovėjimo aikštelė (2000 Ocean Ave\, Santa Monica\, CA\, 90405).Bėgimo maršrutas – 3 mylios/5 km (iki Jonathan Club ir atgal\, 850 Palisades Beach Rd\, Santa Monica\, CA 90403).\nĖjimo maršrutas – 1 mylia/1.6 km (iki Santa Monica Pier ir atgal).\nUžsiregistravusiems dalyviams\, pasiekusiems finišą\, bus įteikti atminimo medaliai!\nRegistracija  https://shorturl.at/y3a8B\n\n SVARBU: Prašome atsakingai įvertinti savo fizinį pasirengimo lygį ir bėgti tik jeigu esate sveika (-s) bei galite bėgti pasirinktą distanciją. Dalyvavimas bėgime yra savanoriškas\, kiekvienas dalyvis (-ė) prisiima asmeninę atsakomybę už savo sveikatą. Bėgimo iniciatoriai neatsako už dalyvių sveikatos sutrikimusrenginio metu.\n\nEN\nThis year\, due to the wildfires in Los Angeles\, we were unable to come together for the January 13th commemoration. However\, we invite you to honor this significant date on February 22 by participating in the Remembrance Run – in memory of the Lithuanian heroes of January 13th and in solidarity with Ukrainian Freedom Fighters.\nAs we remember the brave defenders who gave their lives for Lithuania’s freedom on January 13\, 1991\, we will also mark the third anniversary of russia’s large-scale invasion of Ukraine. These two historic dates – January 13\, 1991 and February 24\, 2022 – serve as powerful reminders of the cost of freedom and the courage required to resist aggression.\nWe kindly invite you to join us in honoring the sacrifices of the past and showing solidarity in the present. United\, we are strong!\n\nThe run will take place on Saturday\, February 22\, 2025\, at 9 AM.Meeting point and start/finish: Crescent Bay Park parking lot (2000 Ocean Ave\, Santa Monica\, CA 90405).Run distance: 3 miles/5 km (to the Jonathan Club and back\, 850 Palisades Beach Rd\, Santa Monica\, CA 90403).\nWalk distance: 1 mile/1.6 km (to Santa Monica Pier and back).\nRegistered participants will be awarded commemorative medals after the finish!\nRegistration  https://shorturl.at/y3a8B\n\n IMPORTANT: Please consider your fitness level carefully and participate only if you are in good health and capable of completing your chosen distance. Participation in the run is entirely voluntary\, and each participant assumes full responsibility for their own health and well-being. The event coordinators disclaim any liability for health issues that may arise during the event.
URL:https://vakaruvejai.com/renginys/pagarbos-begimas-sausio-13-osios-ir-ukrainos-laisves-gyneju-atminimui-los-andzelas/
LOCATION:Crescent Bay Park stovėjimo aikštelė (2000 Ocean Ave\, Santa Monica\, CA 90405)
CATEGORIES:Lietuviški renginiai,Los Andželas
ATTACH;FMTTYPE=image/jpeg:https://vakaruvejai.com/wp-content/uploads/2025/01/475088263_3040642899423845_9069589313627729444_n.jpeg
END:VEVENT
BEGIN:VEVENT
DTSTART;TZID=America/Los_Angeles:20220925T090000
DTEND;TZID=America/Los_Angeles:20220925T120000
DTSTAMP:20260423T143757
CREATED:20220909T164851Z
LAST-MODIFIED:20220909T164851Z
UID:22481-1664096400-1664107200@vakaruvejai.com
SUMMARY:Penki už Lietuvą! San Diego Lietuviai\, San Diegas
DESCRIPTION:Sekmadienį\, rugsėjo 25d. 9 val ryto\, prisijunkime prie pasaulio lietuvių bėgime 5 už Lietuvą. Kviečiame dėvėti Lietuvos vėliavos spalvų drabužius.\nBėgimo/ėjimo greitį fiksuosime kiekvienas sau. Jei norėsite varžytis su kitais pasaulio lietuviais\, savo laiką galėsite suvesti čia: https://www.5uzlietuva.com/.\nSusirinksime automobilių stovėjimo aikštelėje pietinėje Batiquitos Dr pusėje (sankryža Spoonbill Ln/Batiquitos Dr\, Carlsbad\, CA 92011 (GPS koordinatės 33.094099\, -117.279918)). Jei stovėjimo aikštelėje nerasite vietos- automobilius statykite gatvėje. Jei ieškosite Batiquitos Lagoon Trail Google\, mes susitinkame rytiniame tako gale\, o ne prie Batiquitos Lagoon Foundation.\nBėgsime/eisime Batiquitos Lagoon Trail link vakarų pusės iki Batiquitos Lagoon Foundation ir atgal į rytus. Daugiau informacijos apie taką galite rasti čia: https://www.alltrails.com/…/cal…/batiquitos-lagoon-trail.\nIki greito!
URL:https://vakaruvejai.com/renginys/penki-uz-lietuva-san-diego-lietuviai-san-diegas/
LOCATION:Automobilių stovėjimo aikštelė pietinėje Batiquitos Dr pusėje\, Sankryža Spoonbill Ln/Batiquitos Dr\, Carlsbad\, CA 92011
CATEGORIES:Lietuviški renginiai,San Diego
ATTACH;FMTTYPE=image/jpeg:https://vakaruvejai.com/wp-content/uploads/2022/09/306214072_10230163787864512_7570872704456152372_n.jpeg
END:VEVENT
BEGIN:VEVENT
DTSTART;TZID=America/Los_Angeles:20220925T080000
DTEND;TZID=America/Los_Angeles:20220925T120000
DTSTAMP:20260423T143757
CREATED:20220909T072317Z
LAST-MODIFIED:20220922T224427Z
UID:22451-1664092800-1664107200@vakaruvejai.com
SUMMARY:"Penki už Lietuvą" - pasaulio lietuvių bėgimas\, Santa Monika\, CA
DESCRIPTION:Penki už Lietuvą – tai nuo 2013 metų vykstantis asinchroninis pasaulio lietuvių bėgimas\, suburiantis dalyvius iš viso pasaulio.\nBėgimo tikslas – skatinti aktyvų pasaulio lietuvius laisvalaikį bei suteikti platformą netradiciniais metodais paminėti ar gvildenti įvairias Pasaulio lietuviams aktualias temas.\nBėgimą globoja PLJS – Pasaulio Lietuvių Jaunimo Sąjunga\n\nPrašom prisijungti prie šios puikios akcijos\n5 už Lietuvą !!!!\nNorinčius dalyvauti raginame registruotis asmeniškai arba galime prijungti prie jau užregistruotos grupės !\n\nKviečiame prisijungti prie Pasaulio Lietuvių bėgimo – 🇱🇹Penki už Lietuvą! \nLaukiame visų Will Rodgers State Beach Park\, Pacific Palisades (ties Temescal Canyon) Rugsėjo 25 d.\nRenkamės 8-9AM\nPradėsime bėgimą/ėjimą 9AM\nAtvykite su lietuviška atributika ir gera nuotaika! Iki pasimatymo! \nDaugiau info apie šį pasaulinį renginį ir registraciją galite rasti čia: \nhttps://facebook.com/events/s/penki-uz-lietuva-2022/1048766839170851/ \n\n\nProšom junkitės\, maži ir dideli \, tai puiki proga visiems pasimatyti ir išbandyti savo jėgas !\nKreiptis į Laura Remeika https://www.facebook.com/laura.remeika\n\n\n\n👟 Naujas iššūkis 👟 \nArtėjant bėgimo dienai\, atsiranda daugiau galimybių bėgti ir laimėti prizus. Todėl\, Rugsėjo 25d. kviečiame paruošti ir bėgti originaliausiu\, patriotišku kostiumu. \nGeriausia bei juokingiausia bėgiko apranga bus apdovanota. 🎉🎁 \nPasidalinkite savo apranga soc. medijose: #5uzlietuva #5uzlietuvatrainingmode
URL:https://vakaruvejai.com/renginys/penki-uz-lietuva-pasaulio-lietuviu-begimas-santa-monika-ca/
LOCATION:Will Rogers State Park Beach (at  Temescal Canyon)
CATEGORIES:Lietuviški renginiai,Los Andželas
ATTACH;FMTTYPE=image/jpeg:https://vakaruvejai.com/wp-content/uploads/2022/09/penki-uz-Lietua-begimas-1536x865-1.jpeg
END:VEVENT
BEGIN:VEVENT
DTSTART;VALUE=DATE:20210919
DTEND;VALUE=DATE:20210920
DTSTAMP:20260423T143757
CREATED:20210910T042007Z
LAST-MODIFIED:20210910T042007Z
UID:17668-1632009600-1632095999@vakaruvejai.com
SUMMARY:Penki už Lietuvą. Pasaulio lietuvių bėgimas
DESCRIPTION:Nesvarbu ar bėgsite po vieną\, ar kartu\, pasaulio lietuvių bėgimas “Penki už Lietuvą” kviečia registruotis ir rugsėjo 19-ąją nubėgti simbolinius 5 kilometrus. \nRegistraciją bei daugiau informacijos rasite čia: https://www.5uzlietuva.com/registracija.html
URL:https://vakaruvejai.com/renginys/penki-uz-lietuva-pasaulio-lietuviu-begimas/
LOCATION:CA
CATEGORIES:Arizona,Hawaii,Lietuviški renginiai,Los Andželas,Nevada,Portlandas,San Diego,San Franciskas,Seattle
ATTACH;FMTTYPE=image/jpeg:https://vakaruvejai.com/wp-content/uploads/2021/09/240763135_5980281722043935_8453816629206886932_n-1.jpg
END:VEVENT
BEGIN:VEVENT
DTSTART;VALUE=DATE:20200623
DTEND;VALUE=DATE:20200624
DTSTAMP:20260423T143757
CREATED:20200518T044712Z
LAST-MODIFIED:20200518T044712Z
UID:12550-1592870400-1592956799@vakaruvejai.com
SUMMARY:Mylios bėgimas minint Olimpinę dieną
DESCRIPTION:Lietuvos tautinis olimpinis komitetas (LTOK) kartu su LTeam – Lietuvos olimpine komanda – kviečia vieningai paminėti Tarptautinę olimpinę dieną\, bėgte įveikiant lietuvišką olimpinę mylią. \nDalyvauti virtualiame lietuviškos olimpinės mylios bėgime – itin paprasta. Birželio 23-ąją reikia bėgte įveikti mažiausiai 1988 metrų atstumą\, tai užfiksuoti programėle ir savo rezultatu\, naudojant grotažymę #OlimpinėDiena2020\, pasidalinti socialiniuose tinkluose. Dalyvavimas šiame bėgime – nemokamas. \nDaugiau informacijos rasite čia: \nhttps://www.ltok.lt/atskirai-bet-kartu-viso-pasaulio-lietuviai-olimpine-diena-siemet-sves-begdami/
URL:https://vakaruvejai.com/renginys/mylios-begimas-minint-olimpine-diena/
LOCATION:CA
CATEGORIES:Arizona,Hawaii,Lietuviški renginiai,Los Andželas,Nevada,Portlandas,San Diego,San Franciskas,Seattle
ATTACH;FMTTYPE=image/jpeg:https://vakaruvejai.com/wp-content/uploads/2020/05/LTOK_olimpines-mylia_facebook_post.jpg
ORGANIZER;CN="Lietuvos tautinis olimpinis komitetas (LTOK)":MAILTO:renginiai@ltok.lt
END:VEVENT
END:VCALENDAR