BEGIN:VCALENDAR
VERSION:2.0
PRODID:-//Vakarų Vėjai - ECPv6.15.3//NONSGML v1.0//EN
CALSCALE:GREGORIAN
METHOD:PUBLISH
X-WR-CALNAME:Vakarų Vėjai
X-ORIGINAL-URL:https://vakaruvejai.com
X-WR-CALDESC:Vakarų Vėjai renginiai
REFRESH-INTERVAL;VALUE=DURATION:PT1H
X-Robots-Tag:noindex
X-PUBLISHED-TTL:PT1H
BEGIN:VTIMEZONE
TZID:America/Los_Angeles
BEGIN:DAYLIGHT
TZOFFSETFROM:-0800
TZOFFSETTO:-0700
TZNAME:PDT
DTSTART:20170312T100000
END:DAYLIGHT
BEGIN:STANDARD
TZOFFSETFROM:-0700
TZOFFSETTO:-0800
TZNAME:PST
DTSTART:20171105T090000
END:STANDARD
BEGIN:DAYLIGHT
TZOFFSETFROM:-0800
TZOFFSETTO:-0700
TZNAME:PDT
DTSTART:20180311T100000
END:DAYLIGHT
BEGIN:STANDARD
TZOFFSETFROM:-0700
TZOFFSETTO:-0800
TZNAME:PST
DTSTART:20181104T090000
END:STANDARD
BEGIN:DAYLIGHT
TZOFFSETFROM:-0800
TZOFFSETTO:-0700
TZNAME:PDT
DTSTART:20190310T100000
END:DAYLIGHT
BEGIN:STANDARD
TZOFFSETFROM:-0700
TZOFFSETTO:-0800
TZNAME:PST
DTSTART:20191103T090000
END:STANDARD
BEGIN:DAYLIGHT
TZOFFSETFROM:-0800
TZOFFSETTO:-0700
TZNAME:PDT
DTSTART:20200308T100000
END:DAYLIGHT
BEGIN:STANDARD
TZOFFSETFROM:-0700
TZOFFSETTO:-0800
TZNAME:PST
DTSTART:20201101T090000
END:STANDARD
BEGIN:DAYLIGHT
TZOFFSETFROM:-0800
TZOFFSETTO:-0700
TZNAME:PDT
DTSTART:20210314T100000
END:DAYLIGHT
BEGIN:STANDARD
TZOFFSETFROM:-0700
TZOFFSETTO:-0800
TZNAME:PST
DTSTART:20211107T090000
END:STANDARD
BEGIN:DAYLIGHT
TZOFFSETFROM:-0800
TZOFFSETTO:-0700
TZNAME:PDT
DTSTART:20220313T100000
END:DAYLIGHT
BEGIN:STANDARD
TZOFFSETFROM:-0700
TZOFFSETTO:-0800
TZNAME:PST
DTSTART:20221106T090000
END:STANDARD
BEGIN:DAYLIGHT
TZOFFSETFROM:-0800
TZOFFSETTO:-0700
TZNAME:PDT
DTSTART:20230312T100000
END:DAYLIGHT
BEGIN:STANDARD
TZOFFSETFROM:-0700
TZOFFSETTO:-0800
TZNAME:PST
DTSTART:20231105T090000
END:STANDARD
BEGIN:DAYLIGHT
TZOFFSETFROM:-0800
TZOFFSETTO:-0700
TZNAME:PDT
DTSTART:20240310T100000
END:DAYLIGHT
BEGIN:STANDARD
TZOFFSETFROM:-0700
TZOFFSETTO:-0800
TZNAME:PST
DTSTART:20241103T090000
END:STANDARD
END:VTIMEZONE
BEGIN:VEVENT
DTSTART;TZID=America/Los_Angeles:20241110T124500
DTEND;TZID=America/Los_Angeles:20241110T134500
DTSTAMP:20260423T173410
CREATED:20241019T040718Z
LAST-MODIFIED:20241019T040718Z
UID:27750-1731242700-1731246300@vakaruvejai.com
SUMMARY:Knygų klubo atidarymas\, Los Andželas
DESCRIPTION:Lapkričio 10 d. kviečiame visus knygų mylėtojus į Knygų klubo atidarymą\, kuris įvyks 12.45 val. po pietų klebonijos konferencijų menėje.\nSiūlome atsinešti savo mėgstamiausią knygą ar neseniai perskaitytą knygą\, labiausiai patikusią ar jus suintrigavusią knygą\, nesvarbu ar tai lietuvių rašytojas ar kitų tautų rašytojai.\nLabai lauksime.
URL:https://vakaruvejai.com/renginys/knygu-klubo-atidarymas-los-andzelas/
LOCATION:Šv. Kazimiero parapijos salėje\, 2714 St. George St.\, Los Angeles\, CA\, 90027
CATEGORIES:Lietuviški renginiai,Los Andželas
ATTACH;FMTTYPE=image/jpeg:https://vakaruvejai.com/wp-content/uploads/2024/10/IMG_9207-2-scaled.jpg
ORGANIZER;CN="%C5%A1v. Kazimiero parapija":MAILTO:st.casimir@gmail.com
END:VEVENT
BEGIN:VEVENT
DTSTART;TZID=America/Los_Angeles:20230329T190000
DTEND;TZID=America/Los_Angeles:20230329T210000
DTSTAMP:20260423T173410
CREATED:20230318T221823Z
LAST-MODIFIED:20230318T221823Z
UID:24100-1680116400-1680123600@vakaruvejai.com
SUMMARY:San Francisko Apylinkės Metinis Susirinkimas (Zoom-Online)\, Virtualus renginys
DESCRIPTION:Kviečiame visus San Francisko Apylinkės narius dalyvauti San Francisko Apylinkės metiniame susirinkime\, kuris vyks Kovo 29d.\, Trečiadienį\, 7pm\, prisijungiant prie ZOOM platformos. \nIki susirinkimo kviečiame visus užpildyti anketą https://sflithuanians.com/prisijunk\nTaip pat galite sumokėti nario mokestį. \nSusirinkimo darbotvarkėje:\nMetine veiklos ataskaita\, metine finansu ataskaita\, mokyklos “Genys“ pranešimas\, planuojami renginiai\, metinis narystes mokestis\, kiti klausimai. \nIšsisaugokite datą ir laiką\, sekite tolesnę informaciją. \nSF Lithuanians is inviting you to a scheduled Zoom meeting. \nJoin Zoom Meeting https://us05web.zoom.us/j/82704901865?pwd=TVFhY0Y1cDN0TG0ybVJCQlZQNUdxZz09 \nMeeting ID: 827 0490 1865 \nPasscode: ipx5Fn
URL:https://vakaruvejai.com/renginys/san-francisko-apylinkes-metinis-susirinkimas-zoom-online-virtualus-renginys/
LOCATION:Virtualus renginys
CATEGORIES:Lietuviški renginiai,San Franciskas,Virtualus renginys
ATTACH;FMTTYPE=image/jpeg:https://vakaruvejai.com/wp-content/uploads/2023/03/27A45594-792E-4940-A688-8BC46E64E991.jpeg
END:VEVENT
BEGIN:VEVENT
DTSTART;TZID=America/Los_Angeles:20170706T190000
DTEND;TZID=America/Los_Angeles:20170706T193000
DTSTAMP:20260423T173410
CREATED:20170613T170232Z
LAST-MODIFIED:20170624T005210Z
UID:450-1499367600-1499369400@vakaruvejai.com
SUMMARY:Tautiškos giesmės giedojimas aplink pasaulį/National Anthem Around the World - Los Angeles\, CA
DESCRIPTION:Liepos 6 d. švenčiama Valstybės (Lietuvos karaliaus Mindaugo karūnavimo) diena. Visame pasaulyje esantys lietuviai bursis ir bendrai sugiedos „Tautišką giesmę”. Los Andžele „Tautiška giesmė” bus giedama liepos 6 dieną (ketvirtadienį) 7PM.  \nVIETA: kaip ir pernai\, renkamės Santa Monikos paplūdimyje prie arčiausiai „Santa Monica Pier” esančio gelbėtojų bokštelio nr. 16 (į pietus nuo Pier). \nVieta žemėlapyje: https://goo.gl/maps/JkWoSqtVJ5T2 \nJunkimės prie šios gražios pilietinės tradicijos. Himnas neskamba po vieną. Skamba garsiai\, kai mūsų daug! \n[wds id=”2″] 
URL:https://vakaruvejai.com/renginys/tautines-giesmes-giedojimas-los-angeles-ca/
LOCATION:Santa Monica beach\, gelbėtojų bokštelis Nr. 16 (į pietus nuo Santa Monica Pier)\, Santa Monica\, CA\, United States
CATEGORIES:Lietuviški renginiai,Los Andželas
ATTACH;FMTTYPE=image/jpeg:https://vakaruvejai.com/wp-content/uploads/2017/06/TG-logo-01.jpg
ORGANIZER;CN="Lietuvos generalinis konsulatas Los And%C5%BEele":MAILTO:kons.losandzelas@urm.lt
END:VEVENT
END:VCALENDAR