BEGIN:VCALENDAR
VERSION:2.0
PRODID:-//Vakarų Vėjai - ECPv6.15.3//NONSGML v1.0//EN
CALSCALE:GREGORIAN
METHOD:PUBLISH
X-WR-CALNAME:Vakarų Vėjai
X-ORIGINAL-URL:https://vakaruvejai.com
X-WR-CALDESC:Vakarų Vėjai renginiai
REFRESH-INTERVAL;VALUE=DURATION:PT1H
X-Robots-Tag:noindex
X-PUBLISHED-TTL:PT1H
BEGIN:VTIMEZONE
TZID:America/Los_Angeles
BEGIN:DAYLIGHT
TZOFFSETFROM:-0800
TZOFFSETTO:-0700
TZNAME:PDT
DTSTART:20230312T100000
END:DAYLIGHT
BEGIN:STANDARD
TZOFFSETFROM:-0700
TZOFFSETTO:-0800
TZNAME:PST
DTSTART:20231105T090000
END:STANDARD
END:VTIMEZONE
BEGIN:VEVENT
DTSTART;TZID=America/Los_Angeles:20230723T140000
DTEND;TZID=America/Los_Angeles:20230723T170000
DTSTAMP:20260423T145846
CREATED:20230630T220329Z
LAST-MODIFIED:20230630T220329Z
UID:24876-1690120800-1690131600@vakaruvejai.com
SUMMARY:Blueberry Picnic 2023\, Arlington\, WA
DESCRIPTION:Join the Seattle Daughters of Lithuania for a joyful summer afternoon at Blueberry Acres Our beloved event is for young and old to join together to raise money for our worthy causes in Lietuva as well as supporting our local community. \nBring your friends! \n* $ Raffle * Treat of the Month * Silent Auction *Blueberry Picking *Music *Dancing * Yard Games * Traditional foods potluck.
URL:https://vakaruvejai.com/renginys/blueberry-picnic-2023-arlington-wa/
LOCATION:Blueberry Acres\, 32 McRae Rd\, Arlington\, WA\, 98223
CATEGORIES:Lietuviški renginiai,Seattle
ATTACH;FMTTYPE=image/png:https://vakaruvejai.com/wp-content/uploads/2023/06/Screen-Shot-2023-06-30-at-3.01.31-PM.png
END:VEVENT
END:VCALENDAR