BEGIN:VCALENDAR
VERSION:2.0
PRODID:-//Vakarų Vėjai - ECPv6.15.3//NONSGML v1.0//EN
CALSCALE:GREGORIAN
METHOD:PUBLISH
X-WR-CALNAME:Vakarų Vėjai
X-ORIGINAL-URL:https://vakaruvejai.com
X-WR-CALDESC:Vakarų Vėjai renginiai
REFRESH-INTERVAL;VALUE=DURATION:PT1H
X-Robots-Tag:noindex
X-PUBLISHED-TTL:PT1H
BEGIN:VTIMEZONE
TZID:America/Los_Angeles
BEGIN:DAYLIGHT
TZOFFSETFROM:-0800
TZOFFSETTO:-0700
TZNAME:PDT
DTSTART:20250309T100000
END:DAYLIGHT
BEGIN:STANDARD
TZOFFSETFROM:-0700
TZOFFSETTO:-0800
TZNAME:PST
DTSTART:20251102T090000
END:STANDARD
BEGIN:DAYLIGHT
TZOFFSETFROM:-0800
TZOFFSETTO:-0700
TZNAME:PDT
DTSTART:20260308T100000
END:DAYLIGHT
BEGIN:STANDARD
TZOFFSETFROM:-0700
TZOFFSETTO:-0800
TZNAME:PST
DTSTART:20261101T090000
END:STANDARD
END:VTIMEZONE
BEGIN:VEVENT
DTSTART;TZID=America/Los_Angeles:20260221T113000
DTEND;TZID=America/Los_Angeles:20260221T133000
DTSTAMP:20260423T173352
CREATED:20260214T074052Z
LAST-MODIFIED:20260214T074052Z
UID:30594-1771673400-1771680600@vakaruvejai.com
SUMMARY:Užgavėnės\, San Franciskas
DESCRIPTION:Kada: šeštadienį\, vasario 21 d. – 11:30 val.\nKur: San Francisko Lituanistinės Mokyklos „Genys” Salėje/Castro Valley United Methodist Church\, 19806 Wisteria StreetCastro Valley\, CA 94546\nPrograma:Užgavėnių šokiai\, dainos Lašininio ir Kanapinio kova Skaniausių blynų puota\n SVARBU: Atsineškite gardžių blynų ir atvykite su kostiumais!\nVisada renginyje laukiame mažų ir didelių – visų San Francisko Bendruomenės narių!
URL:https://vakaruvejai.com/renginys/uzgavenes-san-franciskas-4/
LOCATION:Lituanistinė mokykla „Genys”\, 778 26th Ave\, San Francisco\, CA\, 94121-3614\, United States
CATEGORIES:Lietuviški renginiai,San Franciskas
ATTACH;FMTTYPE=image/jpeg:https://vakaruvejai.com/wp-content/uploads/2026/02/636293071_1440480231117615_5387617327386712890_n.jpg
END:VEVENT
BEGIN:VEVENT
DTSTART;TZID=America/Los_Angeles:20260215T120000
DTEND;TZID=America/Los_Angeles:20260215T160000
DTSTAMP:20260423T173352
CREATED:20260131T115443Z
LAST-MODIFIED:20260131T115443Z
UID:30495-1771156800-1771171200@vakaruvejai.com
SUMMARY:Užgavėnės parke\, San Diegas
DESCRIPTION:LT\n\nVasario 15 d. kviečiame visus – didelius ir mažus – į linksmą Užgavėnių šėlsmą po atviru dangumi!\nAteikite su kaukėmis! Kuo baisesnė\, juokingesnė ar kūrybiškesnė kaukė – tuo smagiau. Laukiami velniai\, raganos\, meškos ir visi kiti Užgavėnių personažai!\nVaišės – suneštinėsAtsineškite savo mėgstamų Užgavėnių ar kitų vaišių pasidalinti su visais!\nKADA? vasario 15 d.\, sekmadienį\, nuo 12:00 PMKUR? San Dieguito County Park – Lower Level\, Netoli Area #8Ieškokite lietuviškų vėliavų\nAdresas: 1628 Lomas Santa Fe Dr\, Del Mar\, CA 92014\nĮvažiavimo kaina į parką: $5 už automobilį. Už vartų stovėjimas-nemokamas.\n\nEN\n\nUžgavėnės in the Park\nOn February 15\, we invite everyone — kids and adults alike — to a fun Užgavėnės celebration outdoors!\nCome wearing masks! The scarier\, funnier\, or more creative the mask\, the better. Devils\, witches\, bears\, and all traditional Užgavėnės characters are welcome!\nPotluck-style treatsPlease bring your favorite Užgavėnės treats or other snacks to share with everyone.\nWHEN? Sunday\, February 15\, starting at 12:00 PMWHERE? San Dieguito County Park – Lower Level\, Near Area #8Look for Lithuanian flagsAddress: 1628 Lomas Santa Fe Dr\, Del Mar\, CA 92014\nPark entrance fee: $5 per vehicleFree parking available outside the park gates\nWe look forward to celebrating together!
URL:https://vakaruvejai.com/renginys/uzgavenes-parke-san-diegas/
LOCATION:San Dieguito County Park\, 1628 Lomas Santa Fe Dr.\, Del Mar\, CA\, 92014
CATEGORIES:Lietuviški renginiai,San Diego
ATTACH;FMTTYPE=image/jpeg:https://vakaruvejai.com/wp-content/uploads/2026/01/613403321_10223672207311677_975320348744548563_n.jpg
END:VEVENT
BEGIN:VEVENT
DTSTART;TZID=America/Los_Angeles:20250301T120000
DTEND;TZID=America/Los_Angeles:20250301T140000
DTSTAMP:20260423T173352
CREATED:20250301T012014Z
LAST-MODIFIED:20250301T012014Z
UID:28484-1740830400-1740837600@vakaruvejai.com
SUMMARY:Užgavėnės\, San Franciskas
DESCRIPTION:Brangūs Amerikos lietuvių bendruomenės nariai\,  \nNorime labai pakviesti į jau šį šeštadienį (03.01) vykstančią Užgavėnių šventę San Francisco Lituanistinėje mokykloje „Genys”! Bus Lašininio ir Kanapinio kova\, kitų įvairiausių renginių ir daug daug blynų! \nKada: Šeštadienį\, kovo 1 d. – 12:00 val. (mokyklos salėje)\nKur: San Francisko Lituanistinės Mokyklos „Genys” Salėje/Castro Valley United Methodist Church\nGoogle Maps: https://maps.app.goo.gl/rYD76Ksrs6H9KNdT8\nFacebook: https://www.facebook.com/events/1364908697695893 \nPrograma:\nUžgavėnių šokiai\, dainos\nLašininio ir Kanapinio kova\nSkaniausių blynų puota\n‼️ SVARBU: Atsineškite gardžių blynų ir atvykite su kostiumais! \nVisada renginyje laukiame mažų ir didelių – visų San Francisko Bendruomenės narių!
URL:https://vakaruvejai.com/renginys/uzgavenes-san-franciskas-3/
LOCATION:Lituanistinė mokykla „Genys”\, 778 26th Ave\, San Francisco\, CA\, 94121-3614\, United States
CATEGORIES:Lietuviški renginiai,San Franciskas
ATTACH;FMTTYPE=image/jpeg:https://vakaruvejai.com/wp-content/uploads/2025/02/481077370_1159538922545082_6700775886476731420_n.jpeg
END:VEVENT
BEGIN:VEVENT
DTSTART;TZID=America/Los_Angeles:20250301T110000
DTEND;TZID=America/Los_Angeles:20250301T150000
DTSTAMP:20260423T173352
CREATED:20250215T180059Z
LAST-MODIFIED:20250215T180059Z
UID:28462-1740826800-1740841200@vakaruvejai.com
SUMMARY:Užgavėnės 2025\, Sietlas\, WA
DESCRIPTION:LT  \nAteikite švęsti šios tradicinės lietuviškos šventės su kaukėmis\, kostiumais\, žaidimais ir gardžiais blynais! Mėgaukitės linksmybėmis ir stebėkite simbolinę kovą tarp Lašininio\, atstovaujančio žiemą\, ir Kanapinio\, simbolizuojančio pavasarį. Šventės kulminacija – Morės deginimas ant jūros kranto\, kad atsisveikintume su žiema ir pasveikintume atbundančią gamtą. \nPrašome atsinešti bendram stalui skirtą patiekalą. \nDauguma šventės veiklų vyks paplūdimyje\, todėl pasirūpinkite šiltais drabužiais ir gera nuotaika. Lauksime jūsų! \nEN \nWe invite you to take part in this cherished Lithuanian tradition filled with joy\, laughter\, and community spirit. Come dressed in masks and costumes\, enjoy traditional games\, and indulge in delicious pancakes as we welcome the changing of the seasons. Witness the entertaining battle between Lašininis (the Porky One) and Kanapinis (the Hemp One)—a symbolic fight between winter and spring—culminating in the burning of Morė\, a ritual to drive away the cold and welcome renewal. \nPlease bring a potluck dish to share. \nMost of the festivities will take place on the beach\, so dress warmly and be ready for a fun-filled afternoon by the water. \nWe look forward to celebrating with you!
URL:https://vakaruvejai.com/renginys/uzgavenes-2025-sietlas-wa/
LOCATION:19829 Indianola Rd NE\, Indianola\, WA 98342
CATEGORIES:Lietuviški renginiai,Seattle
ATTACH;FMTTYPE=image/jpeg:https://vakaruvejai.com/wp-content/uploads/2025/02/478132674_1118131673441225_7638866133857579466_n.jpeg
END:VEVENT
END:VCALENDAR