BEGIN:VCALENDAR
VERSION:2.0
PRODID:-//Vakarų Vėjai - ECPv6.15.3//NONSGML v1.0//EN
CALSCALE:GREGORIAN
METHOD:PUBLISH
X-WR-CALNAME:Vakarų Vėjai
X-ORIGINAL-URL:https://vakaruvejai.com
X-WR-CALDESC:Vakarų Vėjai renginiai
REFRESH-INTERVAL;VALUE=DURATION:PT1H
X-Robots-Tag:noindex
X-PUBLISHED-TTL:PT1H
BEGIN:VTIMEZONE
TZID:America/Los_Angeles
BEGIN:DAYLIGHT
TZOFFSETFROM:-0800
TZOFFSETTO:-0700
TZNAME:PDT
DTSTART:20210314T100000
END:DAYLIGHT
BEGIN:STANDARD
TZOFFSETFROM:-0700
TZOFFSETTO:-0800
TZNAME:PST
DTSTART:20211107T090000
END:STANDARD
END:VTIMEZONE
BEGIN:VEVENT
DTSTART;TZID=America/Los_Angeles:20211022T173000
DTEND;TZID=America/Los_Angeles:20211022T183000
DTSTAMP:20260423T174719
CREATED:20211019T033244Z
LAST-MODIFIED:20211022T194649Z
UID:18253-1634923800-1634927400@vakaruvejai.com
SUMMARY:SF/LT Happy Hour with Invest Lithuania
DESCRIPTION:EN \nLet’s meet face-to-face at MIKE HESS BREWING on Friday\, October 22nd! \nIt‘s your chance to connect with the team from Invest Lithuania – Vida Saskoniene\, Gintare Baciuliene and Liutauras Zilinskas\, as well as Mantas Zamzickas\, Commercial Attaché of Lithuania to the USA. \nCome\, socialise and get a fresh outlook on what‘s happening in Lithuania‘s tech ecosystem!\nMoreover\, explore real East Bay Area brewing and neighbourhood residential areas with this awesome brewery\, patio\, sometimes live chilled music and more. First come first serve so we need to come earlier before 5:30 pm and grab a few tables\, no limit of the size of the group\, which is rare nowadays. \nLT \nPasimatykime šį penktadienį\, spalio 22 d.\, MIKE HESS BREWING alaus darykloje! \nSusitikime dalyvaus Invest Lithuania atstovai Vida Saskoniene\, Gintare Baciuliene ir Liutauras Zilinskas\, o taip pat – Mantas Zamzickas\, Lietuvos komercijos atašė Jungtinėse Amerikos Valstijose. \nPuiki proga pabendrauti ir kartu sužinoti apie tai\, kas vyksta Lietuvos tech ekosistemoje!\nTaip pat aplankyti East Bay Area alaus daryklėlę bei apylinkes\, paskanauti gardaus alaus\, pabendrauti puikioje kompanijoje! Kadangi stalų rezervacijos nėra („First come first serve”) lauksime tautiečių atvykstant anksčiau ir prašysime pirmųjų atvykusių užimti stalą ar kelis!
URL:https://vakaruvejai.com/renginys/sf-lt-halpy-hour-with-invest-lithuania/
LOCATION:Mike Hess Brewing\, 2313 Oak Grove Rd\, Walnut Creek\, CA\, 94598\, Jungtinės Amerikos Valstijos
CATEGORIES:Lietuviški renginiai,San Franciskas
ATTACH;FMTTYPE=image/jpeg:https://vakaruvejai.com/wp-content/uploads/2021/10/A81E45FF-59A1-4582-A93E-8A6145925D7B.jpeg
END:VEVENT
BEGIN:VEVENT
DTSTART;TZID=America/Los_Angeles:20210421T084500
DTEND;TZID=America/Los_Angeles:20210421T113000
DTSTAMP:20260423T174719
CREATED:20210409T183444Z
LAST-MODIFIED:20210409T185838Z
UID:15887-1618994700-1619004600@vakaruvejai.com
SUMMARY:Connecting Lithuanian professionals across the Atlantic\, Online event
DESCRIPTION:The Online Forum starts the meaningful business dialogue of #globalLithuanianprofessionals on both coasts of the Atlantic.\nThe Forum will feature:\nMinister of Economy and Innovations Aušrinė Armonaitė\, panels on doing business both directions with leaders of @Invest Lithuania and @Enterprise Lithuania\, as well as industry-based direct networking opportunities.\n\nREGISTER to participate – https://bit.ly/31Wzv50\n\nSince pre-pandemic 2019\, the joint venture of state\, non-governmental and business organizations – including but not limited to\n– Global Lithuanian Leaders\,\n– Baltic American Chamber of Commerce\, – Embassy of the Republic of Lithuania in the USA\,\n– Consulate General of Lithuania in Chicago\,\n– Honorary Consul of Lithuania in Philadelphia\,\n– New York Lithuanian Professionals\,\n– Lithuanian American Business Association in Los Angeles\,\n– Lithuanian-American Community\nhave been engaged in building a bridge across the Atlantic for global Lithuanian professionals to connect\, learn subtleties of doing business both directions and start the dialogue for hands-on cooperation.
URL:https://vakaruvejai.com/renginys/connecting-lithuanian-professionals-across-the-atlantic-online-event/
LOCATION:Online event
CATEGORIES:Arizona,Hawaii,Los Andželas,Nevada,Portlandas,San Diego,San Franciskas,Seattle,Virtualus renginys
ATTACH;FMTTYPE=image/jpeg:https://vakaruvejai.com/wp-content/uploads/2021/04/170521514_4408164269211580_8484468938034920572_n.jpg
END:VEVENT
END:VCALENDAR