BEGIN:VCALENDAR
VERSION:2.0
PRODID:-//Vakarų Vėjai - ECPv6.15.3//NONSGML v1.0//EN
CALSCALE:GREGORIAN
METHOD:PUBLISH
X-WR-CALNAME:Vakarų Vėjai
X-ORIGINAL-URL:https://vakaruvejai.com
X-WR-CALDESC:Vakarų Vėjai renginiai
REFRESH-INTERVAL;VALUE=DURATION:PT1H
X-Robots-Tag:noindex
X-PUBLISHED-TTL:PT1H
BEGIN:VTIMEZONE
TZID:America/Los_Angeles
BEGIN:DAYLIGHT
TZOFFSETFROM:-0800
TZOFFSETTO:-0700
TZNAME:PDT
DTSTART:20200308T100000
END:DAYLIGHT
BEGIN:STANDARD
TZOFFSETFROM:-0700
TZOFFSETTO:-0800
TZNAME:PST
DTSTART:20201101T090000
END:STANDARD
BEGIN:DAYLIGHT
TZOFFSETFROM:-0800
TZOFFSETTO:-0700
TZNAME:PDT
DTSTART:20210314T100000
END:DAYLIGHT
BEGIN:STANDARD
TZOFFSETFROM:-0700
TZOFFSETTO:-0800
TZNAME:PST
DTSTART:20211107T090000
END:STANDARD
BEGIN:DAYLIGHT
TZOFFSETFROM:-0800
TZOFFSETTO:-0700
TZNAME:PDT
DTSTART:20220313T100000
END:DAYLIGHT
BEGIN:STANDARD
TZOFFSETFROM:-0700
TZOFFSETTO:-0800
TZNAME:PST
DTSTART:20221106T090000
END:STANDARD
BEGIN:DAYLIGHT
TZOFFSETFROM:-0800
TZOFFSETTO:-0700
TZNAME:PDT
DTSTART:20230312T100000
END:DAYLIGHT
BEGIN:STANDARD
TZOFFSETFROM:-0700
TZOFFSETTO:-0800
TZNAME:PST
DTSTART:20231105T090000
END:STANDARD
BEGIN:DAYLIGHT
TZOFFSETFROM:-0800
TZOFFSETTO:-0700
TZNAME:PDT
DTSTART:20240310T100000
END:DAYLIGHT
BEGIN:STANDARD
TZOFFSETFROM:-0700
TZOFFSETTO:-0800
TZNAME:PST
DTSTART:20241103T090000
END:STANDARD
BEGIN:DAYLIGHT
TZOFFSETFROM:-0800
TZOFFSETTO:-0700
TZNAME:PDT
DTSTART:20250309T100000
END:DAYLIGHT
BEGIN:STANDARD
TZOFFSETFROM:-0700
TZOFFSETTO:-0800
TZNAME:PST
DTSTART:20251102T090000
END:STANDARD
BEGIN:DAYLIGHT
TZOFFSETFROM:-0800
TZOFFSETTO:-0700
TZNAME:PDT
DTSTART:20260308T100000
END:DAYLIGHT
BEGIN:STANDARD
TZOFFSETFROM:-0700
TZOFFSETTO:-0800
TZNAME:PST
DTSTART:20261101T090000
END:STANDARD
END:VTIMEZONE
BEGIN:VEVENT
DTSTART;TZID=America/Los_Angeles:20260328T100000
DTEND;TZID=America/Los_Angeles:20260328T160000
DTSTAMP:20260423T131428
CREATED:20260117T070950Z
LAST-MODIFIED:20260117T070950Z
UID:30337-1774692000-1774713600@vakaruvejai.com
SUMMARY:"Žalieji" Los Verdes Golf Tournament\, Los Andželas
DESCRIPTION:Enjoy a day of golf on our favorite golf course on top of the Pacific Ocean. Join Lithuanians young and old\, from near and far\, as we tee it up and challenge the golf course and ourselves to have the best game and the most fun. \nEveryone has to have their own golf bag and set of golf clubs (rentals available.) Your entry fee includes: \n\nOne bucket of practice range balls\nGreens fees for 18 holes\nShared cart\, 2 players per cart\nContest markers — Longest Drive\, Closest-to-the-Pin\n\n„Early Eagle” special: $110 for entries received by Friday 2/13/2026. \n„Early Birdie” special: $115 for entries received by Friday 2/27/2026. \nRegular Registration: $120 for entries received by Friday\, 3/13/2026. \nOur guaranteed Player Count & Remaining Balance is Due (14) Days Prior – 3/14/2026. \nPlease make checks payable to „CLGC” and mail to: \nLinas Vitkus\nTournament Director\n1741 Chelsea Rd.\nPalos Verdes Estates\, CA 90274 \nlvitkus@twininginc.com 562.544.8406 (M) \nPay direct into our California Lithuanian Credit Union\, where you can enjoy high savings rates and low interest loans. Los Verdes 2026 registrations can be electronically deposited into our California Lithuanian Credit Union Account: \nCalifornia Lithuanian CU Routing #322282386 CLCU Account #2163 \nHelp us invite Lithuanian Golfers in Southern California\, the United States and from around the world. Please forward this invitation to your friends and family to join us as we celebrate 42 years of fun and golf. \nAciu\, Sveiks\, Valio! \nVincas Bernota\nPresident\nCalifornia Lithuanian Golf Club\n(310) 968-4494 vincentbernota@yahoo.com
URL:https://vakaruvejai.com/renginys/zalieji-los-verdes-golf-tournament-los-andzelas-3/
LOCATION:Los Verdes Golf Course\, 7000 Los Verdes Dr\, Rancho Palos Verdes\, CA\, 90274
CATEGORIES:Lietuviški renginiai,Los Andželas
ATTACH;FMTTYPE=image/png:https://vakaruvejai.com/wp-content/uploads/2026/01/Screenshot-2026-01-16-at-11.07.45-PM.png
END:VEVENT
BEGIN:VEVENT
DTSTART;TZID=America/Los_Angeles:20251010T094500
DTEND;TZID=America/Los_Angeles:20251010T150000
DTSTAMP:20260423T131428
CREATED:20250802T025019Z
LAST-MODIFIED:20250802T025019Z
UID:29517-1760089500-1760108400@vakaruvejai.com
SUMMARY:CLGC Lithuanian Days Open XXVIII Tournament\, Los Andželas
DESCRIPTION:California Lithuanian Golf Club presents: \nLithuanian Days Open 28! \nFriday\, October 10\, 2025 \n9:45 am: CLGC group picture (Dress to impress!)\n10:00 am: First tee time.  Register as a single\, invite a friend\, sign up a full foursome\, all are welcome! \nRancho Park Golf Course\n10460 W. Pico Blvd.\nLos Angeles\, CA 90064 \nWelcome to our kickoff of the most Lithuanian weekend of the year\, Lithuanian Days 39!\nContinue reading for registration details. \nWelcome to Rancho Park Golf Club\, once the site of the PGA’s U.S. Open and easily one of the best municipals in Los Angeles.  Harzards are sand-guarded greens\, and an often disorienting hill terrain! This is a very popular course\, so you are in for a treat to challenge yourself with a fun game of golf.  Join us to kick off the most Lithuanian weekend of the year:  Los Angeles Lithuanian Fair October 11-12\, 2025. \n„Early Eagle” registration for entries received by 8/28/2025:  $80 (includes greens fee\, shared cart plus $5 donation to Saint Casimir’s Lithuanian Saturday School.) \n„Early Birdie” registration for entries received by 9/11/2025:  $85 (includes greens fee\, shared cart plus $10 donation to Saint Casimir’s Lithuanian Saturday School.) \nRegular registration for entries received by 9/25/2025:  $90 (includes greens fee\, shared cart plus $15 donation to Saint Casimir’s Lithuanian Saturday School.) \nPlease make checks payable to „CLGC” and mail to Tournament Director: \nVincas Bernota\n943 6th Street\nApartment I\nSanta Monica\, CA 90403-2720 \nPay electronically directly into our California Lithuanian Credit Union (where you can enjoy high interest savings and low interest loans) account:  Routing #322282386  CLCU account #2163. \nOnce you dance on the golf course\, you can dance anywhere!  Sveiks\, valio! \nVincas Bernota\nPresident\nCalifornia Lithuanian Golf Club
URL:https://vakaruvejai.com/renginys/clgc-lithuanian-days-open-xxviii-tournament-los-andzelas/
LOCATION:Rancho Park Golf Course\, 10460 W. Pico Blvd\, Los Angeles\, CA\, 90064
CATEGORIES:Lietuviški renginiai,Los Andželas
ATTACH;FMTTYPE=image/png:https://vakaruvejai.com/wp-content/uploads/2025/08/Screen-Shot-2025-08-01-at-7.27.05-PM.png
END:VEVENT
BEGIN:VEVENT
DTSTART;TZID=America/Los_Angeles:20250315T100000
DTEND;TZID=America/Los_Angeles:20250315T130000
DTSTAMP:20260423T131428
CREATED:20250214T163212Z
LAST-MODIFIED:20250214T163212Z
UID:28395-1742032800-1742043600@vakaruvejai.com
SUMMARY:"Žalieji" Los Verdes Golf Tournament\, Los Andželas
DESCRIPTION:Enjoy a day of golf on our favorite golf course on top of the Pacific Ocean. Join Lithuanians young and old\, from near and far\, as we tee it up and challenge the golf course and ourselves to have the best game and the most fun.\nEveryone has to have their own golf bag and set of golf clubs (rentals available.)  Your entry fee includes: \n\nOne bucket of practice range balls\n18 holes greens fees\nShared cart\, 2 players per cart\nContest markers — Longest Drive\, Closest-to-the-Pin\, Straightest Drive\n\n„Early Eagle” special:  $106 for entries received by Friday\, January 31\, 2025.\nJuniors (9 to 30) and women pay only $86.\n„Early Birdie” special:  $111 for entries received by Friday\, February 14\, 2025.\nHappy Valentine’s Day!  Juniors (9 to 30) and women pay only $91.\nRegular Registration:  $116 for entries received by Friday\, February 28\, 2025.\nJuniors (9 to 30) and women pay only $96.\nPlease make checks payable to „CLGC” and mail to:\nLinas Vitkus\nTournament Director\n1741 Chelsea Rd.\nPalos Verdes Estates\, CA 90274\nYou can also pay electronically direct into our California Lithuanian Credit Union\, where you can enjoy high savings rates and low interest loans.  Los Verdes 2025 registrations can make electronic deposits directly into our California Lithuanian Credit Union account: \nCalifornia Lithuanian CU Routing #322282386\nCLCU Account #2163. \nPlease help us reach Lithuanian golf enthusiasts in Southern California\, the United States and around the world.  Please forward this invitation to your friends and family and let’s get this party started!\nAciu\,\nVincas Bernota\nPresidentas\nCalifornia Lithuanian Golf Club\n(310) 968-4494\nvincentbernota@yahoo.com
URL:https://vakaruvejai.com/renginys/zalieji-los-verdes-golf-tournament-los-andzelas-2/
LOCATION:Los Verdes Golf Course\, 7000 Los Verdes Dr\, Rancho Palos Verdes\, CA\, 90274
CATEGORIES:Los Andželas
ATTACH;FMTTYPE=image/png:https://vakaruvejai.com/wp-content/uploads/2025/02/Screen-Shot-2025-02-14-at-8.26.26-AM.png
END:VEVENT
BEGIN:VEVENT
DTSTART;TZID=America/Los_Angeles:20240316T100000
DTEND;TZID=America/Los_Angeles:20240316T150000
DTSTAMP:20260423T131428
CREATED:20240127T051822Z
LAST-MODIFIED:20240127T051822Z
UID:25902-1710583200-1710601200@vakaruvejai.com
SUMMARY:"Žalieji" Los Verdes Golf Tournament\, Los Andželas
DESCRIPTION:⛳️  Laimingu Nauju Metu 2024! ⛳️\nHappy New Year!\nCalifornia Lithuanian Golf Club presents: \n„Žalieji” Los Verdes Golf Tournament\nSaturday\, March 16\, 2024\n10:00 a.m.\n(please check in with tournament director by 9:30 a.m. for 9:45 a.m. group picture.) \nRead on for more details & how to register. \nLos Verdes Golf Course\n7000 Los Verdes Dr\nRancho Palos Verdes\, CA 90275\nhttps://parks.lacounty.gov/los-verdes-golf-course/\nGolf shop (310) 377-7888 \nStraight Tee Package \nOur group agrees to keep pace of play at no more than 4 and 1/2 hours.\nFoursomes only: Five-somes and Three-somes not permitted. No Spectators. Everyone has to have their golf bag and set of clubs (rentals available.) \nYour entry fee includes: \n\nPractice range balls — one bucket per player\nGreens fees — 18 holes\nCart fees — 2 players per cart\n\nContest markers — Longest Drive\, Closest-to-the-Pin\, Straightest Drive \n„Early eagle” special $101 (for entries received by Friday\, 2/2/2024.) \n„Early birdie” special $106 (for entries received by Friday\, 2/16/2024.) \nRegular registration $111 (for entries received by Friday\, 3/1/2024.) \nGuaranteed guest count due Saturday\, 3/2/2024 — no exceptions. \nPlease make checks payable to „CLGC” and mail to: \nLinas Vitkus\nTournament Director\n1741 Chelsea Rd.\nPalos Verdes Estates\, CA 90274\nYou can also pay electronically direct into our California Lithuanian Credit Union account: \nCalifornia Lithuanian CU\nRouting # 322282386\nCLCU account #2163 \nPlease forward this invitation to your Golfer and Lithuanian Friends to celebrate our 19th hole on the Los Verdes outdoor patio as we toast our CLGC 40 year anniversary. \nAciu\, \nVincas Bernota\nPresident\nCalifornia Lithuanian Golf Club\nvincentbernota@yahoo.com\n(310) 968-4494 (Cell)\nP.S.  Please forward this invitation to all of your Golfer and Lithuanian Friends. The more the merrier!\nP.P.S. Check out our California Lithuanian Golf Club Facebook page for news and updates. \nSveiks\, valio! ⛳️
URL:https://vakaruvejai.com/renginys/zalieji-los-verdes-golf-tournament-los-andzelas/
LOCATION:Los Verdes Golf Course\, 7000 Los Verdes Dr\, Rancho Palos Verdes\, CA\, 90274
CATEGORIES:Lietuviški renginiai,Los Andželas
ATTACH;FMTTYPE=image/png:https://vakaruvejai.com/wp-content/uploads/2024/01/Screen-Shot-2024-01-26-at-9.14.26-PM.png
END:VEVENT
BEGIN:VEVENT
DTSTART;TZID=America/Los_Angeles:20231006T110000
DTEND;TZID=America/Los_Angeles:20231006T150000
DTSTAMP:20260423T131428
CREATED:20230825T180454Z
LAST-MODIFIED:20230825T180454Z
UID:25115-1696590000-1696604400@vakaruvejai.com
SUMMARY:CLGC Lithuanian Days Open XXVI Tournament\, Los Andželas
DESCRIPTION:Welcome to our kickoff of the most Lithuanian weekend of the year\, Lithuanian Days XXXVII!\nContinue reading for registration details. \nYour tournament package includes: \n\nGreens Fee\nCart Fee (2 power golf carts per group)\n\nKalbekime Lietuviskai!  Your entry includes a nominal\, progressive donation to Saint Casimir’s Lithuanian Saturday School. \nAlthough golf has been played in Griffith Park for 100 years\, Wilson opened in 1927.  Wilson is one of the largest Los Angeles City Courses at over 7000 yards from the tips. (No worries\, men will tee off from the white tees\, ladies from the red tees.) This mature golf course will test even the most experienced golfer with its beautiful layout\, mildly sloping fairways and forested setting in the heart of renowned Griffith Park. Come celebrate and enjoy our 19th hole on location in a brand new full service restaurant. \n„Early Eagle” Special:  $75 for entries received by tournament director by 9/07/2023. \n„Early Birdie” Special”:  $80 for entries received by tournament director by 9/14/2023. \nRegular registration:  $85 for entries received by tournament director by 9/21/2023. \nPlease send your checks payable to „CLGC” to tournament director: \nVincent Bernota\n943 6th Street\nApartment I\nSanta Monica\, CA 90403-2720 \nYou can also pay electronically direct into our California Lithuanian Credit Union account: \nCalifornia Lithuanian CU\nRouting # 322282386\nCLCU account #2163 \nFriends and families are invited to join our 19th hole in the new Griffith Park restaurant as we celebrate a successful golf tournament and look forward to Lietuviu Dienos XXXVII.  Sveiks\, valio! \nAciu\, \nVincas Bernota\nPresident\nCalifornia Lithuanian Golf Club\nvincentbernota@yahoo.com\n(310) 968-4494
URL:https://vakaruvejai.com/renginys/clgc-lithuanian-days-open-xxvi-tournament-los-andzelas/
LOCATION:Wilson Golf Course Griffith Park\, 4730 Crystal Springs Drive\, Los Angeles\, CA\, 90027
CATEGORIES:Lietuviški renginiai,Los Andželas
ATTACH;FMTTYPE=image/png:https://vakaruvejai.com/wp-content/uploads/2023/08/Screen-Shot-2023-08-25-at-10.51.12-AM.png
END:VEVENT
BEGIN:VEVENT
DTSTART;TZID=America/Los_Angeles:20230318T120000
DTEND;TZID=America/Los_Angeles:20230318T170000
DTSTAMP:20260423T131428
CREATED:20230128T011842Z
LAST-MODIFIED:20230128T011842Z
UID:23591-1679140800-1679158800@vakaruvejai.com
SUMMARY:"Žalieji" Los Verdes Golf Tournament\, Rancho Palos Verdes\, CA
DESCRIPTION:Invite a guest or register as a single to play golf and WIN special team prizes. \nAWESOME 11:00 am starting time @ Los Verdes\, a Billy Bell designed course that offers the BEST views in the entire state of CALIFORNIA.  The nearby ocean makes putting a challenge on almost every hole.  WIN CLGC low putts contest!  Closest-to-the-pin contests on par 3’s.  Best golf „ANIMAL” swing wins long drive contest!\n„Early eagle” special (received by 2/3):  $90 to ride (includes greens fees\, shared power cart\, complimentary bucket of practice golf balls) for entries received by tournament director by 2/3/2023. \n„Early birdie” special (received by 2/17): $95 to ride (includes all the above amenitTEES) for entries received by tournament director by 2/17/2023.\nRegular registration (received by 3/3):  $100 to ride (includes all the above ameniTEES) for entries received by tournament director by 3/3/2023.\n*Guaranteed guest count is due Fifteen (15) days prior to the event.*\nPlease make checks payable to „CLGC” and mail to:\nLinas Vitkus\nTournament Director\n1741 Chelsea Rd.\nPalos Verdes Estates\, CA 90274\nFriends and relatives are invited to CELEBRATE our 19th hole on the Los Verdes outdoor patio as we toast another CLASSIC CLGC golf outing. Vote on „Best Dressed Golfer!” prize!\nAciu\,\nVincas Bernota\nPresident\nCalifornia Lithuanian Golf Club\nvincentbernota@yahoo.com\n(310) 968-4494 (Cell)\nP.S.  Please forward this invitation to all of your Golfer and Lithuanian Friends. The more the merrier!\nP.P.S. Check out our California Lithuanian Golf Club Facebook page for news and updates. \nSveiks\, valio! ⛳️
URL:https://vakaruvejai.com/renginys/zalieji-los-verdes-golf-tournament-rancho-palos-verdes-ca/
LOCATION:Los Verdes Golf Course\, 7000 Los Verdes Dr\, Rancho Palos Verdes\, CA\, 90274
CATEGORIES:Lietuviški renginiai,Los Andželas
ATTACH;FMTTYPE=image/png:https://vakaruvejai.com/wp-content/uploads/2023/01/Screen-Shot-2023-01-27-at-5.13.51-PM.png
END:VEVENT
BEGIN:VEVENT
DTSTART;TZID=America/Los_Angeles:20220930T090000
DTEND;TZID=America/Los_Angeles:20220930T150000
DTSTAMP:20260423T131428
CREATED:20220518T070959Z
LAST-MODIFIED:20220902T032412Z
UID:21485-1664528400-1664550000@vakaruvejai.com
SUMMARY:California Lithuanian Golf Club presents: Lithuanian Days Open XXV\, Los Andželas
DESCRIPTION:California Lithuanian Golf Club presents: \nLithuanian Days Open XXV \n9:00 am\nFriday\, September 30th\, 2022 \nDeBell Golf Club \n1500 Walnut Avenue\nBurbank\, CA 91501 \nWelcome to our official kickoff of the most Lithuanian weekend of the year\, Lithuanian Days Open XXV. Continue reading for registration details. \n9:00AM\nDeBell Golf Club\n1500  Walnut Avenue \nBurbank\, CA 91501\nhttps://www.debellgolf.com/golf-course/rates\nGolf shop (818) 845-0022 \nYour tournament package includes: \n\nGreens Fee\nCart Fee (2 power golf carts per group)\nUse of Practice Facility @ 9am (1) hour prior to start\n1 small bucket of range balls included per player.\nNEW: Complimentary California Lithuanian Golf Club Golf Shirt! (Please include your golf shirt size and register by Sunday\, 8/28/2022 to guarantee we order your correct size.)\n\nKalbekime Lietuviskai!  Your entry includes a nominal\, progressive donation to Saint Casimir’s Lithuanian Saturday School. \n„Early Birdie” Special! $70 for entries received by tournament director by 9/8/2022.\nRegular Registration: $75 for entries received by tournament director by 9/22/2022. \nPlease send your checks payable to „CLGC” to tournament director: \nKaris Petrulis\n744 N. Valley St.\nBurbank  CA  91505\nkpetrulis@rmkdirect.com\n626-833-2203 \nYou can also pay electronically direct into our California Lithuanian Credit Union account:\nCalifornia Lithuanian Credit Union (CLCU)\nRouting # 322282386\nCLCU account #2163 \n19th Hole:\nOver/Under Public House\n310 N. San Fernando Blvd.\nBurbank\, CA 91502\n(818) 237-9186 \nFriends and family are invited to the Happiest Happy Hour in Burbank. Join us from 2-6 pm on Friday\, September 30\, 2022 as we celebrate a successful golf tournament and Lietuviu Dienos 2022! Sveiks\, valio! \nAčiū\,\nVincas Bernota\nPresident\nCalifornia Lithuanian Golf Club\nvincentbernota@yahoo.com\n310-968-4494
URL:https://vakaruvejai.com/renginys/california-lithuanian-golf-club-presents-lithuanian-days-open-xxv-los-andzelas/
LOCATION:DeBell Golf Club\, 1500  Walnut Avenue \, Burbank\, CA\, 91501
CATEGORIES:Lietuviški renginiai,Los Andželas
ATTACH;FMTTYPE=image/jpeg:https://vakaruvejai.com/wp-content/uploads/2022/05/67AB6647-1B6C-4F45-B752-4DB711025153.jpeg
END:VEVENT
BEGIN:VEVENT
DTSTART;TZID=America/Los_Angeles:20220326T120000
DTEND;TZID=America/Los_Angeles:20220326T150000
DTSTAMP:20260423T131428
CREATED:20220211T194230Z
LAST-MODIFIED:20220305T233639Z
UID:19924-1648296000-1648306800@vakaruvejai.com
SUMMARY:California Lithuanian Golf Club presents "Žalieji" Golf Tournament\, Rancho Palos Verdes
DESCRIPTION:California Lithuanian Golf Club presents: \n„Žalieji” Los Verdes Golf Tournament\nSaturday\, March 26th\, 2022 @ 12:00 Noon\n(Check in with tournament director by 11:30 am\, group picture @ 11:45 am.) \n❤️ Tournament will be held in memory of former CLGC President Rita Dicius-Tumas ❤️ \nWe will vote on „Best Dressed Golfer” at the 19th hole\, so dress to impress! \n⛳️ Read on for more details & how to register ⛳️ \nInvite a guest or register as a single to play golf and WIN special team prizes. \nAWESOME 12:00 noon starting time @ Los Verdes\, a Billy Bell designed course that offers the BEST views in the entire state of CALIFORNIA.  The nearby ocean makes putting a challenge on almost every hole.  WIN CLGC low putts contest!  Closest-to-the-pin contests on par 3’s.  Best golf „ANIMAL” swing wins long drive contest! \nAlso\, a big „Ačiū!” to Laima Zilinskas and Susie Cakes Bakery in Manhattan Beach for donating delicious and healthy surprises and treats to kick off our CLGC golf tournament. 😋 🧁 ❤️\n⛳️ „Early birdie” special (received by 3/10/2022): $90 to ride (includes all the above amenitTEES) for entries received by tournament director by 3/10/2022.\nRegular registration (received by 3/12/2022):  $95 to ride (includes all the above ameniTEES) for entries received by tournament director by 3/12/2022.\n*Guaranteed guest count is due Fifteen (15) days prior to the event.*\nPlease make checks payable to „CLGC” and mail to:\nLinas Vitkus\nTournament Director\n1741 Chelsea Rd.\nRancho Palos Verdes\, CA 90274\nFriends and relatives are invited to CELEBRATE our 19th hole on the Los Verdes outdoor patio as we toast another CLASSIC CLGC golf outing. Vote on „Best Dressed Golfer!” prize! \nAčiū\, \nVincas Bernota\nPresident\nCalifornia Lithuanian Golf Club\nvincentbernota@yahoo.com\n(310) 968-4494 (Cell)\nCheck out our California Lithuanian Golf Club Facebook page for news and updates. \nSveiks\, valio! ⛳️
URL:https://vakaruvejai.com/renginys/california-lithuanian-golf-club-presents-zalieji-golf-tournament-rancho-palos-verdes/
LOCATION:Los Verdes Golf Course\, 7000 Los Verdes Dr\, Rancho Palos Verdes\, CA\, 90274
CATEGORIES:Lietuviški renginiai,Los Andželas
ATTACH;FMTTYPE=image/jpeg:https://vakaruvejai.com/wp-content/uploads/2022/02/273703275_4787586177945647_2491565348428324839_n.jpg
END:VEVENT
BEGIN:VEVENT
DTSTART;TZID=America/Los_Angeles:20211001T100000
DTEND;TZID=America/Los_Angeles:20211001T140000
DTSTAMP:20260423T131428
CREATED:20210827T202703Z
LAST-MODIFIED:20210827T202703Z
UID:17581-1633082400-1633096800@vakaruvejai.com
SUMMARY:California Lithuanian Golf Club presents:  Lithuanian Days Open XXIV!
DESCRIPTION:Ladies and gentlemen\,\n\nTee it up @ Wilson Golf Course\, Griffith Park for Lithuanian Days Open XXIV.\n\nPlease join us at 10:00 am on Friday\, October 1\, 2021 as we kick off the most Lithuanian weekend of the year\, Lithuanian Days 2021.\n(Photo Op!  Group picture @ 9:45 am.)\n\nWilson Golf Course Griffith Park\n4730 Crystal Springs Drive\nLos Angeles\, California 90027\nGolf shop: (323) 663-2555\n\n„Early Eagle” Special — for entries received by 9/03/21: $70 (includes greens fees\, shared cart and Lithuanian Children’s Hope donation.)\n\n„Early Birdie” Special — for entries received by 9/10/21: $75 (includes greens fees\, shared cart and Lithuanian Children’s Hope donation.)\n\nRegular registration — for entries received by 9/17/21: $80 (includes greens fees\, shared cart and Lithuanian Children’s Hope donation.)\n\nSpecial Junior Discount Rate for players aged 8 to 28: „Early eagle” $62\, „Early birdie” $67\, Regular registration $72.\n\nPlease make checks payable to „CLGC” and mail to tournament director:\n\nVincent Bernota\n943 6th Street Apartment I\nSanta Monica\, CA 90403-2720\nvincentbernota@yahoo.com\n(310) 968-4494\n\nWe are honored to support Lithuanian Children’s Hope with a nominal donation included in your Lithuanian Days Open golf tournament registration.\n\nThe main goal of Lithuanian Children’s Hope is to provide heretofore unavailable specialized medical aid to the children of Lithuania.  Children with severe medical problems who cannot be helped in Lithuania are brought to the United States for treatment.  Assistance to medical institutions in Lithuania is provided through medical equipment\, internships\, visits from U.S. medical professionals and the remodeling aging hospitals and medical facilities.\n\nLithuanian Children’s Hope Kontaktai/Contact:\n\nRasa Šilkaitis\, Pirmininkė/President\nrasa.silkaitis@gmail.com\n\nIf you would like to sponsor a closest-to-the-pin contest or make a donation to benefit Lithuanian Children’s Hope\, please contact Vincas Bernota at vincentbernota@yahoo.com.  Ačiū\, Sveiks\, Valio!\n\nWe are putting together a new CLGC email list with exclusive invitations and prizes. Please forward this announcement to your Lithuanian friends and family to join the New California Lithuanian Golf Club!\n\nVincas Bernota
URL:https://vakaruvejai.com/renginys/california-lithuanian-golf-club-presents-lithuanian-days-open-xxiv/
LOCATION:Wilson Golf Course Griffith Park\, 4730 Crystal Springs Drive\, Los Angeles\, CA\, 90027
CATEGORIES:Los Andželas
ATTACH;FMTTYPE=image/jpeg:https://vakaruvejai.com/wp-content/uploads/2021/08/52708508_2059870450717247_7189258027772411904_n.jpg
END:VEVENT
BEGIN:VEVENT
DTSTART;TZID=America/Los_Angeles:20201002T090000
DTEND;TZID=America/Los_Angeles:20201002T130000
DTSTAMP:20260423T131428
CREATED:20200826T190923Z
LAST-MODIFIED:20200917T184840Z
UID:13503-1601629200-1601643600@vakaruvejai.com
SUMMARY:"Lakewood Days" Jonas Talandis Open 2020 golf tournament
DESCRIPTION:Please join us at 9:00 am\, Friday\, October\, 2\, 2020 check in\, group picture @ 9:30 am\, first tee time @ 10:00 am.\n\nWhere:\nLakewood Country Club\n3101 Carson Street\nLakewood\, CA 90712\n\nLakewood CC is a 1933 design with many mature tree lined fairways\, water in play on 5 plus holes\, long par 3’s and 4’s from the blue tees\, and fair in length from the white tees.  (From which luckily enough we will play from in the tournament… )\n\nTwo closest-to-the-pin contests #3 and #12.\n\nTwo longest drive contests #9 and #14 (you have to be in the fairway to win.)\n\nRegistration details:\n\nRegular registration: $70 for entries received by 9/18/2020.  We have to pay the golf course in full on Friday\, 9/19/2020.\n\nAll entries included a nominal\, progressive donation to Los Angeles Sv. Kazimiero Lituanistines Mokyklos.  Dekui!\n\nPlease make your check payable to „CLGC” and mail to tournament director with your foursome preferences if you wish or we will pair you up accordingly:\n\nTomas Balchas\nTournament director\n11073 Gonsalves Place\nCerritos\, CA 90703-6444\ntvbsing@yahoo.com\n\nVincas Bernota\nPresident\nCalifornia Lithuanian Golf Club\n943 6th Street Apt. I\nSanta Monica\, CA 90403-2720\nvincentbernota@yahoo.com\n(310) 395-1528 (H)\n(310) 968-4494 (C)
URL:https://vakaruvejai.com/renginys/lakewood-days-jonas-talandis-open-2020-golf-tournament/
LOCATION:Lakewood Country Club\, 3101 Carson Street\, Lakewood\, CA\, 90712\, Jungtinės Amerikos Valstijos
CATEGORIES:Los Andželas
ATTACH;FMTTYPE=image/jpeg:https://vakaruvejai.com/wp-content/uploads/2020/08/117755825_3154860747884873_3095855763265185936_n.jpg
END:VEVENT
END:VCALENDAR