BEGIN:VCALENDAR
VERSION:2.0
PRODID:-//Vakarų Vėjai - ECPv6.15.3//NONSGML v1.0//EN
CALSCALE:GREGORIAN
METHOD:PUBLISH
X-WR-CALNAME:Vakarų Vėjai
X-ORIGINAL-URL:https://vakaruvejai.com
X-WR-CALDESC:Vakarų Vėjai renginiai
REFRESH-INTERVAL;VALUE=DURATION:PT1H
X-Robots-Tag:noindex
X-PUBLISHED-TTL:PT1H
BEGIN:VTIMEZONE
TZID:America/Los_Angeles
BEGIN:DAYLIGHT
TZOFFSETFROM:-0800
TZOFFSETTO:-0700
TZNAME:PDT
DTSTART:20200308T100000
END:DAYLIGHT
BEGIN:STANDARD
TZOFFSETFROM:-0700
TZOFFSETTO:-0800
TZNAME:PST
DTSTART:20201101T090000
END:STANDARD
END:VTIMEZONE
BEGIN:VEVENT
DTSTART;TZID=America/Los_Angeles:20200201T170000
DTEND;TZID=America/Los_Angeles:20200201T200000
DTSTAMP:20260423T204026
CREATED:20200113T083441Z
LAST-MODIFIED:20200113T083951Z
UID:10897-1580576400-1580587200@vakaruvejai.com
SUMMARY:Pasaulio cepelinų diena/ World Zep day\, Portland
DESCRIPTION:Mieli bendruomenės nariai\,  \nNuoširdžiai kviečiame visus paminėti pasaulio cepelinų dieną kartu. \nBendruomenės šeimininkėlės vaišins cepelinais su mėsa ir su varške. Tad kviečiame nepasididžiuoti atvykti ragauti cepelinų\, pabendrauti\, padainuoti\, na ir gerai praleisti laiką. Atsineškite savo dainynus.  \nPrašome pranešti apie atvykimą text: 360-904-4032\, ar e-mail info@portlandlithuanians.com \nSiūloma auka bendruomenės nariams $10\, vaikams $5. Surinktos aukos bus panaudotos ateities renginiams. \n* * * * * \nDear community members\,  \nWe cordially invite everyone to celebrate World Zeppelin Day. \nHostesses of the community will serve zeppelins with meat and curd. So we invite you to come\, taste zeppelins and have a great time. \nPlease let us know if you plan to attend by text 360-904-4032 or e-mail info@portlandlithuanians.com \nSuggested $10 donation for adult and $5 for a child. Collected donations will be used towards future events.
URL:https://vakaruvejai.com/renginys/pasaulio-cepelinu-diena-world-zep-day-portland/
LOCATION:3744 NW 19th Cir\, 3744 NW 19th Cir\, Camas\, Camas\, WA\, 98607-5008\, United States
CATEGORIES:Lietuviški renginiai,Portlandas
ATTACH;FMTTYPE=image/jpeg:https://vakaruvejai.com/wp-content/uploads/2020/01/Cepelinai.jpg
END:VEVENT
END:VCALENDAR