BEGIN:VCALENDAR
VERSION:2.0
PRODID:-//Vakarų Vėjai - ECPv6.15.3//NONSGML v1.0//EN
CALSCALE:GREGORIAN
METHOD:PUBLISH
X-ORIGINAL-URL:https://vakaruvejai.com
X-WR-CALDESC:Vakarų Vėjai renginiai
REFRESH-INTERVAL;VALUE=DURATION:PT1H
X-Robots-Tag:noindex
X-PUBLISHED-TTL:PT1H
BEGIN:VTIMEZONE
TZID:America/Los_Angeles
BEGIN:DAYLIGHT
TZOFFSETFROM:-0800
TZOFFSETTO:-0700
TZNAME:PDT
DTSTART:20250309T100000
END:DAYLIGHT
BEGIN:STANDARD
TZOFFSETFROM:-0700
TZOFFSETTO:-0800
TZNAME:PST
DTSTART:20251102T090000
END:STANDARD
END:VTIMEZONE
BEGIN:VEVENT
DTSTART;TZID=America/Los_Angeles:20250607T150000
DTEND;TZID=America/Los_Angeles:20250607T170000
DTSTAMP:20260423T161915
CREATED:20250510T001047Z
LAST-MODIFIED:20250524T123154Z
UID:29036-1749308400-1749315600@vakaruvejai.com
SUMMARY:Choro "Ūkanos" paramos koncertas\, San Franciskas
DESCRIPTION:Mieli tautiečiai\,\nNuoširdžiai kviečiame Jus į choro Ūkana koncertą\, kurio metu pristatysime dainas\, kurias ruošiame Šiaurės Amerikos lietuvių dainų šventei Klivlende. \nŠis koncertas – tai ne tik proga pasiklausyti gyvai atliekamos lietuviškos muzikos\, bet ir paramos vakaras\, padėsiantis mums padengti choro veiklos išlaidas: patalpų nuomą\, akompaniatoriaus darbą ir pasiruošimą svarbiausiems kultūriniams renginiams. \nKviečiame Jus atvykti\, pabūti kartu ir prisidėti prie lietuviškos kultūros puoselėjimo San Francisko įlankos regione. \nKiekvieno jūsų palaikymas mums labai svarbus! \nKUR: Latvian Hall\, 425 Hoffman Ave\, San Francisco\nKADA: 06.07 3 – 5 PM \nJeigu norite prisidėti prie choro veiklos finansiškai\, bet negalite sudalyvauti renginyje\,\ngalite paaukoti internetu:\nhttps://paypal.me/VanesaK?country.x=US&locale.x=en_US \nSu meile ir muzika\,\nSF Bay Area lietuvių choras Ūkana
URL:https://vakaruvejai.com/renginys/choro-ukanos-paramos-koncertas-san-franciskas/
LOCATION:Latvian Hall San Francisco\, 425 Hoffman Ave.\, San Francisco\, CA\, 94114\, United States
CATEGORIES:Lietuviški renginiai,San Franciskas
ATTACH;FMTTYPE=image/png:https://vakaruvejai.com/wp-content/uploads/2025/05/Screen-Shot-2025-05-24-at-5.30.22-AM.png
END:VEVENT
END:VCALENDAR