BEGIN:VCALENDAR
VERSION:2.0
PRODID:-//Vakarų Vėjai - ECPv6.15.3//NONSGML v1.0//EN
CALSCALE:GREGORIAN
METHOD:PUBLISH
X-WR-CALNAME:Vakarų Vėjai
X-ORIGINAL-URL:https://vakaruvejai.com
X-WR-CALDESC:Vakarų Vėjai renginiai
REFRESH-INTERVAL;VALUE=DURATION:PT1H
X-Robots-Tag:noindex
X-PUBLISHED-TTL:PT1H
BEGIN:VTIMEZONE
TZID:America/Los_Angeles
BEGIN:DAYLIGHT
TZOFFSETFROM:-0800
TZOFFSETTO:-0700
TZNAME:PDT
DTSTART:20210314T100000
END:DAYLIGHT
BEGIN:STANDARD
TZOFFSETFROM:-0700
TZOFFSETTO:-0800
TZNAME:PST
DTSTART:20211107T090000
END:STANDARD
BEGIN:DAYLIGHT
TZOFFSETFROM:-0800
TZOFFSETTO:-0700
TZNAME:PDT
DTSTART:20220313T100000
END:DAYLIGHT
BEGIN:STANDARD
TZOFFSETFROM:-0700
TZOFFSETTO:-0800
TZNAME:PST
DTSTART:20221106T090000
END:STANDARD
END:VTIMEZONE
BEGIN:VEVENT
DTSTART;VALUE=DATE:20221204
DTEND;VALUE=DATE:20221206
DTSTAMP:20260423T164301
CREATED:20221103T023539Z
LAST-MODIFIED:20221103T044514Z
UID:22893-1670112000-1670284799@vakaruvejai.com
SUMMARY:Annual Latvian Christmas Bazaar & Craft Fair & Bake Sale\, Portland\, OR
DESCRIPTION:All are invited to an annual Latvian Christmas Holliday Market.\n\nWhen: November 4th & 5th.  \n10 am to 6 pm on Friday.  \n10 am to 4 pm on Saturday.  \n \n\nWhere: Latvian Community Center (off Beaverton-Hillsdale Hwy). \n5500 SW Dosch Road \nPortland\, Oregon 97239. \n\nFree admission. Free parking.   \n\n \nOur annual Holiday Market is a great place to learn about the people of Latvia\, Lithuania and Estonia\, in Northeastern Europe. See traditional handmade Baltic designs in art\, jewelry\, glass\, ceramics\, weavings\, clothing and accessories ~ many created by local Pacific NW artists\, crafters\, artisans and bakers.  Traditional „pīrāgi”\, rye bread\, Christmas cookies\, sweet and savory pastries — enjoy them while you shop\, or take them home!  \n \nHot lunch\, coffee & tea available from 11am. Eat-in or Take-out!  \n \nEstonian entertainment on Saturday at 12 noon!  \n \nEuropean pastries\, cookies\, cakes. \nSilver & copper & amber jewelry. \nLinen\, cotton\, wool weavings. \nLatvian traditional folk art. \nLithuanian crafts & deli. \nUkrainian eggs. \nGrab-bags!! \nGreeting cards. \nChristmas decor. \nOrganic soy candles. \nChristmas ornaments. \nKnitting & crocheting. \nHandwoven table linens. \nHandcrafted wood carvings. \nLatvian straw ornaments. \nMittens\, gloves & socks. \nRunners & table cloths. \nHandmade journals. \nBlankets & throws. \nShawls & scarves. \nPaintings. \nBooks.  \n \nTraditional\, contemporary\, vintage!  \n \nCome enjoy a meal\, do some shopping and learn about the Baltic people. Proceeds benefit the Latvian Community Center. All are welcome!   
URL:https://vakaruvejai.com/renginys/annual-latvian-christmas-bazaar-craft-fair-bake-sale-portland-or/
LOCATION:Oregon Latvian Center\, 5500 SW Dosch Road\, Portland\, OR\, 97239
CATEGORIES:Portlandas
ATTACH;FMTTYPE=image/jpeg:https://vakaruvejai.com/wp-content/uploads/2022/11/312948685_10160116767617970_5467217700063743489_n.jpeg
ORGANIZER;CN="Latvian Community in Portland":MAILTO:latvianlinens@yahoo.com
END:VEVENT
BEGIN:VEVENT
DTSTART;TZID=America/Los_Angeles:20221112T100000
DTEND;TZID=America/Los_Angeles:20221113T160000
DTSTAMP:20260423T164301
CREATED:20221103T034749Z
LAST-MODIFIED:20221103T034749Z
UID:22904-1668247200-1668355200@vakaruvejai.com
SUMMARY:Latvian Christmas Bazaar\, Seattle\, WA
DESCRIPTION:The Latvian Association is having its annual Christmas Bazaar.  Baltic items available for purchase include Christmas specialty foods\, ethnic Latvian foods\, candles\, wellness items\, glass art\, decorative pillows\, dolls\, hand-dyed yarns\, knitted goods\, stuffed toys\, jewelry\, ceramics\, and much more from local vendors. \nWhen:  Saturday\, November 12 @ 10am – 5pm and Sunday\, November 13 @ 12pm – 4pm. \nWhere: Latvian Hall (11710 3rd Ave NE\, Seattle\, WA 98125) \nSee the event flyer HERE. \n 
URL:https://vakaruvejai.com/renginys/latvian-christmas-bazaar-seattle-wa/
LOCATION:Latvių namai-SF\, 425 Hoffman Ave\, San Franciskas\, CA\, 94114
CATEGORIES:Seattle
ATTACH;FMTTYPE=image/png:https://vakaruvejai.com/wp-content/uploads/2022/11/Screen-Shot-2022-11-02-at-8.45.39-PM.png
END:VEVENT
BEGIN:VEVENT
DTSTART;TZID=America/Los_Angeles:20211105T100000
DTEND;TZID=America/Los_Angeles:20211106T160000
DTSTAMP:20260423T164301
CREATED:20211104T040159Z
LAST-MODIFIED:20211104T040159Z
UID:18456-1636106400-1636214400@vakaruvejai.com
SUMMARY:Latvian/Estonian/Lithuanian Christmas market\, Portland
DESCRIPTION:Latvian/Estonian/Lithuanian Christmas market at the Oregon Latvian Center.\nFRIDAY NOVEMER 5TH: 10AM – 6PM\nSATURDAY NOVEMER 6TH: 10AM – 4PM\nFeaturing a wonderful selection of authentic gifts including mittens\, socks\, glassware\, silver and amber jewelry\, books\, candles\, greeting cards\, and other handcrafted items. Also enjoy fresh baked goods\, cookies and cakes\, pīrāgi\, and rye bread. Surprise gift bags and raffle. All proceeds benefit the center!\nA DELICIOUS LUNCH WILL BE SERVED FROM 11 AM\nFACE MASKS REQUIRED\nWe sincerely invite volunteers to bring items for our baked goods table. Please help by bringing Christmas cookies\, rye bread\, cakes\, pīrāgi\, or your famous specialty. We also need volunteers during the market.\nPlease call Biruta Zommers at 503-436-1708 to sign-up.
URL:https://vakaruvejai.com/renginys/latvian-estonian-lithuanian-christmas-market-portland/
LOCATION:Oregon Latvian Center\, 5500 SW Dosch Road\, Portland\, OR\, 97239
CATEGORIES:Portlandas
ATTACH;FMTTYPE=image/jpeg:https://vakaruvejai.com/wp-content/uploads/2021/11/252583079_10159492768502970_572943729292541176_n.jpg
END:VEVENT
END:VCALENDAR