BEGIN:VCALENDAR
VERSION:2.0
PRODID:-//Vakarų Vėjai - ECPv6.15.3//NONSGML v1.0//EN
CALSCALE:GREGORIAN
METHOD:PUBLISH
X-WR-CALNAME:Vakarų Vėjai
X-ORIGINAL-URL:https://vakaruvejai.com
X-WR-CALDESC:Vakarų Vėjai renginiai
REFRESH-INTERVAL;VALUE=DURATION:PT1H
X-Robots-Tag:noindex
X-PUBLISHED-TTL:PT1H
BEGIN:VTIMEZONE
TZID:America/Los_Angeles
BEGIN:DAYLIGHT
TZOFFSETFROM:-0800
TZOFFSETTO:-0700
TZNAME:PDT
DTSTART:20210314T100000
END:DAYLIGHT
BEGIN:STANDARD
TZOFFSETFROM:-0700
TZOFFSETTO:-0800
TZNAME:PST
DTSTART:20211107T090000
END:STANDARD
BEGIN:DAYLIGHT
TZOFFSETFROM:-0800
TZOFFSETTO:-0700
TZNAME:PDT
DTSTART:20220313T100000
END:DAYLIGHT
BEGIN:STANDARD
TZOFFSETFROM:-0700
TZOFFSETTO:-0800
TZNAME:PST
DTSTART:20221106T090000
END:STANDARD
BEGIN:DAYLIGHT
TZOFFSETFROM:-0800
TZOFFSETTO:-0700
TZNAME:PDT
DTSTART:20230312T100000
END:DAYLIGHT
BEGIN:STANDARD
TZOFFSETFROM:-0700
TZOFFSETTO:-0800
TZNAME:PST
DTSTART:20231105T090000
END:STANDARD
END:VTIMEZONE
BEGIN:VEVENT
DTSTART;TZID=America/Los_Angeles:20230121T153000
DTEND;TZID=America/Los_Angeles:20230121T173000
DTSTAMP:20260423T163731
CREATED:20230114T011803Z
LAST-MODIFIED:20230114T011841Z
UID:23461-1674315000-1674322200@vakaruvejai.com
SUMMARY:An exclusive screening of the documentary “Thug Rose: Mixed Martial Artist”\, Los Angeles
DESCRIPTION:The Consulate General of Lithuania  in Los Angeles and Lithuanian World Arts Council kindly invite you to a special Los Angeles screening of the newest documentary by director\, producer\, a first-generation Lithuanian-American Marius Markevičius “𝐓𝐡𝐮𝐠 𝐑𝐨𝐬𝐞: 𝐌𝐢𝐱𝐞𝐝 𝐌𝐚𝐫𝐭𝐢𝐚𝐥 𝐀𝐫𝐭𝐢𝐬𝐭”. The film will be screened during the 24th Los Angeles Scandinavian Film Festival with Baltic Film Expo.\n “𝐓𝐡𝐮𝐠 𝐑𝐨𝐬𝐞” follows the inspiring journey of Lithuanian-American professional fighter & two-time UFC world champion Rose Namajunas. The film documents her circuitous path to success and spotlights Namajunas’ rare combination of ferocity\, artistry\, and vulnerability.\nThe screening will be followed by Q&A session with director\, producer Marius Markevičius and members of the filmmaking team.\n When? On Saturday\, January 21. The film starts at 3.30 p.m.\n Where? Writers Guild Theater\, 135 South Doheny Drive\,Beverly Hills\, CA 90211\n Tickets https://www.sffla.net/festival-2023\nFilm trailer  https://www.youtube.com/watch?v=CEKwzbxDb80\nWe hope to see you there!
URL:https://vakaruvejai.com/renginys/an-exclusive-screening-of-the-documentary-thug-rose-mixed-martial-artist-los-angeles/
LOCATION:Writers Guild Theater\, 135 South Doheny Drive\, Beverly Hills\, 90211
CATEGORIES:Los Andželas
ATTACH;FMTTYPE=image/jpeg:https://vakaruvejai.com/wp-content/uploads/2023/01/325137347_711700637215731_8954364537772097120_n.jpeg
END:VEVENT
BEGIN:VEVENT
DTSTART;VALUE=DATE:20210113
DTEND;VALUE=DATE:20210115
DTSTAMP:20260423T163731
CREATED:20210112T214520Z
LAST-MODIFIED:20210112T214520Z
UID:14536-1610496000-1610668799@vakaruvejai.com
SUMMARY:Jonas Mekas. Filming Independence: 2-day webinar\, Virtual event
DESCRIPTION:Jonas Mekas. Filming Independence\nLithuania and the Collapse of the USSR\n\n13-14 January\, 2021  – 2-day webinar\nFrom 1 p.m. Eastern Time | 7 p.m. Rome and Paris | 8 p.m. Vilnius and Tel Aviv\n\nCurated by Francesco Urbano Ragazzi @internetsaga\nOrganized by Lithuanian Culture Institute | Humboldt Books\n\nHosted by Scandinavia House | The Brooklyn Rail\, New York City\n\n13th and 14th January 2021\, thirty years after the tragic and courageous struggle that led the Lithuanian people to regain their independence\, two international online panel discussions will be dedicated to Jonas Mekas and his last book\, which retraces those events from a personal perspective. Titled Transcript 04 44’ 14” Lithuania and the Collapse of the USSR (Humboldt Books\, 2020)\, the book originates from a movie by Mekas which is at the same time a precious historical document and an important piece of avant-garde cinema.\n\nThe curators of the publication\, Francesco Urbano Ragazzi will dialogue with other thinkers\, artists\, and historians in a virtual roundtable involving Italy\, France\, Israel\, Lithuania\, and the U.S.\nOrganized by the Lithuanian Culture Institute in these different countries in collaboration with Humboldt Books and the Anthology Film Archives\, the 2-day event will be hosted by Scandinavia House and the Brooklyn Rail.\nSpecial guest of the gathering will be the first Head of State of the Republic of Lithuania\, Vytautas Landsbergis\, who described Jonas Mekas’ book with the following words: “Lithuania became part of the American life for some months\, for one year\, for two years and Jonas took it into his evidence\, into his camera. Jonas comes as a reminder and does present Lithuania as a reminder. Lithuania is a little reminder of very great things.”\n\nJanuary 13\, 2021\, 1 p.m. ET\nZoom @ASFscanhouse\nTopic: The cinematic diary as a tool for historical and political writing\nLink: https://us02web.zoom.us/…/reg…/WN_ug-b9rh1QFmG7CPGLVBF2Q\nModerator: Juozas Kazlas\, Political Analyst\, New York\n– Vytautas Landsbergis\, first Head of State of the Republic of Lithuania\, Vilnius\n– Pascal Le Segretain\, Photographer for Getty Images\, Paris\n– Oona Mekas\, daughter of Jonas Mekas and Chair of the Board of Trustees: Anthology Film Archives\, New York\n– Giovanna Silva\, Editorial Director Humboldt Books\, Milan\n– Francesco Urbano Ragazzi\, Curatorial Team\, Milan\n\nJanuary 14\, 2021\, 1 p.m. ET\nZoom @thebrooklynrail\nTopic: Re-filming history as subjective media archaeology\nLink: https://brooklynrail.org/…/jonas-mekas-filming…/\nModerator: Francesco Urbano Ragazzi\, Curatorial Team\, Milan\n– Lukas Brasiskis\, PhD candidate at New York University\, New York\n– Avi Lubin\, Curator at HaMidrasha Gallery – Hayarkon 19\, Tel Aviv\n– Philippe-Alain Michaud\, Curator at the Musée National d’Art Moderne – Centre Pompidou\, Paris\n– Kelly Taxter\, Barnett and Annalee Newman Curator of Contemporary Art at the Jewish Museum\, New York\n\nFrom January 6 to 20\n@AnthologyFilmArchives\nThe Anthology Film Archive will make Jonas Mekas’s film “Lithuania and The Collapse of the USSR” available\, free of charge on its website:\nhttp://anthologyfilmarchives.org/film…/series/52940\n\nThis online engagement is presented with support from the Consulate General of the Republic of Lithuania in New York\, the Embassy of the Republic of Lithuania in Italy\, the Embassy of the Republic of Lithuania in France\, and the Embassy of the Republic of Lithuania in Israel.
URL:https://vakaruvejai.com/renginys/jonas-mekas-filming-independence-2-day-webinar-virtual-event/
LOCATION:Virtual event
CATEGORIES:Arizona,Hawaii,Los Andželas,Nevada,Portlandas,San Diego,San Franciskas,Seattle,Virtualus renginys
ATTACH;FMTTYPE=image/jpeg:https://vakaruvejai.com/wp-content/uploads/2021/01/136692669_3530083820361107_1382320913120751592_o.jpg
END:VEVENT
END:VCALENDAR