BEGIN:VCALENDAR
VERSION:2.0
PRODID:-//Vakarų Vėjai - ECPv6.15.3//NONSGML v1.0//EN
CALSCALE:GREGORIAN
METHOD:PUBLISH
X-WR-CALNAME:Vakarų Vėjai
X-ORIGINAL-URL:https://vakaruvejai.com
X-WR-CALDESC:Vakarų Vėjai renginiai
REFRESH-INTERVAL;VALUE=DURATION:PT1H
X-Robots-Tag:noindex
X-PUBLISHED-TTL:PT1H
BEGIN:VTIMEZONE
TZID:America/Los_Angeles
BEGIN:DAYLIGHT
TZOFFSETFROM:-0800
TZOFFSETTO:-0700
TZNAME:PDT
DTSTART:20210314T100000
END:DAYLIGHT
BEGIN:STANDARD
TZOFFSETFROM:-0700
TZOFFSETTO:-0800
TZNAME:PST
DTSTART:20211107T090000
END:STANDARD
END:VTIMEZONE
BEGIN:VEVENT
DTSTART;TZID=America/Los_Angeles:20210522T190000
DTEND;TZID=America/Los_Angeles:20210522T200000
DTSTAMP:20260423T191406
CREATED:20210519T183203Z
LAST-MODIFIED:20210519T183203Z
UID:16329-1621710000-1621713600@vakaruvejai.com
SUMMARY:Washington State Spring Community Meeting\, Virtual event
DESCRIPTION:Our Spring Community meeting is upon us!  The agenda for the meeting is available HERE.  Here is the meeting info:\nLACWA is inviting you to a scheduled Zoom meeting. \nTopic: LACWA Spring Membership Meeting\nTime: May 22\, 2021 07:00 PM Pacific Time (US and Canada) \nJoin Zoom Meeting\nhttps://washington.zoom.us/j/95237454419 \nMeeting ID: 952 3745 4419\nOne tap mobile\n+12532158782\,\,95237454419# US (Tacoma)\n+12063379723\,\,95237454419# US (Seattle) \nMeeting ID: 952 3745 4419\nDial by your location\n+1 253 215 8782 US (Tacoma)\n+1 206 337 9723 US (Seattle)
URL:https://vakaruvejai.com/renginys/washington-state-spring-community-meeting-virtual-event/
LOCATION:Virtualus renginys
CATEGORIES:Seattle,Virtualus renginys
ATTACH;FMTTYPE=image/png:https://vakaruvejai.com/wp-content/uploads/2021/05/Screen-Shot-2021-05-19-at-11.26.02-AM.png
END:VEVENT
END:VCALENDAR