BEGIN:VCALENDAR
VERSION:2.0
PRODID:-//Vakarų Vėjai - ECPv6.15.3//NONSGML v1.0//EN
CALSCALE:GREGORIAN
METHOD:PUBLISH
X-WR-CALNAME:Vakarų Vėjai
X-ORIGINAL-URL:https://vakaruvejai.com
X-WR-CALDESC:Vakarų Vėjai renginiai
REFRESH-INTERVAL;VALUE=DURATION:PT1H
X-Robots-Tag:noindex
X-PUBLISHED-TTL:PT1H
BEGIN:VTIMEZONE
TZID:America/Los_Angeles
BEGIN:DAYLIGHT
TZOFFSETFROM:-0800
TZOFFSETTO:-0700
TZNAME:PDT
DTSTART:20240310T100000
END:DAYLIGHT
BEGIN:STANDARD
TZOFFSETFROM:-0700
TZOFFSETTO:-0800
TZNAME:PST
DTSTART:20241103T090000
END:STANDARD
END:VTIMEZONE
BEGIN:VEVENT
DTSTART;TZID=America/Los_Angeles:20240616T130000
DTEND;TZID=America/Los_Angeles:20240616T150000
DTSTAMP:20260423T131226
CREATED:20240601T035220Z
LAST-MODIFIED:20240601T035220Z
UID:26953-1718542800-1718550000@vakaruvejai.com
SUMMARY:LB Spindulio jaunimo šventė\, Los Andželas
DESCRIPTION:Visi maloniai kviečiami į Los Andželo jaunimo ansamblio LB Spindulio tradicinę Jaunimo šventę\, kuri įvyks birželio 16d.\, sekmadienį\, 1 val. p.p. šv. Kazimiero parapijos patalpose po sekmadieninių šv. Mišių. \nLB Spindulys parodys naujus paruoštus šokius\, kuriuos šoks šių metų Lietuvos Dainų šventėje „Kad giria žaliuotų”. \nŠokių diena įvyks liepos 5d.\, o liepos 7d. LB Spindulio šokėjai Trakuose atšvęs LB Spindulio 8-ąjį dalyvavimą šokių šventėse Lietuvoje. \nAteikite ir paremkite LB Spindulį ir šiltai išlydėkite į kelionę atstovauti Los Andželą. \n 
URL:https://vakaruvejai.com/renginys/lb-spindulio-jaunimo-svente-los-andzelas/
LOCATION:Šv. Kazimiero parapija\, 2716 St. George St.\, Los Angeles\, CA\, 90027
CATEGORIES:Lietuviški renginiai,Los Andželas
ATTACH;FMTTYPE=image/png:https://vakaruvejai.com/wp-content/uploads/2024/05/Screen-Shot-2024-05-31-at-7.59.08-PM.png
ORGANIZER;CN="LB Spindulys":MAILTO:spindulys@aol.com
END:VEVENT
BEGIN:VEVENT
DTSTART;TZID=America/Los_Angeles:20240602T150000
DTEND;TZID=America/Los_Angeles:20240602T170000
DTSTAMP:20260423T131226
CREATED:20240601T042417Z
LAST-MODIFIED:20240601T084338Z
UID:26965-1717340400-1717347600@vakaruvejai.com
SUMMARY:"Northern Harmony: Choirs of the Baltic"\, Sietlas\, WA
DESCRIPTION:LT \nChoras „Vakarai“ kviečia į Baltijos šalių muzikos koncertą\, kurį atliks Sietlo lietuvių\, latvių ir estų bendruomenių chorai bei jų draugai. Ateikite paremti tuos\, kurie šią vasarą vyksta į LT 100-mečio Dainų šventę. \nEN \nVakarai choir invites you to a concert of Baltic music sung by choirs from Seattle Lithuanian\, Latvian\, and Estonian communities\, and their collaborating friends.  Let’s turn out to support those headed to LT’s 100th anniversary Dainų Šventė this summer.
URL:https://vakaruvejai.com/renginys/northern-harmony-choirs-of-the-baltic-seattle-wa/
LOCATION:Latvian Hall-Seattle\, 11710 - 3rd Ave NE\, Seattle\, WA\, 98125
CATEGORIES:Seattle
ATTACH;FMTTYPE=image/png:https://vakaruvejai.com/wp-content/uploads/2024/05/66675b13-d06e-6292-e6a9-d14fdafaa66f.png
ORGANIZER;CN="Seattle Lithuanian Community/Seattle Lietuvi%C5%B3 Bendruomen%C4%97":MAILTO:seattlelb.president@gmail.com
END:VEVENT
BEGIN:VEVENT
DTSTART;TZID=America/Los_Angeles:20240119T190000
DTEND;TZID=America/Los_Angeles:20240119T210000
DTSTAMP:20260423T131226
CREATED:20231118T031716Z
LAST-MODIFIED:20240113T065957Z
UID:25563-1705690800-1705698000@vakaruvejai.com
SUMMARY:"Lietutis" Cabaret Fundraiser\, Sietlas\, WA
DESCRIPTION:Join us for an entertaining evening at the Lietutis Cabaret! \nTickets & Donations: https://www.simpletix.com/…/lietutis-fundraiser-cabaret… \nLietutis Lithuanian Folk Dance Ensemble is raising money for our group’s first trip to Lithuania\, to take part in Dainų Šventė 2024 (Song Festival 2024). We invite everyone to our Cabaret & Variety Show\, a fundraiser featuring twists on traditional folk dances and surprise acts by our talented group! This show is 18+\, however\, there will be a Lankas Lithuanian camp sponsored movie night hosted downstairs for children\, so you can make it a family night out! Tickets are available at the link below. \nAdult tickets include light snacks and one drink ticket. Additional drinks and merch will be available for sale. \nWe will provide movie snacks for children. \nDoors open at 7pm and events start at 7:30pm. We hope to see you there!
URL:https://vakaruvejai.com/renginys/lietutis-cabaret-fundraiser-sietlas-wa/
LOCATION:Latvian Community Center Chapel\, 11710 - 3rd Ave NE\, Seattle\, WA\, 98125
CATEGORIES:Lietuviški renginiai,Seattle
ATTACH;FMTTYPE=image/jpeg:https://vakaruvejai.com/wp-content/uploads/2023/11/409492230_665955139026162_3981781080333560935_n.jpeg
END:VEVENT
END:VCALENDAR