BEGIN:VCALENDAR
VERSION:2.0
PRODID:-//Vakarų Vėjai - ECPv6.15.3//NONSGML v1.0//EN
CALSCALE:GREGORIAN
METHOD:PUBLISH
X-ORIGINAL-URL:https://vakaruvejai.com
X-WR-CALDESC:Vakarų Vėjai renginiai
REFRESH-INTERVAL;VALUE=DURATION:PT1H
X-Robots-Tag:noindex
X-PUBLISHED-TTL:PT1H
BEGIN:VTIMEZONE
TZID:America/Los_Angeles
BEGIN:DAYLIGHT
TZOFFSETFROM:-0800
TZOFFSETTO:-0700
TZNAME:PDT
DTSTART:20240310T100000
END:DAYLIGHT
BEGIN:STANDARD
TZOFFSETFROM:-0700
TZOFFSETTO:-0800
TZNAME:PST
DTSTART:20241103T090000
END:STANDARD
END:VTIMEZONE
BEGIN:VEVENT
DTSTART;TZID=America/Los_Angeles:20240120T091500
DTEND;TZID=America/Los_Angeles:20240120T101500
DTSTAMP:20260423T191443
CREATED:20240113T052419Z
LAST-MODIFIED:20240113T052540Z
UID:25777-1705742100-1705745700@vakaruvejai.com
SUMMARY:Los Angeles Šv. Kazimiero Lituanistinės mokyklos dokumentinio filmo peržiūra\, Los Andželas
DESCRIPTION:Vakarų pakarantės mokytojų konferencijos proga kviečiame visus į Los Angeles Šv. Kazimiero Lituanistinės mokyklos dokumentinio filmo peržiūrą. \nKada? Šeštadienį\, sausio 20d. 9:15 val. ryto. \nKur? Parapijos viršutinėje salėje (2714 St. George St. Los Angeles\, CA 90027) \nVaizdais keliausime nuo parapijos ir mokyklos steigimo iki šių dienų. Matysite buvusius mokytojus\, mokinius ir tradicinius renginius. \nPasidžiaugsime mokyklos ilga istorija – kitais metais mokykla švęs savo 75-ąjį jubiliejų. \n2019 metais filmą sumontavo žinomas lietuvių režisierius Donatas Ulvydas. Filmuota medžiaga – Pauliaus Jasiukonio ir kitų. \n 
URL:https://vakaruvejai.com/renginys/los-angeles-sv-kazimiero-lituanistines-mokyklos-dokumentinio-filmo-perziura-los-andzelas/
LOCATION:Los Angeles Šv. Kazimiero lituanistinė mokykla\, 2714 St. George St.\, Los Angeles\, CA\, 90027
CATEGORIES:Lietuviški renginiai,Los Andželas
ATTACH;FMTTYPE=image/png:https://vakaruvejai.com/wp-content/uploads/2024/01/Filmas2024-1.png
END:VEVENT
END:VCALENDAR