BEGIN:VCALENDAR
VERSION:2.0
PRODID:-//Vakarų Vėjai - ECPv6.15.3//NONSGML v1.0//EN
CALSCALE:GREGORIAN
METHOD:PUBLISH
X-ORIGINAL-URL:https://vakaruvejai.com
X-WR-CALDESC:Vakarų Vėjai renginiai
REFRESH-INTERVAL;VALUE=DURATION:PT1H
X-Robots-Tag:noindex
X-PUBLISHED-TTL:PT1H
BEGIN:VTIMEZONE
TZID:America/Los_Angeles
BEGIN:DAYLIGHT
TZOFFSETFROM:-0800
TZOFFSETTO:-0700
TZNAME:PDT
DTSTART:20250309T100000
END:DAYLIGHT
BEGIN:STANDARD
TZOFFSETFROM:-0700
TZOFFSETTO:-0800
TZNAME:PST
DTSTART:20251102T090000
END:STANDARD
END:VTIMEZONE
BEGIN:VEVENT
DTSTART;TZID=America/Los_Angeles:20250305T170000
DTEND;TZID=America/Los_Angeles:20250305T180000
DTSTAMP:20260423T173704
CREATED:20250301T053950Z
LAST-MODIFIED:20250301T054144Z
UID:28574-1741194000-1741197600@vakaruvejai.com
SUMMARY:Virtualus susitikimas su LR krašto apsaugos ministre Dovile Šakaliene
DESCRIPTION:LT\n\nKvietimas į virtualų susitikimą su LR krašto apsaugos ministre Dovile Šakaliene.\nJAV LB KV\, bendradarbiaudama su LR ambasada\, suderino galimybę Lietuvos Respublikos krašto apsaugos ministrei Dovilei Šakalienei tiesiogiai kreiptis į JAV lietuvių bendruomenę. Tai puiki proga išgirsti svarbią informaciją bei užduoti aktualius klausimus.\n\n\nData: 2025 m. kovo 5 d. (trečiadienis)\n\n\nLaikas: 8:00 pm – 9:00 pm (EST)\n\n\nVieta: ZOOM platforma\nPrisijungimo nuoroda: https://us06web.zoom.us/j/87970787195…\nKlausimus galite siųsti iki kovo 2 dienos el. paštu: visuomeniniai@javlb.org\nLaukiame jūsų dalyvavimo!\n\n\nEN\n\n\nInvitation to a Virtual Meeting with the Minister of National Defense of the Republic of Lithuania\, Dovilė Šakalienė.\n\n\nThe Lithuanian American Community (JAV LB KV)\, in cooperation with the Embassy of Lithuania\, has arranged an opportunity for the Minister of National Defense of the Republic of Lithuania\, Dovilė Šakalienė\, to directly address the Lithuanian American Community. This is a great chance to hear important updates and ask relevant questions.\n\n\nDate: Wednesday\, March 5\, 2025\nTime: 8:00 PM – 9:00 PM (EST)\nPlatform: ZOOM\nJoin via Zoom: https://us06web.zoom.us/j/87970787195…\n\n\nYou can submit your questions by March 2 via email at visuomeniniai@javlb.org\n\n\nWe look forward to your participation!
URL:https://vakaruvejai.com/renginys/28574/
LOCATION:Virtualus renginys
CATEGORIES:Lietuviški renginiai,Virtualus renginys
ATTACH;FMTTYPE=image/jpeg:https://vakaruvejai.com/wp-content/uploads/2025/02/480353480_654566907087211_4095163789178335191_n.jpeg
END:VEVENT
END:VCALENDAR