BEGIN:VCALENDAR
VERSION:2.0
PRODID:-//Vakarų Vėjai - ECPv6.15.3//NONSGML v1.0//EN
CALSCALE:GREGORIAN
METHOD:PUBLISH
X-ORIGINAL-URL:https://vakaruvejai.com
X-WR-CALDESC:Vakarų Vėjai renginiai
REFRESH-INTERVAL;VALUE=DURATION:PT1H
X-Robots-Tag:noindex
X-PUBLISHED-TTL:PT1H
BEGIN:VTIMEZONE
TZID:America/Los_Angeles
BEGIN:DAYLIGHT
TZOFFSETFROM:-0800
TZOFFSETTO:-0700
TZNAME:PDT
DTSTART:20250309T100000
END:DAYLIGHT
BEGIN:STANDARD
TZOFFSETFROM:-0700
TZOFFSETTO:-0800
TZNAME:PST
DTSTART:20251102T090000
END:STANDARD
BEGIN:DAYLIGHT
TZOFFSETFROM:-0800
TZOFFSETTO:-0700
TZNAME:PDT
DTSTART:20260308T100000
END:DAYLIGHT
BEGIN:STANDARD
TZOFFSETFROM:-0700
TZOFFSETTO:-0800
TZNAME:PST
DTSTART:20261101T090000
END:STANDARD
END:VTIMEZONE
BEGIN:VEVENT
DTSTART;TZID=America/Los_Angeles:20260128T170000
DTEND;TZID=America/Los_Angeles:20260128T180000
DTSTAMP:20260423T162958
CREATED:20260117T060050Z
LAST-MODIFIED:20260117T060224Z
UID:30318-1769619600-1769623200@vakaruvejai.com
SUMMARY:Virtualus susitikimas su J.E. Gediminu Varvuoliu ir Edita Buzėniene\, Virtualus renginys
DESCRIPTION:Kviečiame į virtualų susitikimą su LR ambasadoriumi JAV ir Meksikoje J.E. Gediminu Varvuoliu ir JAV Lietuvių Bendruomenės Krašto valdybos pirmininke Edita Buzėniene. \nBus aptariama aktuali situacija Lietuvoje ir užsienyje\, pristatomi JAV LB KV 2026 metų veiklos planai. \nRūpimus klausimus pateikite iš anksto raštu: visuomeniniai@javlb.org arba informacija@javlb.org. \nSusitikimas vyks virtualiai „Zoom” platformoje lietuvių kalba 5pm (PST laiku). \nZoom nuoroda
URL:https://vakaruvejai.com/renginys/virtualus-susitikimas-su-j-e-gediminu-varvuoliu-ir-edita-buzeniene-virtualus-renginys/
LOCATION:Virtualus renginys
CATEGORIES:Lietuviški renginiai,Virtualus renginys
ATTACH;FMTTYPE=image/png:https://vakaruvejai.com/wp-content/uploads/2026/01/Screenshot-2026-01-16-at-9.47.06-PM.png
END:VEVENT
BEGIN:VEVENT
DTSTART;TZID=America/Los_Angeles:20250312T170000
DTEND;TZID=America/Los_Angeles:20250312T180000
DTSTAMP:20260423T162958
CREATED:20250201T050503Z
LAST-MODIFIED:20250201T050503Z
UID:28296-1741798800-1741802400@vakaruvejai.com
SUMMARY:Lietuvos Nepriklausomybės atkūrimo 35-ųjų metinių minėjimas\, Virtualus renginys
DESCRIPTION:LT \nKovo 12 d. JAV lietuvių bendruomenės Krašto valdybos pirmininkė Edita Buzėnienė drauge su Lietuvos ambasadorė Jungtinėse Amerikos Valstijose Audra Plepyte kviečia visus į didžiausią virtualų JAV lietuvių susibūrimą\, skirtą Vasario 16-osios ir Kovo 11-osios švenčių paminėjimui.Nepraleiskite šios puikios progos visiems susiburti ir išgirsti apie Lietuvos prioritetus bei susipažinti su JAV LB planais.Registracija vyksta iki kovo 5 d. Daugiau informacijos apie renginį bei registracijos formą rasite čia: https://bit.ly/kovo12_registracija \nENOn March 12\, the Chairperson of the Lithuanian American Community Board\, Edita Buzėnienė\, together with Lithuania’s Ambassador to the United States\, Audra Plepytė\, warmly invites everyone to the largest virtual event dedicated to commemorating February 16th and March 11th\, two pivotal days in Lithuania’s history.Don’t miss this wonderful opportunity to come together as a community\, hear about Lithuania’s key priorities\, and learn about the Lithuanian American Community’s exciting plans.Registration is open until March 5. For more details about the event and to access the registration form\, click here: https://bit.ly/kovo12_registracija
URL:https://vakaruvejai.com/renginys/lietuvos-nepriklausomybes-atkurimo-35-uju-metiniu-minejimas-virtualus-renginys/
LOCATION:Virtualus renginys
CATEGORIES:Lietuviški renginiai,Virtualus renginys
ATTACH;FMTTYPE=image/jpeg:https://vakaruvejai.com/wp-content/uploads/2025/01/474976407_926688256338572_1885672104173725830_n.jpeg
END:VEVENT
END:VCALENDAR