BEGIN:VCALENDAR
VERSION:2.0
PRODID:-//Vakarų Vėjai - ECPv6.15.3//NONSGML v1.0//EN
CALSCALE:GREGORIAN
METHOD:PUBLISH
X-WR-CALNAME:Vakarų Vėjai
X-ORIGINAL-URL:https://vakaruvejai.com
X-WR-CALDESC:Vakarų Vėjai renginiai
REFRESH-INTERVAL;VALUE=DURATION:PT1H
X-Robots-Tag:noindex
X-PUBLISHED-TTL:PT1H
BEGIN:VTIMEZONE
TZID:America/Los_Angeles
BEGIN:DAYLIGHT
TZOFFSETFROM:-0800
TZOFFSETTO:-0700
TZNAME:PDT
DTSTART:20250309T100000
END:DAYLIGHT
BEGIN:STANDARD
TZOFFSETFROM:-0700
TZOFFSETTO:-0800
TZNAME:PST
DTSTART:20251102T090000
END:STANDARD
END:VTIMEZONE
BEGIN:VEVENT
DTSTART;VALUE=DATE:20251001
DTEND;VALUE=DATE:20251207
DTSTAMP:20260423T160313
CREATED:20250816T101123Z
LAST-MODIFIED:20250816T105732Z
UID:29589-1759276800-1765065599@vakaruvejai.com
SUMMARY:Eglės Budvytytės paroda Omni Intelligent\, San Diegas
DESCRIPTION:LT \n„Omni Intelligent“ – tai grupinė paroda\, kurioje nagrinėjami tarpusavyje susiję ir priklausomi nežmogiškų ir žmogiškų būtybių santykiai\, dirbtiniam intelektui tampant neatsiejama šiuolaikinio gyvenimo dalimi. Meno kūriniai siūlo nukrypti nuo antropocentrizmo ir pereiti prie sudėtingesnio\, sklandesnio ir platesnio intelekto\, egzistencijos\, sąmonės ir savęs supratimo. Apimanti platų medijų spektrą – įskaitant kvapus\, tapybą\, skulptūrą\, filmą\, holografiją\, žaidimų dizainą ir keramiką – paroda lankytojui siūlo visavertę jutiminę patirtį\, kuri byloja apie gilius pokyčius\, vykstančius šiuo svarbiu momentu. \nDalyvaujantys menininkai: \nEglė Budvytytė\, Lou Cantor\, Ánima Correa\, CROSSLUCID\, Star Feliz\, Rhonda Holberton\, Amia Yokoyama\, agustine zegers\, and Marcus Zúñiga. \nKuratorė Ceci Moss\, Mandeville meno galerijos direktorė ir vyriausioji kuratorė bei vaizduojamojo meno praktikos profesorė \nEN \nOmni Intelligent is a group exhibition that explores the intertwined and interdependent relationships between non-human and human entities as artificial intelligence becomes an integrated part of contemporary life. The artworks suggest a departure from anthropocentrism towards a more complex\, fluid\, and expansive understanding of intelligence\, existence\, consciousness\, and the self. Spanning a wide range of mediums—including scent\, painting\, sculpture\, film\, holography\, game design\, and ceramics— the exhibition offers the visitor a full sensory experience that speaks to the profound shifts unfolding during this pivotal moment. \nParticipating Artists: \nEglė Budvytytė\, Lou Cantor\, Ánima Correa\, CROSSLUCID\, Star Feliz\, Rhonda Holberton\, Amia Yokoyama\, agustine zegers\, and Marcus Zúñiga. \nCurated by Ceci Moss\, Director and Chief Curator of the Mandeville Art Gallery and Professor of Practice\, Visual Arts
URL:https://vakaruvejai.com/renginys/egle-budvytyte-paroda-omni-intelligent-san-diegas/
LOCATION:Mandeville Art Gallery\, 9500 Gilman Dr.\, La Jolla\, CA\, 92093
CATEGORIES:Lietuviški renginiai,San Diego
ATTACH;FMTTYPE=image/jpeg:https://vakaruvejai.com/wp-content/uploads/2025/08/2025101-1206_omniintelligent-2_900x600.jpeg
END:VEVENT
END:VCALENDAR