BEGIN:VCALENDAR
VERSION:2.0
PRODID:-//Vakarų Vėjai - ECPv6.15.3//NONSGML v1.0//EN
CALSCALE:GREGORIAN
METHOD:PUBLISH
X-ORIGINAL-URL:https://vakaruvejai.com
X-WR-CALDESC:Vakarų Vėjai renginiai
REFRESH-INTERVAL;VALUE=DURATION:PT1H
X-Robots-Tag:noindex
X-PUBLISHED-TTL:PT1H
BEGIN:VTIMEZONE
TZID:America/Los_Angeles
BEGIN:DAYLIGHT
TZOFFSETFROM:-0800
TZOFFSETTO:-0700
TZNAME:PDT
DTSTART:20240310T100000
END:DAYLIGHT
BEGIN:STANDARD
TZOFFSETFROM:-0700
TZOFFSETTO:-0800
TZNAME:PST
DTSTART:20241103T090000
END:STANDARD
END:VTIMEZONE
BEGIN:VEVENT
DTSTART;TZID=America/Los_Angeles:20240309T160000
DTEND;TZID=America/Los_Angeles:20240309T190000
DTSTAMP:20260423T174052
CREATED:20240210T065719Z
LAST-MODIFIED:20240210T065719Z
UID:26072-1710000000-1710010800@vakaruvejai.com
SUMMARY:Lietuvos Nepriklausomybės Šventė\, Portlandas\, OR
DESCRIPTION:LT \nMaloniai pranešame\, kad Lietuvos Respublikos Nepriklausomybės minėjimas\, skirtas vasario 16 d. (Lietuvos valstybės atkūrimo) ir kovo 11 d. (Lietuvos nepriklausomybės atkūrimo) dienoms atminti\, įvyks š.m. kovo mėn. 9 d. (šeštadienį) 16 val. val. Latvių salėje (5500 SW Dosch Rd.\, Portland\, OR 97239). \nMinėjimo PROGRAMA: \n\nAtidarymas – LIETUVOS IR JAV HIMNŲ GIEDOJIMU\nSveikinimo žodžiai\nPortlando jaunųjų talentų pasirodymas\nVaišės\nGupės iš Lietuvos el Fuego koncertas\n\nSuneštinės vaišės \nPrašome\, atsineškite pagrindinį patiekalą ir desertą. Kugelis\, Kava\, arbata ir nealkoholiniai gėrimai bus pateikti. Jei pageidaujate\, atsineškite savo vyną\, alų ar/ir pan. \nKoncerto bilieto kaina: \nSuaugusiems (nariams) $30\, ne nariams $40 \nVaikams 12-18 metų  -$15 \nVaikams iki 12 metų nemokamai \nŠventės metu bus galimybė susimokėti metinį nario mokestį. Jeigu bilieto kaina jums šiuo metu per didelė\, prašome iš anksto pararašyti giedre077@gmail.com\, laukiame visų nepriklausomai nuo galimybės susimokėti pilną kainą. \nJei turite klausimų ar pasiūlymų\, prašome kreipkitės info@portlandlithuanians.com \nJAV Lietuvių Bendruomenės Portlando apylinkės valdyba. \nNorime paprašyti kas galite atvykti penktadienį kovo 8d\, 6:30pm padėti papuošti salę. Dėkojame iš anksto.  \nEN \nLithuanian Independence Day Celebration \nPlease\, mark your calendars for the Lithuanian Independence Day Celebration\,\nwhich will take place on Saturday\, March 9th at 4 PM\nat the Latvian Hall (5500 SW Dosch Rd.\, Portland\, OR 97239). \nPROGRAM : \n\nOpening with singing of the National Anthems of Lithuania and USA\nGreetings\nPerformance of community young talents\nCommunity Potluck\nConcert by the group el Fuego from Lithuania\n\nCommunity Potluck: \nPlease\, bring a main dish and dessert. Kugelis\, Coffee\, tea and non-alcoholic beverages will be provided. Feel free to BYO wine and beer if desired. \nTicket prices for the concert: \nAdults (18+) : members $30\, non members $40 \n12-18 years:  $15 \nChildren under 12: free \nYou will have an opportunity to pay yearly membership dues at the event. Sliding scale tickets available upon request (please email in advance giedre077@gmail.com). We would like everyone to be able to attend regardless of the ability to pay the full price. \nIf you have any questions please feel free to contact us at info@portlandlithuanians.com \nLAC Portland Chapter Board \nVolunteers are needed with help to decorate Latvian hall on March 8th. We’ll be gathering at 6:30 pm. Thanks to all who can come. 
URL:https://vakaruvejai.com/renginys/lietuvos-nepriklausomybes-svente-portlandas-or/
LOCATION:Latvian Hall-Seattle\, 11710 - 3rd Ave NE\, Seattle\, WA\, 98125
CATEGORIES:Lietuviški renginiai,Portlandas
ATTACH;FMTTYPE=image/png:https://vakaruvejai.com/wp-content/uploads/2024/02/Screen-Shot-2024-02-09-at-10.47.19-PM.png
END:VEVENT
END:VCALENDAR