BEGIN:VCALENDAR
VERSION:2.0
PRODID:-//Vakarų Vėjai - ECPv6.15.3//NONSGML v1.0//EN
CALSCALE:GREGORIAN
METHOD:PUBLISH
X-ORIGINAL-URL:https://vakaruvejai.com
X-WR-CALDESC:Vakarų Vėjai renginiai
REFRESH-INTERVAL;VALUE=DURATION:PT1H
X-Robots-Tag:noindex
X-PUBLISHED-TTL:PT1H
BEGIN:VTIMEZONE
TZID:America/Los_Angeles
BEGIN:DAYLIGHT
TZOFFSETFROM:-0800
TZOFFSETTO:-0700
TZNAME:PDT
DTSTART:20240310T100000
END:DAYLIGHT
BEGIN:STANDARD
TZOFFSETFROM:-0700
TZOFFSETTO:-0800
TZNAME:PST
DTSTART:20241103T090000
END:STANDARD
END:VTIMEZONE
BEGIN:VEVENT
DTSTART;TZID=America/Los_Angeles:20240602T113000
DTEND;TZID=America/Los_Angeles:20240602T160000
DTSTAMP:20260423T204109
CREATED:20240503T052756Z
LAST-MODIFIED:20240518T035149Z
UID:26649-1717327800-1717344000@vakaruvejai.com
SUMMARY:Baltic Picnic 2024\, San Mateo\, CA
DESCRIPTION:LT \nIšsisaugokite savo kalendoliuose mūsų kasmetinį Baltijos pikniką birželio 2 d. San Mateo! \nTas pats parkas\, nauja iškylų ​​​​vieta\, daug smagių užsiėmimų visai šeimai! \nBilietai: Čia \nIki gegužės 31 d – $10.\, vėliau – $15. 16 metų ir jaunesniems vaikams nemokamai! \nPrisiregistruokite paspausdami žemiau esančią nuorodą\, kad galėtumėte savanoriauti renginyje ir uždirbti gerų karmos taškų. Tai visada geriausia dalis! \nPrisijungti savanoriavimui! \nEN \nSave the date for our Annual Baltic Picnic on June 2nd in San Mateo! \nSame park\, new picnic site\, lots of fun activities for the whole family! \nTickets: Here \n$10 through May 31\, $15 later. Children 16 and under are free! \nPlease sign up using the link below to participate in volunteering for the event and earn some good karma points. It’s always the best part! \nSign up to volunteer!
URL:https://vakaruvejai.com/renginys/baltic-picnic-2024-san-mateo-ca/
LOCATION:Coyote Point Recreation Area\, 1701 Coyote Point Drive\, San Mateo\, CA\, 94401
CATEGORIES:Lietuviški renginiai,San Franciskas
ATTACH;FMTTYPE=image/jpeg:https://vakaruvejai.com/wp-content/uploads/2024/05/441265791_17973349250706386_8154718439785474216_n.jpeg
END:VEVENT
END:VCALENDAR