BEGIN:VCALENDAR
VERSION:2.0
PRODID:-//Vakarų Vėjai - ECPv6.15.3//NONSGML v1.0//EN
CALSCALE:GREGORIAN
METHOD:PUBLISH
X-ORIGINAL-URL:https://vakaruvejai.com
X-WR-CALDESC:Vakarų Vėjai renginiai
REFRESH-INTERVAL;VALUE=DURATION:PT1H
X-Robots-Tag:noindex
X-PUBLISHED-TTL:PT1H
BEGIN:VTIMEZONE
TZID:America/Los_Angeles
BEGIN:DAYLIGHT
TZOFFSETFROM:-0800
TZOFFSETTO:-0700
TZNAME:PDT
DTSTART:20210314T100000
END:DAYLIGHT
BEGIN:STANDARD
TZOFFSETFROM:-0700
TZOFFSETTO:-0800
TZNAME:PST
DTSTART:20211107T090000
END:STANDARD
BEGIN:DAYLIGHT
TZOFFSETFROM:-0800
TZOFFSETTO:-0700
TZNAME:PDT
DTSTART:20220313T100000
END:DAYLIGHT
BEGIN:STANDARD
TZOFFSETFROM:-0700
TZOFFSETTO:-0800
TZNAME:PST
DTSTART:20221106T090000
END:STANDARD
BEGIN:DAYLIGHT
TZOFFSETFROM:-0800
TZOFFSETTO:-0700
TZNAME:PDT
DTSTART:20230312T100000
END:DAYLIGHT
BEGIN:STANDARD
TZOFFSETFROM:-0700
TZOFFSETTO:-0800
TZNAME:PST
DTSTART:20231105T090000
END:STANDARD
BEGIN:DAYLIGHT
TZOFFSETFROM:-0800
TZOFFSETTO:-0700
TZNAME:PDT
DTSTART:20240310T100000
END:DAYLIGHT
BEGIN:STANDARD
TZOFFSETFROM:-0700
TZOFFSETTO:-0800
TZNAME:PST
DTSTART:20241103T090000
END:STANDARD
BEGIN:DAYLIGHT
TZOFFSETFROM:-0800
TZOFFSETTO:-0700
TZNAME:PDT
DTSTART:20250309T100000
END:DAYLIGHT
BEGIN:STANDARD
TZOFFSETFROM:-0700
TZOFFSETTO:-0800
TZNAME:PST
DTSTART:20251102T090000
END:STANDARD
END:VTIMEZONE
BEGIN:VEVENT
DTSTART;TZID=America/Los_Angeles:20251108T183000
DTEND;TZID=America/Los_Angeles:20251108T203000
DTSTAMP:20260423T174844
CREATED:20251108T055532Z
LAST-MODIFIED:20251108T055603Z
UID:29959-1762626600-1762633800@vakaruvejai.com
SUMMARY:Europos kino įvairovė festivalyje „Ode to Joy: European CineFest San Francisco“\, San Franciskas
DESCRIPTION:LT \nPirmą kartą organizuojamame festivalyje San Fransiske bus pristatomas lietuviškas režisieriaus Igno Miškinio filmas „Pietinia kronikas“\, kuris šiais metais atrinktas atstovauti Lietuvai kovoje dėl geriausio tarptautinio filmo nominacijos „Oskarų“ apdovanojimuose. \nData: 2025 m. lapkričio 8 d.\, šeštadienis\, 6:30PM–8:30PM\nVieta: INNOVIT – Italian Innovation and Culture Hub\, 710 Sansome Street\, San Franciskas\, CA 94111 \nVietų skaičius ribotas\, registracija privaloma:https://www.eventbrite.com/e/european-cinefest-southern-chronicles-lithuania-tickets-1850097233629?aff=odcleoeventsincollection \nEuropos kino festivalį lapkričio 7-9 dienomis Lietuva organizuoja kartu su Europos Sąjungos atstovybe San Fransiske bei Italija\, Švedija\, Prancūzija\, Latvija\, Vokietija\, Suomija\, Airija ir Čekija. \nFestivalyje pristatoma kruopščiai atrinkta filmų programa – nuo įtraukiančių dramų ir išradingų animacijų iki įkvepiančių dokumentinių juostų\, kurios išryškina unikalius balsus ir istorijas\, formuojančias Europos kultūrinį peizažą. \nSeansai vyks trijose išskirtinėse San Fransisko vietose – INNOVIT\, Alliance Française ir Delancey Street Screening Room\, į kuriuos atrasti Europos kiną kviečiami tiek patyrę kino gerbėjai\, tiek nauji smalsūs žiūrovai. \nIšsami kino festivalio programa ir registracija į nemokamus kino seansus:https://www.eventbrite.com/cc/ode-to-joy-european-cinefest-san-francisco-4754103 \nSusitikime kine! \nEN \nOde to Joy: European CineFest San Francisco is the city’s first ever European Film Festival\, a three-day cinematic journey across Europe’s cultures\, languages\, and emotions. Hosted by the EU Office in San Francisco in partnership with European Consulates and Cultural Institutes\, the festival celebrates the joy of storytelling and the diversity of Europe on screen. \nDates: November 7 – 9 \, 2025 \nVenues: ΙNNOVIT\, Alliance Française\, and Delancey St Screening Room \nFirst announcement: Friday\, October 24 at 10 AM (PST) \nFrom Paris to Berlin\, Europe’s stories come to life at Ode to Joy: European CineFest SF! Join Consulate general of Lithuania in Los Angeles for a special\, free screening of Southern Chronicle\, part of a weekend of film\, music\, and cultural exchange.\nRSV Phttps://bit.ly/OdeToJoySF
URL:https://vakaruvejai.com/renginys/europos-kino-ivairove-festivalyje-ode-to-joy-european-cinefest-san-francisco-san-franciskas/
LOCATION:INNOVIT – Italian Innovation and Culture Hub\, 710 Sansome Street\, San Francisco\, CA\, 94111
CATEGORIES:Lietuviški renginiai,San Franciskas
ATTACH;FMTTYPE=image/webp:https://vakaruvejai.com/wp-content/uploads/2025/11/Southern-Chronicles-FLO.jpg.webp
END:VEVENT
BEGIN:VEVENT
DTSTART;TZID=America/Los_Angeles:20231022T130000
DTEND;TZID=America/Los_Angeles:20231022T153000
DTSTAMP:20260423T174844
CREATED:20231020T071213Z
LAST-MODIFIED:20231020T234432Z
UID:25365-1697979600-1697988600@vakaruvejai.com
SUMMARY:Filmo "Tarp Mūsų Berniukų" peržiūra\, Reno\, NV
DESCRIPTION:Kviečiame visus kartu praleisti savaitgalio popietės žiūrint lietuvišką filmą “Tarp Mūsų Berniukų” jaukioje atmosferoje. Spalio 22d. (ši sekmadienį) National Automobile Museum\, 1 Museum Dr.\, Reno. 13:00-15:30 val. \nUžkandžiai bus paruošti\, trūksta tik jūsų ir geros nuotaikos. \nĮėjimas nemokamas.
URL:https://vakaruvejai.com/renginys/filmo-tarp-musu-berniuku-perziura-reno-nv/
LOCATION:National Automobile Museum\, 1 Museum Dr\, Reno\, NV\, 89501
CATEGORIES:Lietuviški renginiai,Nevada
ATTACH;FMTTYPE=image/jpeg:https://vakaruvejai.com/wp-content/uploads/2023/10/392945357_10231554667994099_7073350935741619712_n.jpeg
END:VEVENT
BEGIN:VEVENT
DTSTART;TZID=America/Los_Angeles:20221106T100000
DTEND;TZID=America/Los_Angeles:20221106T120000
DTSTAMP:20260423T174844
CREATED:20221030T074950Z
LAST-MODIFIED:20221030T074950Z
UID:22859-1667728800-1667736000@vakaruvejai.com
SUMMARY:Nemokama filmo "Drugelio širdis" peržiūra Los Andžele
DESCRIPTION:Artėjant Padėkos dienai dovana visai šeimai – nemokama ilgai laukto ir pagaliau sulaukto filmo \,\,Drugelio širdis“ peržiūra!\nTai istorija apie ypatingą berniuką Juozapą\, kuris slepia didelę paslaptį. Jo širdį saugo gaubtas ir storas šarvas. Vieną dieną į miestelį atsikrausto naujokė Rugilė\, ir Juozapo gyvenimas apvirsta aukštyn kojom. Rugilės dėka Juozapas nugali savo baimę ir tampa atviras pasauliui. Draugystė daro stebuklus!\n\n\nFilmas įkvėptas Modestos Jurgaitytės knygos „Ypatingas“.\n\n\nFilmo anonsas: https://www.youtube.com/watch?v=3wko1GQKMl4\nKada: Lapkričio 6 d.\, 10 val.\nKur: Laemmle Monica Film Center (Santa Monica\, CA)\n\n\nPo filmo peržiūros laukia Q&A sesija su:\n– režisiere Inesa Kurklietyte;\n– prodiusere Živile Gallego.\n\n\nAteikite visi ir pakvieskite savo draugus bei pažįstamus!\n\n\nRenginį organizuoja LR generalinis konsulatas Los Andžele drauge su JAV LB Kultūros Taryba Lietuvių Fondas – Lithuanian Foundation\, Inc. Lithuanian American Business Association in Los Angeles\nLithuanian World Arts Council
URL:https://vakaruvejai.com/renginys/nemokama-filmo-drugelio-sirdis-perziura-los-andzele/
LOCATION:Laemmle Monica Film Center\, 1332 Second St.\, Santa Monica\, CA\, 90401
CATEGORIES:Lietuviški renginiai,Los Andželas
ATTACH;FMTTYPE=image/jpeg:https://vakaruvejai.com/wp-content/uploads/2022/10/312266566_487431123426871_8424785440570089799_n.jpeg
END:VEVENT
BEGIN:VEVENT
DTSTART;VALUE=DATE:20210604
DTEND;VALUE=DATE:20210609
DTSTAMP:20260423T174844
CREATED:20210604T202027Z
LAST-MODIFIED:20210604T202356Z
UID:16508-1622764800-1623196799@vakaruvejai.com
SUMMARY:Savaitgalis su lietuvišku kinu\, virtuali peržiūra
DESCRIPTION:LT\n\nBendradarbiaujant su legendiniais Jonas Mekas įkurtais Antologijos kino archyvais\, visose JAV pirmą kartą pristatomas Baltijos šalių modernistinis kinas: po tris filmus iš  Lietuvos\,  Latvijos ir  Estijos.\n\n\n\nProgramoje rodomi\, 1969 m. sukurti\, dabar restauruoti\, lietuviško kino paveldo filmai. 1) Arūno Žebriūno drama „Gražuolė“\, pasakojanti nuoširdžią istoriją apie vaikus ir įvairiaspalvius jų tarpusavio santykius. 2) Almanto Grikevičiaus vaidybinis filmas „Ave\, Vita!“ apie du draugus\, kurie iškentę konclagerio pragarą\, sugeba išsaugoti meilę gyvenimui bei žmonėms. 3) Raimondo Vabalo „Birželis\, vasaros pradžia“\, vaizduojantis vieną\, birželio tvankumos apimtą mažo provincijos miestelio dieną. Šio filmo scenarijų režisierius su rašytoju Icchoku Meru perrašinėjo net kelis sykius\, nes šis vis neįtiko cenzoriams ir net kelis dešimtmečius dulkėjo lentynose.\n\nFilmus nemokamai peržiūrėkite iki birželio 8 d.: http://anthologyfilmarchives.org/film…/series/53494\n\nEN \n\nDue to the Iron Curtain Baltic films would rarely reach Western screens. Surprisingly\, that has not changed even following the collapse of the Soviet Union\, the Baltic filmmakers of the era have remained virtually unknown. Therefore\, the Anthology Film Archives (created by Jonas Mekas\, the famous Lithuanian American filmmaker) showcase nine feature films from Lithuania\, Latvia\, and Estonia – ranging from allegorical fictions to realist visions of the everyday – by the most renowned film directors of the 1960s-70s.\n\n\nEnglish subtitles available!\n\n\n\nStream the films for free until June 8th: http://anthologyfilmarchives.org/film…/series/53494
URL:https://vakaruvejai.com/renginys/savaitgalis-su-lietuvisku-kinu-virtuali-perziura/
LOCATION:virtualiai
CATEGORIES:Arizona,Hawaii,Lietuviški renginiai,Los Andželas,Nevada,Portlandas,San Diego,San Franciskas,Seattle,Virtualus renginys
ATTACH;FMTTYPE=image/jpeg:https://vakaruvejai.com/wp-content/uploads/2021/06/189437356_1954156681388946_2427368490924416858_n.jpg
ORGANIZER;CN="Lietuvos generalinis konsulatas Los And%C5%BEele":MAILTO:kons.losandzelas@urm.lt
END:VEVENT
END:VCALENDAR