BEGIN:VCALENDAR
VERSION:2.0
PRODID:-//Vakarų Vėjai - ECPv6.15.3//NONSGML v1.0//EN
CALSCALE:GREGORIAN
METHOD:PUBLISH
X-WR-CALNAME:Vakarų Vėjai
X-ORIGINAL-URL:https://vakaruvejai.com
X-WR-CALDESC:Vakarų Vėjai renginiai
REFRESH-INTERVAL;VALUE=DURATION:PT1H
X-Robots-Tag:noindex
X-PUBLISHED-TTL:PT1H
BEGIN:VTIMEZONE
TZID:America/Los_Angeles
BEGIN:DAYLIGHT
TZOFFSETFROM:-0800
TZOFFSETTO:-0700
TZNAME:PDT
DTSTART:20230312T100000
END:DAYLIGHT
BEGIN:STANDARD
TZOFFSETFROM:-0700
TZOFFSETTO:-0800
TZNAME:PST
DTSTART:20231105T090000
END:STANDARD
END:VTIMEZONE
BEGIN:VEVENT
DTSTART;TZID=America/Los_Angeles:20230325T163000
DTEND;TZID=America/Los_Angeles:20230325T183000
DTSTAMP:20260423T143709
CREATED:20230315T034859Z
LAST-MODIFIED:20230315T034859Z
UID:24095-1679761800-1679769000@vakaruvejai.com
SUMMARY:SF Jaunimo Futbolo Renginys\, San Franciskas
DESCRIPTION:
URL:https://vakaruvejai.com/renginys/sf-jaunimo-futbolo-renginys-san-franciskas/
LOCATION:Castro Valley High School\, 19400 Santa Maria Ave\, Castro Valley\, CA\, 94546
CATEGORIES:Lietuviški renginiai,San Franciskas
ATTACH;FMTTYPE=image/jpeg:https://vakaruvejai.com/wp-content/uploads/2023/03/335627741_611545707528357_3425423725577938860_n.jpeg
END:VEVENT
END:VCALENDAR