BEGIN:VCALENDAR
VERSION:2.0
PRODID:-//Vakarų Vėjai - ECPv6.15.3//NONSGML v1.0//EN
CALSCALE:GREGORIAN
METHOD:PUBLISH
X-ORIGINAL-URL:https://vakaruvejai.com
X-WR-CALDESC:Vakarų Vėjai renginiai
REFRESH-INTERVAL;VALUE=DURATION:PT1H
X-Robots-Tag:noindex
X-PUBLISHED-TTL:PT1H
BEGIN:VTIMEZONE
TZID:America/Los_Angeles
BEGIN:DAYLIGHT
TZOFFSETFROM:-0800
TZOFFSETTO:-0700
TZNAME:PDT
DTSTART:20220313T100000
END:DAYLIGHT
BEGIN:STANDARD
TZOFFSETFROM:-0700
TZOFFSETTO:-0800
TZNAME:PST
DTSTART:20221106T090000
END:STANDARD
BEGIN:DAYLIGHT
TZOFFSETFROM:-0800
TZOFFSETTO:-0700
TZNAME:PDT
DTSTART:20230312T100000
END:DAYLIGHT
BEGIN:STANDARD
TZOFFSETFROM:-0700
TZOFFSETTO:-0800
TZNAME:PST
DTSTART:20231105T090000
END:STANDARD
BEGIN:DAYLIGHT
TZOFFSETFROM:-0800
TZOFFSETTO:-0700
TZNAME:PDT
DTSTART:20240310T100000
END:DAYLIGHT
BEGIN:STANDARD
TZOFFSETFROM:-0700
TZOFFSETTO:-0800
TZNAME:PST
DTSTART:20241103T090000
END:STANDARD
END:VTIMEZONE
BEGIN:VEVENT
DTSTART;VALUE=DATE:20240206
DTEND;VALUE=DATE:20240208
DTSTAMP:20260423T131337
CREATED:20240127T022812Z
LAST-MODIFIED:20240127T022812Z
UID:25853-1707177600-1707350399@vakaruvejai.com
SUMMARY:Gavėnios rekolekcijos/susikaupimas su t. Antanu Saulaičiu\, Virtualus renginys
DESCRIPTION:Kviečiame dalyvauti gavėnios susikaupime – rekolekcijose – gyvai Pal. Jurgio Matulaičio misijos bažnyčioje Lemonte (Pasaulio Lietuvių Centre\, 14911 127th St\, Lemont\, IL\, 60439) arba stebint tiesioginę transliaciją per Youtube iš bet kurios pasaulio vietos!\n\nDalyvaujančius gyvai\, kviečiame atvykti apie 10 min anksčiau prieš rekolekcijų pradžią.\n\nDatos: Rekolekcijos vyks vasario 6 d. 7:00 val. ryte PST ir vasario 7 d. 4:30 val. vakare PST.\n \nTrukmė: apie 1 valandą.\n \nRekolekcijų temos: „Šviesa tamsoje” ir „Prisikėlimo ženklai”. \n \nVedėjas – t. Antanas Saulaitis\, SJ. \n \n\nTransliacijos nuoroda vasario 6 d. 7:00 val. ryte PST: \nhttps://youtube.com/live/QuBcGGd95b0?feature=share\n\nTransliacijos nuoroda vasario 7 d. 4:30 val. vakare PST:\nhttps://youtube.com/live/8WmY8m-47Pg?feature=share\n\n \nAukoti kviečiame per Online Giving platformą spaudžiant nuorodą: https://www.osvhub.com/matulaitis-mission/giving/funds/gav-nios-rekolekcijos-su-t-antanu-saulai-iu\n\nTransliacijos nuorodas taip pat surasite per misijos interneto puslapį www.matulaitismission.com\n\nRekolekcijų metų naudosime teksto ištrauką\, kurią prisegu. Prisegu rekolekcijų plakatą ir kitų Lemonte Pasaulio lietuvių centre planuojamų renginių ir pamaldų sąrašą\, kuriuose tėvas Antanas Saulaitis SJ savo viešnagės metu dalyvaus.\n\nNuoširdžiai ačiū\, kad esate su mumis.\n\nPalaimos visiems\,\nPJM misija\n\n\n—  \n\n\n\n\nBirute O’Brien\, Operations Director\nPalaimintojo Jurgio Matulaičio misija\nBlessed Jurgis Matulaitis mission\n14911 127th Street\nLemont\, IL  60439\n630 257-5613\nmatulaitismission@gmail.com\nwww.matulaitismission.com
URL:https://vakaruvejai.com/renginys/gavenios-rekolekcijos-susikaupimas-su-t-antanu-saulaiciu-virtualus-renginys/
LOCATION:Palaimintojo Jurgio Matulaičio Misijos Bažnyčia\, 14911 E 127th St.\, Lemont\, IL\, 60439
CATEGORIES:Lietuviški renginiai,Virtualus renginys
ATTACH;FMTTYPE=image/png:https://vakaruvejai.com/wp-content/uploads/2024/01/Gavenios-rekolekcijos-2024.png
ORGANIZER;CN="Palaimintojo Jurgio Matulai%C4%8Dio Misija":MAILTO:matulaitismission@gmail.com
END:VEVENT
BEGIN:VEVENT
DTSTART;VALUE=DATE:20220329
DTEND;VALUE=DATE:20220401
DTSTAMP:20260423T131337
CREATED:20220325T201443Z
LAST-MODIFIED:20220325T203302Z
UID:20630-1648512000-1648771199@vakaruvejai.com
SUMMARY:Gavėnios rekolekcijos su Tėvu Antanu Saulaičiu\, Virtualus renginys
DESCRIPTION:Mielieji Gavėnios rekolekcijų su t. Antanu Saulaičiu\, SJ\, dalyviai\, \nLabai ačiū\, kad dalyvausite virtualiose pasaulio lietuvių Gavėnios rekolekcijose\, kurias praves t. Antanas! Rekolekcijų tema: „15-oji stotis – Prisikėlimas”. Iki rekolekcijų pradžios liko tik kelios dienos! Kviečiame\, gausiai dalyvaukite patys ir dalinkitės šiuo el. laišku su lietuviais visuose kraštuose! \nInformacija:  \n1. Laikas\, data ir prisijungimo nuoroda: \nGavėnios rekolekcijos 2022 vyks kovo 29\, 30 ir 31 dienomis. Prasidės 9:00 val. r. Čikagos laiku (Lietuvoje 5:00 val. v.). Kasdienių rytinių rekolekcijų trukmė – apie 1 val. Kovo 30 d.\, trečiadienį\, 7 val. v. Čikagos laiku taip pat vyks asmeninis pasidalinimas – moderuos dr. Aldona Lingertaitė – šiam vakarui atsiųsime atskirą prisijungimo nuorodą. Rekolekcijų rytais prisijungsite spausdami šią nuorodą: \nJoin Zoom Meeting \nhttps://us06web.zoom.us/j/88469369396 \n2. Kviečiame jungtis kelias minutes anksčiau. SVARBU: prašome visų dalyvių – išjunkite savo mikrofoną – spauskite „mute”. \n3. Rekolekcijų įrašai. Kiekvieną rekolekcijų dienos vakarą atsiųsime tos dienos rekolekcijų įrašą\, kurį bus galima bet kada peržiūrėti per misijos youtube kanalą. Jei negaunate mūsų el. pašto\, prašome rašykite el. laišką į misiją adresu: matulaitismission@gmail.com arba užpildykite rekolekcijų registracijos formą www.matulaitismission.com. Iškilus klausimams rašykite el. laišką į misiją arba skambinkite į misijos raštinę tel. 630-257-5613. \n4. Auka už rekolekcijų pravedimą. Nuoširdžiai dėkojame mielam t. Antanui už jo darbą ir laiką pravedant Gavėnios 2022 rekolekcijas! \nKviečiame\, kas galite ir norite\, t. Antanui paaukoti savo laisvos valios auką kaip padėką –  internetu\, naudojant kredito ar kitą banko kortelę\, per saugų misijos „Online Giving” portalą\, spaudžiant šią nuorodą: \nhttps://www.osvhub.com/matulaitis-mission/funds/auka-gav-nios-rekolekcij-ved-jui-t-antanui \nTaip pat galima atsiųsti auką paštu į Matulaitis Mission\, ATTN: Birute O’Brien\, 14911 127th St\, Lemont\, 60439. Čekį prašome rašyti “Blessed Matulaitis Mission” vardu ir būtinai nurodyti prie memo: „Gavėnios rekolekcijos.” \nAukotojai iš Lietuvos – čia LT jėzuitų banko informacija: \nLIETUVOS JĖZUITŲ PROVINCIJA; Įmonės kodas 191893936; Didžioji 34\, 01128 Vilnius LIETUVA; AB SEB bankas; Banko kodas  70440; Atsisk. s-ta   LT34 7044 0600 0112 3231. \nAuka nėra būtina – visi kviečiami dalyvauti šiose rekolekcijose! \nAčiū\, kad esate su mumis! \nNuoširdžiai\, \nPal. Jurgio Matulaičio Misija \n  \nBirute O’Brien\, Office Administrator \n\n\n\n\nPalaimintojo Jurgio Matulaičio misija\nBlessed Jurgis Matulaitis mission\n14911 127th Street\nLemont\, IL  60439\n630 257-5613\nmatulaitismission@gmail.com
URL:https://vakaruvejai.com/renginys/gavenios-rekolekcijos-su-tevu-antanu-saulaiciu-virtualus-renginys/
LOCATION:Virtualus renginys
CATEGORIES:Arizona,Hawaii,Lietuviški renginiai,Los Andželas,Nevada,Portlandas,San Diego,San Franciskas,Seattle,Virtualus renginys
ATTACH;FMTTYPE=image/jpeg:https://vakaruvejai.com/wp-content/uploads/2022/03/imqi1otz3usfof3dr3wg.jpg
ORGANIZER;CN="Matulaitis Mission":MAILTO:matulaitismission@gmail.com
END:VEVENT
END:VCALENDAR