BEGIN:VCALENDAR
VERSION:2.0
PRODID:-//Vakarų Vėjai - ECPv6.15.3//NONSGML v1.0//EN
CALSCALE:GREGORIAN
METHOD:PUBLISH
X-WR-CALNAME:Vakarų Vėjai
X-ORIGINAL-URL:https://vakaruvejai.com
X-WR-CALDESC:Vakarų Vėjai renginiai
REFRESH-INTERVAL;VALUE=DURATION:PT1H
X-Robots-Tag:noindex
X-PUBLISHED-TTL:PT1H
BEGIN:VTIMEZONE
TZID:America/Los_Angeles
BEGIN:DAYLIGHT
TZOFFSETFROM:-0800
TZOFFSETTO:-0700
TZNAME:PDT
DTSTART:20210314T100000
END:DAYLIGHT
BEGIN:STANDARD
TZOFFSETFROM:-0700
TZOFFSETTO:-0800
TZNAME:PST
DTSTART:20211107T090000
END:STANDARD
BEGIN:DAYLIGHT
TZOFFSETFROM:-0800
TZOFFSETTO:-0700
TZNAME:PDT
DTSTART:20220313T100000
END:DAYLIGHT
BEGIN:STANDARD
TZOFFSETFROM:-0700
TZOFFSETTO:-0800
TZNAME:PST
DTSTART:20221106T090000
END:STANDARD
BEGIN:DAYLIGHT
TZOFFSETFROM:-0800
TZOFFSETTO:-0700
TZNAME:PDT
DTSTART:20230312T100000
END:DAYLIGHT
BEGIN:STANDARD
TZOFFSETFROM:-0700
TZOFFSETTO:-0800
TZNAME:PST
DTSTART:20231105T090000
END:STANDARD
BEGIN:DAYLIGHT
TZOFFSETFROM:-0800
TZOFFSETTO:-0700
TZNAME:PDT
DTSTART:20240310T100000
END:DAYLIGHT
BEGIN:STANDARD
TZOFFSETFROM:-0700
TZOFFSETTO:-0800
TZNAME:PST
DTSTART:20241103T090000
END:STANDARD
END:VTIMEZONE
BEGIN:VEVENT
DTSTART;VALUE=DATE:20240614
DTEND;VALUE=DATE:20240616
DTSTAMP:20260423T145945
CREATED:20240601T043223Z
LAST-MODIFIED:20240615T071140Z
UID:26968-1718323200-1718495999@vakaruvejai.com
SUMMARY:ATŠAUKTA!  LACWA tremtinių vardų skaitymas\, Sietlas\, WA
DESCRIPTION:LT \nInformacija dar ruošiama. Gedulo ir vilties dienai paminėti\, kai 1941 m. birželio 14 d. dešimtys tūkstančių lietuvių buvo ištremti į Sibirą\, mūsų bendruomenė dalyvaus internetiniame tremtinių vardų skaityme. Susitiksime Sietlo Leschi apylinkėje. \nDaugiau informacijos netrukus. \nEN \nThis is still being worked out. To commemorate Gedulo ir vilties diena  / The Day of Mourning and Hope\, when tens of thousands of Lithuanians were deported to Siberia on June 14\, 1941\, our community will participate in the online reading of deportee names and dispositions.  We’ll meet in the Leschi neighborhood of Seattle. \nSpecifics will be provided once finalized.
URL:https://vakaruvejai.com/renginys/lacwa-tremtiniu-vardu-skaitymas-sietlas-wa/
LOCATION:Seattle\, WA
CATEGORIES:Lietuviški renginiai,Seattle
ATTACH;FMTTYPE=image/jpeg:https://vakaruvejai.com/wp-content/uploads/2024/05/IMG_6963-scaled.jpg
ORGANIZER;CN="Seattle Lithuanian Community/Seattle Lietuvi%C5%B3 Bendruomen%C4%97":MAILTO:seattlelb.president@gmail.com
END:VEVENT
BEGIN:VEVENT
DTSTART;VALUE=DATE:20220612
DTEND;VALUE=DATE:20220613
DTSTAMP:20260423T145945
CREATED:20220608T235530Z
LAST-MODIFIED:20220608T235530Z
UID:21739-1654992000-1655078399@vakaruvejai.com
SUMMARY:❗️Renginys nukeliamas❗️Į Los Andželą atkeliauja ypatinga paroda iš Lietuvos skirta Gedulo ir Vilties dienai paminėti\, Los Andželas
DESCRIPTION:❗DĖMESIO❗ Apgailestaujame\, kad dėl objektyvių priežasčių parodos atidarymas yra nukeliamas. Dėl naujos datos informuosime atskiru pranešimu. \nĮ Los Andželą atkeliauja ypatinga paroda iš Lietuvos skirta Gedulo ir Vilties dienai paminėti. \nLietuvos Gyventojų Genocido ir Rezistencijos tyrimo centro parengtos parodos “KREPŠINIS SOVIETŲ LAGERIUOSE IR TREMTYJE” ekspozicija bus pristatyta artimiausiu laiku. \nSovietų lageriuose ir tremtyje\, kur kiekviena diena reiškė žūtbūtinę kovą už išlikimą\, šis žaidimas telkė lietuvius\, teikė viltį ir kėlė pasididžiavimą Lietuva. \nDėl naujos ekspozicijos datos sekite informaciją socialiniuose tinkluose.
URL:https://vakaruvejai.com/renginys/%e2%9d%97%ef%b8%8frenginys-nukeliamas%e2%9d%97%ef%b8%8fi-los-andzela-atkeliauja-ypatinga-paroda-is-lietuvos-skirta-gedulo-ir-vilties-dienai-pamineti-los-andzelas/
LOCATION:Šv. Kazimiero parapija Los Andžele\, 2718 St George St\, Los Angeles\, CA\, 90027\, United States
CATEGORIES:Lietuviški renginiai,Los Andželas
ATTACH;FMTTYPE=image/jpeg:https://vakaruvejai.com/wp-content/uploads/2022/06/C372D35A-0051-4599-9407-9C7BC7FB6600-scaled.jpeg
END:VEVENT
BEGIN:VEVENT
DTSTART;TZID=America/Los_Angeles:20210613T110000
DTEND;TZID=America/Los_Angeles:20210613T123000
DTSTAMP:20260423T145945
CREATED:20210604T234542Z
LAST-MODIFIED:20210605T011132Z
UID:16566-1623582000-1623587400@vakaruvejai.com
SUMMARY:Gedulo ir vilties dienos tremties pradžios 80 - osios metinės\, Los Andželas
DESCRIPTION:Gedulo ir vilties dienos proga kviečiame kartu paminėti 80-ąsias tremties pradžios Lietuvoje metines jau tradicine tapusia akcija „Ištark! Išgirsk! Išsaugok!”. Ištardami tremtinių ir politinių kalinių vardus\, pavardes ir likimus\, išsaugokime istoriją bei ryžtą prisiminti.\n Akcija vyks birželio 13 d.\, nuo 11 val. ryte Šv. Mišių metu šv. Kazimiero lietuvių parapijoje\, Los Andžele.\n Renginio metu bus pristatyta Lietuvos Respublikos generaliniame konsulate Los Andžele naujai pradedanti eiti pareigas generalinė konsulė Laima Jurevičienė.\n Renginys nemokamas. Registracija privaloma tel. Nr. +1 310-804-7549 (Zita\, parapijos administratorė)\n———\nJeigu neturite galimybės gyvai prisijungti prie šios akcijos\, kviečiame dalyvauti virtualiuose skaitymuose. Daugiau informacijos rasite: www.birzelio14.lt\n———\nOn the occasion of the Day of Mourning and Hope we invite you to commemorate the day on which mass arrests and deportations of Lithuanian citizens to Siberia started 80 years ago. The initiative „Say it! Hear it! Remember it!” aims to preserve and honor the memory of the victims of communism by reading the names of the deportees and political prisoners.\n Join us for the initiative during the holy Mass at St Casimir Lithuanian Catholic Church in Los Angeles\, 6/13 at 11AM.\n The new Consul General to the Consulate General of the Republic of Lithuania in Los Angeles will be introduced to the community during the event.\n Free entrance. Registration required: call or text +1 310-804-7549 (Zita\, parish administrator)\n———\nDaugiau informacijos / More informacijos: https://www.facebook.com/events/306893551140105
URL:https://vakaruvejai.com/renginys/gedulo-ir-vilties-dienos-tremties-pradzios-80-osios-metines-los-andzelas/
LOCATION:Šv. Kazimiero parapija Los Andžele\, 2718 St George St\, Los Angeles\, CA\, 90027\, United States
CATEGORIES:Lietuviški renginiai,Los Andželas
ATTACH;FMTTYPE=image/jpeg:https://vakaruvejai.com/wp-content/uploads/2021/06/193161302_381158846663051_2450985597187405141_n-scaled.jpg
ORGANIZER;CN="Lietuvos generalinis konsulatas Los And%C5%BEele":MAILTO:kons.losandzelas@urm.lt
END:VEVENT
END:VCALENDAR