BEGIN:VCALENDAR
VERSION:2.0
PRODID:-//Vakarų Vėjai - ECPv6.15.3//NONSGML v1.0//EN
CALSCALE:GREGORIAN
METHOD:PUBLISH
X-WR-CALNAME:Vakarų Vėjai
X-ORIGINAL-URL:https://vakaruvejai.com
X-WR-CALDESC:Vakarų Vėjai renginiai
REFRESH-INTERVAL;VALUE=DURATION:PT1H
X-Robots-Tag:noindex
X-PUBLISHED-TTL:PT1H
BEGIN:VTIMEZONE
TZID:America/Los_Angeles
BEGIN:DAYLIGHT
TZOFFSETFROM:-0800
TZOFFSETTO:-0700
TZNAME:PDT
DTSTART:20260308T100000
END:DAYLIGHT
BEGIN:STANDARD
TZOFFSETFROM:-0700
TZOFFSETTO:-0800
TZNAME:PST
DTSTART:20261101T090000
END:STANDARD
END:VTIMEZONE
BEGIN:VEVENT
DTSTART;TZID=America/Los_Angeles:20260418T163000
DTEND;TZID=America/Los_Angeles:20260418T190000
DTSTAMP:20260423T123453
CREATED:20260131T122135Z
LAST-MODIFIED:20260411T072255Z
UID:30509-1776529800-1776538800@vakaruvejai.com
SUMMARY:San Francisko lituanistinei mokyklai „Genys“ – 20!
DESCRIPTION:2026-ieji San Francisko lituanistinei mokyklai „Genys“ – ypatingi metai!\nBalandžio 18 d. kartu minėsime mokyklos 20-ąsias įkūrimo metines – du dešimtmečius bendrystės\, lietuviškos dvasios ir augimo.\n\n\n\nSF Genio Mokykla šiemet švenčia ypatingą sukaktį – 20 metų!\nNuoširdžiai kviečiame mokytojus\, mokinius\, tėvelius\, padėjėjus\, buvusius dalyvius ir visus\, norinčius paremti mokyklą prisijungti prie mūsų 20-mečio šventės!\n 20-mečio šventė – balandžio 18 d. 16:30–21:00 Mokyklos salėje\, Castro Valley\, CA\n Bilietai ir renginio paramos akcija:\n BILIETAI:https://www.zeffy.com/en-US/ticketing/jubiliejine-svente\n Bilietai brangs nuo kovo 15 d.\n PARAMOS AKCIJA – $20 už 20 metų mokyklos gyvavimo:https://www.zeffy.com/…/donation-form/20dollar-uz-20-metu\nTai bus puiki proga:• prisiminti gražiausias akimirkas• pabūti kartu• ir palaikyti mokyklą\, kuri jau 20 metų puoselėja lietuvišką švietimą\nDžiaugiamės galėdami švęsti kartu su Jumis! Lauksime Jūsų šventėje! \n— SF Genio Mokyklos Komanda
URL:https://vakaruvejai.com/renginys/san-francisko-lituanistinei-mokyklai-genys-20/
LOCATION:Lituanistinė mokykla „Genys”\, 778 26th Ave\, San Francisco\, CA\, 94121-3614\, United States
CATEGORIES:Lietuviški renginiai,San Franciskas
ATTACH;FMTTYPE=image/jpeg:https://vakaruvejai.com/wp-content/uploads/2026/01/1dab3d88-902c-aa6f-4261-945ba1eafa4d.jpg
END:VEVENT
BEGIN:VEVENT
DTSTART;TZID=America/Los_Angeles:20260322T120000
DTEND;TZID=America/Los_Angeles:20260322T150000
DTSTAMP:20260423T123453
CREATED:20260312T003419Z
LAST-MODIFIED:20260312T003521Z
UID:30693-1774180800-1774191600@vakaruvejai.com
SUMMARY:Lithuanian sisters - 2 metų gimtadienio šventė\, San Franciskas
DESCRIPTION:Prieš dvejus metus gimė Lithuanian Sisters – iš paprastos idėjos suburti moteris\, kurios nori dalintis\, palaikyti viena kitą ir kurti prasmingus ryšius.\nPer šiuos dvejus metus atsirado tiek daug gražių susitikimų\, pokalbių\, projektų ir draugysčių\, kad norisi trumpam sustoti ir tai kartu paminėti.\nKviečiame jus į jaukią gimtadienio popietę Montalvo Art Center – vienoje gražiausių Bay Area vietų\, apsuptoje meno\, gamtos ir įkvepiančios atmosferos.\nAteikite su drauge.Kviečiame puodeliui arbatos\, pasibūvimui kartu ir tiesiog pasidžiaugti tuo\, ką kartu sukūrėme per šiuos dvejus metus.\nJokių oficialių kalbųJokių dovanųGražiausia dovana – jūsų laikas ir bendrystė\nNes mes tikime vienu paprastu dalyku: moterų draugystė yra jėga.\nLabai lauksime jūsų.
URL:https://vakaruvejai.com/renginys/lithuanian-sisters-2-metu-gimtadienio-svente-san-franciskas/
LOCATION:Montalvo Arts Center\, 15400 Montalvo Rd\, Saratoga\, CA\, 95070
CATEGORIES:Lietuviški renginiai,San Franciskas
ATTACH;FMTTYPE=image/jpeg:https://vakaruvejai.com/wp-content/uploads/2026/03/649122789_122301458582228608_3565783199842421273_n.jpg
ORGANIZER;CN="Lithuanian Sisters":MAILTO:info@lithuaniansisters.com
END:VEVENT
END:VCALENDAR