BEGIN:VCALENDAR
VERSION:2.0
PRODID:-//Vakarų Vėjai - ECPv6.15.3//NONSGML v1.0//EN
CALSCALE:GREGORIAN
METHOD:PUBLISH
X-WR-CALNAME:Vakarų Vėjai
X-ORIGINAL-URL:https://vakaruvejai.com
X-WR-CALDESC:Vakarų Vėjai renginiai
REFRESH-INTERVAL;VALUE=DURATION:PT1H
X-Robots-Tag:noindex
X-PUBLISHED-TTL:PT1H
BEGIN:VTIMEZONE
TZID:America/Los_Angeles
BEGIN:DAYLIGHT
TZOFFSETFROM:-0800
TZOFFSETTO:-0700
TZNAME:PDT
DTSTART:20250309T100000
END:DAYLIGHT
BEGIN:STANDARD
TZOFFSETFROM:-0700
TZOFFSETTO:-0800
TZNAME:PST
DTSTART:20251102T090000
END:STANDARD
END:VTIMEZONE
BEGIN:VEVENT
DTSTART;TZID=America/Los_Angeles:20250221T183000
DTEND;TZID=America/Los_Angeles:20250221T203000
DTSTAMP:20260423T173353
CREATED:20250215T101012Z
LAST-MODIFIED:20250215T101012Z
UID:28425-1740162600-1740169800@vakaruvejai.com
SUMMARY:Susitikimas su svečiais iš Vašingtono ir Meksikos\, San Franciskas
DESCRIPTION:Susitikimas su Žilvinu Tomkum\, buvusiu krašto apsaugos viceministru ir dabartiniu ambasadorės Amerikoje patarėju gynybos klausimais\, bei su Jolita Mikštaite\, Meksikos lietuvių bendruomenės pirmininke bei Hitron technologijų direktore komercijai.
URL:https://vakaruvejai.com/renginys/susitikimas-su-sveciais-is-vasingtono-ir-meksikos-san-franciskas/
LOCATION:Iron Horse Cocktails\, 25 Maiden Ln\, Union Square\, San Francisco\, 94108\, United States
CATEGORIES:San Franciskas
ATTACH;FMTTYPE=image/jpeg:https://vakaruvejai.com/wp-content/uploads/2025/02/475774028_9794095860604713_2656542434289373743_n.jpeg
END:VEVENT
END:VCALENDAR