BEGIN:VCALENDAR
VERSION:2.0
PRODID:-//Vakarų Vėjai - ECPv6.15.3//NONSGML v1.0//EN
CALSCALE:GREGORIAN
METHOD:PUBLISH
X-WR-CALNAME:Vakarų Vėjai
X-ORIGINAL-URL:https://vakaruvejai.com
X-WR-CALDESC:Vakarų Vėjai renginiai
REFRESH-INTERVAL;VALUE=DURATION:PT1H
X-Robots-Tag:noindex
X-PUBLISHED-TTL:PT1H
BEGIN:VTIMEZONE
TZID:America/Los_Angeles
BEGIN:DAYLIGHT
TZOFFSETFROM:-0800
TZOFFSETTO:-0700
TZNAME:PDT
DTSTART:20240310T100000
END:DAYLIGHT
BEGIN:STANDARD
TZOFFSETFROM:-0700
TZOFFSETTO:-0800
TZNAME:PST
DTSTART:20241103T090000
END:STANDARD
END:VTIMEZONE
BEGIN:VEVENT
DTSTART;TZID=America/Los_Angeles:20240225T140000
DTEND;TZID=America/Los_Angeles:20240225T153000
DTSTAMP:20260423T173631
CREATED:20240210T045409Z
LAST-MODIFIED:20240224T020432Z
UID:26042-1708869600-1708875000@vakaruvejai.com
SUMMARY:"Vilna: A Resistance story" koncertinis atlikimas\, Los Andželas
DESCRIPTION:Vasario 25 d. 2 pm visus kviečiame į Writers Bloc Presents\, Holocaust Museum L.A. ir The Ebell of Los Angeles pristatomą miuziklo „Vilna: A Resistance story” koncertinį atlikimą! Renginys vyks The Ebell of Los Angeles\, 743 S Lucerne Blvd\, Los Angeles. \nDaugiau informacijos rasite čia: https://www.holocaustmuseumla.org/event-details/vilna-a-resistance-story-1?fbclid=IwAR1UDJnK2tIx_eOtHnsENO_7XIwGLYdu7nBz_VYpuH7SGoN_Z9SmUdraDBk \nEntrance: Dining Room\n741 S Lucerne Blvd.\nFREE parking: East Lot entrance via Lucerne Blvd.
URL:https://vakaruvejai.com/renginys/vilna-a-resistance-story-koncertinis-atlikimas-los-andzelas/
LOCATION:The Ebell of Los Angeles\, 743 S Lucerne Blvd\, Los Angeles\, CA\, 90005
CATEGORIES:Los Andželas
ATTACH;FMTTYPE=image/png:https://vakaruvejai.com/wp-content/uploads/2024/02/Screen-Shot-2024-02-09-at-8.26.45-PM.png
END:VEVENT
END:VCALENDAR