BEGIN:VCALENDAR
VERSION:2.0
PRODID:-//Vakarų Vėjai - ECPv6.15.3//NONSGML v1.0//EN
CALSCALE:GREGORIAN
METHOD:PUBLISH
X-WR-CALNAME:Vakarų Vėjai
X-ORIGINAL-URL:https://vakaruvejai.com
X-WR-CALDESC:Vakarų Vėjai renginiai
REFRESH-INTERVAL;VALUE=DURATION:PT1H
X-Robots-Tag:noindex
X-PUBLISHED-TTL:PT1H
BEGIN:VTIMEZONE
TZID:America/Los_Angeles
BEGIN:DAYLIGHT
TZOFFSETFROM:-0800
TZOFFSETTO:-0700
TZNAME:PDT
DTSTART:20260308T100000
END:DAYLIGHT
BEGIN:STANDARD
TZOFFSETFROM:-0700
TZOFFSETTO:-0800
TZNAME:PST
DTSTART:20261101T090000
END:STANDARD
END:VTIMEZONE
BEGIN:VEVENT
DTSTART;TZID=America/Los_Angeles:20260301T130000
DTEND;TZID=America/Los_Angeles:20260301T150000
DTSTAMP:20260423T160343
CREATED:20260226T041014Z
LAST-MODIFIED:20260226T041014Z
UID:30610-1772370000-1772377200@vakaruvejai.com
SUMMARY:LA lietuvių bendruomenė pristato: filmo peržiūra ir pokalbis su Aisčiu Mickevičium ir Ineta Stasiulyte\, Los Andželas
DESCRIPTION:SEKMADIENĮ\, KOVO 1\, 13:00 \nTAUTINIUOSE NAMUOSE (3356 GLENDALE BL) \nBILIETAI $15 (STUDENTAMS IR PENSININKAMS $10) – PRIE DURŲ \nTAIP PAT\, BUS PROGA SUSIPAŽINTI IR ĮSIGYTI A. MICKEVIČIAUS „FUM PARFUM“ KVEPALUS \nLegendinės legendos FELICITÀ“ (2025 m.) – komiška kelio komedija\, kurioje legendinė estrados pora Orestas ir Džilda Vaigauskai (akt. Aistis Mickevičius ir Ineta Stasiulytė) keliauja į San Remo festivalį Italijoje. Ši šilta\, muzikali istorija rodo jų santykių išbandymus\, susitikimus su ekscentriškais personažais ir pavydo bei ambicijų dramas\, lydimas itališkos saulės.  \nPagrindinė informacija: \n\nŽanras: Kelio komedija\, kelionių.\nAktoriai: Aistis Mickevičius (Orestas)\, Ineta Stasiulytė (Džilda)\, Antanas Obcarskas (Vytautas Birutis).\nTrukmė: 95 min.\nAmžiaus cenzas: N-13.\nKalba: Lietuvių.\n\nSiužetas:\nLegendinis estradinis duetas – Vaigauskai – kartu su kukliu žurnalistu Vytautu leidžiasi į kelionę per Italiją. Kelionės tikslas – San Remo dainų festivalis\, tačiau kelias virsta santykių labirintu\, kuriame netrūksta netikėtų intrigų\, priešų ir išbandymų\, keliančių klausimą\, ar duetas išliks.
URL:https://vakaruvejai.com/renginys/la-lietuviu-bendruomene-pristato-filmo-perziura-ir-pokalbis-su-aisciu-mickevicium-ir-ineta-stasiulyte-los-andzelas/
LOCATION:Lietuvių Tautiniai Namai\, 3359 Glendale Blvd.\, Lis Angeles\, CA\, 90039
CATEGORIES:Lietuviški renginiai,Los Andželas
ATTACH;FMTTYPE=image/jpeg:https://vakaruvejai.com/wp-content/uploads/2026/02/Felicitas2.jpg
END:VEVENT
END:VCALENDAR