BEGIN:VCALENDAR
VERSION:2.0
PRODID:-//Vakarų Vėjai - ECPv6.15.3//NONSGML v1.0//EN
CALSCALE:GREGORIAN
METHOD:PUBLISH
X-ORIGINAL-URL:https://vakaruvejai.com
X-WR-CALDESC:Vakarų Vėjai renginiai
REFRESH-INTERVAL;VALUE=DURATION:PT1H
X-Robots-Tag:noindex
X-PUBLISHED-TTL:PT1H
BEGIN:VTIMEZONE
TZID:America/Los_Angeles
BEGIN:DAYLIGHT
TZOFFSETFROM:-0800
TZOFFSETTO:-0700
TZNAME:PDT
DTSTART:20220313T100000
END:DAYLIGHT
BEGIN:STANDARD
TZOFFSETFROM:-0700
TZOFFSETTO:-0800
TZNAME:PST
DTSTART:20221106T090000
END:STANDARD
END:VTIMEZONE
BEGIN:VEVENT
DTSTART;VALUE=DATE:20220305
DTEND;VALUE=DATE:20220327
DTSTAMP:20260423T180507
CREATED:20220306T002844Z
LAST-MODIFIED:20220306T002844Z
UID:20392-1646438400-1648339199@vakaruvejai.com
SUMMARY:Lietuvės menininkės Ingos Gužytės meno paroda\, Los Andželas
DESCRIPTION:Santa Barbaros lietuvės meninkės\, talentingosios Inga Guzyte Art paroda kartu su kitais keturiais menininkais bus eksponuojama Los Andžele\, LAUNCH LA meno galerijoje\, kovo 5-26 d.\n\n\nParodos atidarymas šeštadienį\, kovo 5 d.\, nuo 17 iki 20 val.!\n\n\n\nDaugiau informacijos http://www.ingaguzyte.com/ ir https://www.facebook.com/events/505794277702977
URL:https://vakaruvejai.com/renginys/lietuves-menininkes-ingos-guzytes-meno-paroda-los-andzelas/
LOCATION:LAUNCH LA\, 170 S. La Brea Ave\, Los Angeles\, CA\, 90036\, Jungtinės Amerikos Valstijos
CATEGORIES:Los Andželas
ATTACH;FMTTYPE=image/jpeg:https://vakaruvejai.com/wp-content/uploads/2022/03/275173254_323933336443318_7435912794679644601_n.jpg
END:VEVENT
END:VCALENDAR