BEGIN:VCALENDAR
VERSION:2.0
PRODID:-//Vakarų Vėjai - ECPv6.15.3//NONSGML v1.0//EN
CALSCALE:GREGORIAN
METHOD:PUBLISH
X-ORIGINAL-URL:https://vakaruvejai.com
X-WR-CALDESC:Vakarų Vėjai renginiai
REFRESH-INTERVAL;VALUE=DURATION:PT1H
X-Robots-Tag:noindex
X-PUBLISHED-TTL:PT1H
BEGIN:VTIMEZONE
TZID:America/Los_Angeles
BEGIN:DAYLIGHT
TZOFFSETFROM:-0800
TZOFFSETTO:-0700
TZNAME:PDT
DTSTART:20220313T100000
END:DAYLIGHT
BEGIN:STANDARD
TZOFFSETFROM:-0700
TZOFFSETTO:-0800
TZNAME:PST
DTSTART:20221106T090000
END:STANDARD
END:VTIMEZONE
BEGIN:VEVENT
DTSTART;TZID=America/Los_Angeles:20220514T170000
DTEND;TZID=America/Los_Angeles:20220514T190000
DTSTAMP:20260423T190836
CREATED:20220304T191849Z
LAST-MODIFIED:20220304T191849Z
UID:20345-1652547600-1652554800@vakaruvejai.com
SUMMARY:Bernardo Brazdžionio vardo išeivijos menininkų atminimo kiemelio 10 metų jubiliejus\, Los Andželas
DESCRIPTION:„Just Millin’ Around” teatras kviečia į jau 10-metį gyvuojantį Bernardo Brazdžionio vardo išeivijos menininkų atminimo kiemelį. \nKiemelio gyvavimo jubiliejaus proga bus atidengta atminimo lentelė išeivijos poetui\, rašytojui PRANUI VISVYDUI minint 100-ąsias jo gimimo metines. \nVakaro metu bus kalbama apie Prano Visvydo kūrybinį kelią ir jo gyvenimą\, bus rodoma niekur nepublikuota video medžiaga. Skambės gyva muzika. Vaišės. \nLaukiame visų\, neabejingų išeivijos menininkų kūrybai. \nJAM teatras
URL:https://vakaruvejai.com/renginys/bernardo-brazdzionio-vardo-iseivijos-menininku-atminimo-kiemelio-10-metu-jubiliejus-los-andzelas/
LOCATION:Bernardo Brazdžionio vardo išeivijos menininkų kiemelis\, 2901 Griffith Park Blvd.\, Los Angeles\, CA\, 90027\, United States
CATEGORIES:Lietuviški renginiai,Los Andželas
ATTACH;FMTTYPE=image/jpeg:https://vakaruvejai.com/wp-content/uploads/2022/03/Su-malunu-scaled.jpg
END:VEVENT
END:VCALENDAR