BEGIN:VCALENDAR
VERSION:2.0
PRODID:-//Vakarų Vėjai - ECPv6.15.3//NONSGML v1.0//EN
CALSCALE:GREGORIAN
METHOD:PUBLISH
X-WR-CALNAME:Vakarų Vėjai
X-ORIGINAL-URL:https://vakaruvejai.com
X-WR-CALDESC:Vakarų Vėjai renginiai
REFRESH-INTERVAL;VALUE=DURATION:PT1H
X-Robots-Tag:noindex
X-PUBLISHED-TTL:PT1H
BEGIN:VTIMEZONE
TZID:America/Los_Angeles
BEGIN:DAYLIGHT
TZOFFSETFROM:-0800
TZOFFSETTO:-0700
TZNAME:PDT
DTSTART:20220313T100000
END:DAYLIGHT
BEGIN:STANDARD
TZOFFSETFROM:-0700
TZOFFSETTO:-0800
TZNAME:PST
DTSTART:20221106T090000
END:STANDARD
END:VTIMEZONE
BEGIN:VEVENT
DTSTART;TZID=America/Los_Angeles:20220910T113000
DTEND;TZID=America/Los_Angeles:20220910T133000
DTSTAMP:20260423T143819
CREATED:20220909T222839Z
LAST-MODIFIED:20220909T222839Z
UID:22486-1662809400-1662816600@vakaruvejai.com
SUMMARY:🇱🇹LITHUANIA VS SPAIN 🇪🇸 EUROBASKET 🏀 GAME! 🇱🇹LIETUVA - ISPANIJA🇪🇸 KREPŠINIO RUNGTYNĖS! Los Andželas
DESCRIPTION:LT  \nHey Hey! lietuvaičiai lietuvaičiai!\nPasimatome rytoj Red Lion Tavern palaikyti Lietuvos Nacionalinę Krepšinio Komandą!!! \nRungtyniu pradžia 11:45 ryto. Renkames 11-11:30am! Lietuviška atributika ir vėliavos būtina! \nEN \nLets get together to support Lithuanian National Basketball Team!!! Game starts at 11:45am PST. \nWe are gathering at Red Lion Tavern between 11-11:30AM. Bring your Lithuanian Support spirit with you!
URL:https://vakaruvejai.com/renginys/%f0%9f%87%b1%f0%9f%87%b9lithuania-vs-spain-%f0%9f%87%aa%f0%9f%87%b8-eurobasket-%f0%9f%8f%80-game-%f0%9f%87%b1%f0%9f%87%b9lietuva-ispanija%f0%9f%87%aa%f0%9f%87%b8-krepsinio-rungtynes-los-andzelas/
LOCATION:Red Lion Tavern\, 2366 Glendale Blvd.\, Los Angeles\, CA\, 90039
CATEGORIES:Lietuviški renginiai,Los Andželas
ATTACH;FMTTYPE=image/png:https://vakaruvejai.com/wp-content/uploads/2022/09/Screen-Shot-2022-09-09-at-3.26.54-PM.png
END:VEVENT
END:VCALENDAR