BEGIN:VCALENDAR
VERSION:2.0
PRODID:-//Vakarų Vėjai - ECPv6.15.3//NONSGML v1.0//EN
CALSCALE:GREGORIAN
METHOD:PUBLISH
X-WR-CALNAME:Vakarų Vėjai
X-ORIGINAL-URL:https://vakaruvejai.com
X-WR-CALDESC:Vakarų Vėjai renginiai
REFRESH-INTERVAL;VALUE=DURATION:PT1H
X-Robots-Tag:noindex
X-PUBLISHED-TTL:PT1H
BEGIN:VTIMEZONE
TZID:America/Los_Angeles
BEGIN:DAYLIGHT
TZOFFSETFROM:-0800
TZOFFSETTO:-0700
TZNAME:PDT
DTSTART:20200308T100000
END:DAYLIGHT
BEGIN:STANDARD
TZOFFSETFROM:-0700
TZOFFSETTO:-0800
TZNAME:PST
DTSTART:20201101T090000
END:STANDARD
BEGIN:DAYLIGHT
TZOFFSETFROM:-0800
TZOFFSETTO:-0700
TZNAME:PDT
DTSTART:20210314T100000
END:DAYLIGHT
BEGIN:STANDARD
TZOFFSETFROM:-0700
TZOFFSETTO:-0800
TZNAME:PST
DTSTART:20211107T090000
END:STANDARD
BEGIN:DAYLIGHT
TZOFFSETFROM:-0800
TZOFFSETTO:-0700
TZNAME:PDT
DTSTART:20220313T100000
END:DAYLIGHT
BEGIN:STANDARD
TZOFFSETFROM:-0700
TZOFFSETTO:-0800
TZNAME:PST
DTSTART:20221106T090000
END:STANDARD
END:VTIMEZONE
BEGIN:VEVENT
DTSTART;TZID=America/Los_Angeles:20220612T124500
DTEND;TZID=America/Los_Angeles:20220612T134500
DTSTAMP:20260423T173350
CREATED:20220520T172521Z
LAST-MODIFIED:20220520T172521Z
UID:21497-1655037900-1655041500@vakaruvejai.com
SUMMARY:Birželio įvykių minėjimas ir filmas apie Adolfą Ramanauską "Vanagą"\, Los Andželas
DESCRIPTION:Los Andželo Juozo Daumanto Šaulių kuopa kviečia Jus į birželio įvykių minėjimą ir filmą apie Adolfą Ramanauską – „Vanagą”. Renginys vyks birželio 12-tą dieną\, 12:45 val. po pietų Šv. Kazimiero parapijos salėje. Garbės svečiai: „Vanago” anūkė Inga Janucevičienė ir proanūkis Arnoldas Janucevičius. \nĮėjimas nemokamas. \nPo renginio kava ir pabendravimas su svečiais.
URL:https://vakaruvejai.com/renginys/birzelio-ivykiu-minejimas-ir-filmas-apie-adolfa-ramanauska-vanaga-los-andzelas/
LOCATION:Šv. Kazimiero parapija Los Andžele\, 2718 St George St\, Los Angeles\, CA\, 90027\, United States
CATEGORIES:Lietuviški renginiai,Los Andželas
ATTACH;FMTTYPE=image/png:https://vakaruvejai.com/wp-content/uploads/2022/05/Screen-Shot-2022-05-20-at-10.09.38-AM.png
END:VEVENT
BEGIN:VEVENT
DTSTART;TZID=America/Los_Angeles:20211121T130000
DTEND;TZID=America/Los_Angeles:20211121T150000
DTSTAMP:20260423T173350
CREATED:20211119T072846Z
LAST-MODIFIED:20211119T072846Z
UID:18672-1637499600-1637506800@vakaruvejai.com
SUMMARY:Pašnekesiai apie Mariją Gimbutienę: Lietuvos istorijos instituto archeologė dr. Agnė Čivilytė\, Los Andželas
DESCRIPTION:Kviečiame į jaukų susitikimą prie arbatos ir lietuviško pyrago su Lietuvos istorijos instituto archeologe dr. Agne Čivilyte.\n\nArcheologė A. Čivilytė – įvairių stipendijų laimėtoja\, humanitarinių mokslų daktarė\, daugybę metų tyrinėjanti kultūrinę antropologiją\, archeologiją Rytų Pabaltijo regione. Ją taip pat ypatingai domina profesorė archeologė\, Los Andželo lietuvė\, įžymioji Marija Gimbutienė. Dr. A. Čivilytė kviečia\, minint Marijos Gimbutienės šimtąsias gimimo metines (1921- 1994)\, prisiminti\, pasikalbėti ir drauge patyrinėti prof. M. Gimbutienės atradimus\, pastebėjimus ir įžvalgas.\n\nKada Lapkričio 21 d.\, sekmadienį\, 1 val. po pietų.\nKur Mažojoje Lietuvoje\, Brazdžionio kiemelyje.\n\nRenginys nemokamas.
URL:https://vakaruvejai.com/renginys/pasnekesiai-apie-marija-gimbutiene-lietuvos-istorijos-instituto-archeologe-dr-agne-civilyte-los-andzelas/
LOCATION:Bernardo Brazdžionio vardo išeivijos menininkų kiemelis\, 2901 Griffith Park Blvd.\, Los Angeles\, CA\, 90027\, United States
CATEGORIES:Lietuviški renginiai,Los Andželas
ATTACH;FMTTYPE=image/jpeg:https://vakaruvejai.com/wp-content/uploads/2021/11/255387170_2085573554913924_7907015962427787920_n.jpg
END:VEVENT
BEGIN:VEVENT
DTSTART;TZID=America/Los_Angeles:20200301T130000
DTEND;TZID=America/Los_Angeles:20200301T150000
DTSTAMP:20260423T173350
CREATED:20200207T053041Z
LAST-MODIFIED:20200207T053041Z
UID:11295-1583067600-1583074800@vakaruvejai.com
SUMMARY:Susitikimas su svečiu iš Lietuvos\, Vidmantu Valiušaičiu\, Portland
DESCRIPTION:LT \nMieli bendruomenės nariai ir svečiai\, \nŠirdingai kviečiame į susitikimą su gerb. svečiu iš Lietuvos\, Vidmantu Valiušaičiu. Pokalbio tema\, „Istorija\, Politika\, Istorijos politizavimas”. \nVidmantas Valiušaitis – Lietuvos filologas\, žurnalistas\, publicistas\, politikos ir kultūros apžvalgininkas\, redaktorius\, visuomenės veikėjas. \nhttps://www.delfi.lt/temos/vidmantas-valiusaitis \n-Parkavimas bibliotekoje yra ribojamas iki 2 valandų darbo dienomis iki 18 val.\n-Automobilių stovėjimas gatvėje yra matuojamas ir vykdomas.\n-Ilgesniam laikui parkuotis galima miesto centro garaže\, esančiame vienu kvartalu į pietus nuo bibliotekos\, Brodvėjaus gatvėje 703. \nSusitikimas NEMOKAMAS\, bet aukas mielai priimsime ir panaudosime bibliotekos mokesciui padengti. \n  \nEN \nDear Community members and guests\, \nWe warmly welcome you to meet with the Honorable Member\, guest from Lithuania\, Vidmantas Valiušaitis. The theme of the lecture\, „History\, Politics\, Politicization of History.” \nVidmantas Valiušaitis – Lithuanian philologist\, journalist\, publicist\, political and cultural reviewer\, editor\, public figure. \nhttps://www.delfi.lt/temos/vidmantas-valiusaitis \n\n\n-Parking at the library is limited to 2 hours on weekdays before 6pm.\n-Street parking is metered\, and enforced.\n-Longer term parking is available at the City Center Parking garage located one block south of the library at 703 Broadway Street.Entrance is FREE\, but donations are always welcomed and will be used to cover Library’s\, Columbia room\, rental fee.
URL:https://vakaruvejai.com/renginys/susitikimas-su-sveciu-is-lietuvos-vidmantu-valiusaiciu-portland/
LOCATION:Vancouver Community Library (Columbia Room)\, 901 C St\, Vancouver\, 98660\, Jungtinės Amerikos Valstijos
CATEGORIES:Lietuviški renginiai,Portlandas
ATTACH;FMTTYPE=image/jpeg:https://vakaruvejai.com/wp-content/uploads/2020/02/file50694174_2e2a856a.jpg
END:VEVENT
END:VCALENDAR