BEGIN:VCALENDAR
VERSION:2.0
PRODID:-//Vakarų Vėjai - ECPv6.15.3//NONSGML v1.0//EN
CALSCALE:GREGORIAN
METHOD:PUBLISH
X-WR-CALNAME:Vakarų Vėjai
X-ORIGINAL-URL:https://vakaruvejai.com
X-WR-CALDESC:Vakarų Vėjai renginiai
REFRESH-INTERVAL;VALUE=DURATION:PT1H
X-Robots-Tag:noindex
X-PUBLISHED-TTL:PT1H
BEGIN:VTIMEZONE
TZID:America/Los_Angeles
BEGIN:DAYLIGHT
TZOFFSETFROM:-0800
TZOFFSETTO:-0700
TZNAME:PDT
DTSTART:20250309T100000
END:DAYLIGHT
BEGIN:STANDARD
TZOFFSETFROM:-0700
TZOFFSETTO:-0800
TZNAME:PST
DTSTART:20251102T090000
END:STANDARD
END:VTIMEZONE
BEGIN:VEVENT
DTSTART;VALUE=DATE:20250418
DTEND;VALUE=DATE:20250421
DTSTAMP:20260423T160140
CREATED:20250328T180641Z
LAST-MODIFIED:20250328T180722Z
UID:28769-1744934400-1745193599@vakaruvejai.com
SUMMARY:Išvyka į Jackson su ekskursijomis ir programa\, Jackson\, CA
DESCRIPTION:IŠVYKA Į JACKSON\, CA \nApsistojimas istoriniame National HOTEL\, Jackson\, kuriame buvo apsistoję netgi 3 USA prezidentai ir aktorius John Wayne\, šis viešbutis procese tapti Hilton butique hotel ir kol dar kainos visiškai neiškilo mes gauname labai gerą kainą dvivietis 160\, keturvietis 185 (puiku su vaikais) mokesčiai įskaičiuoti. \nNational Hotel Jackson https://g.co/kgs/pkYXTKm \nPROGRAMA:\nJeigu atvykstama penktadienio vakare galima nueiti į ekskursiją po senąjį teismo pastatą ir kalėjimą. Reikia derinti iš anksto. \nTaip pat galima apsilankyti Amador bowling Alley\, kur kainos juokingai žemos\, maistas geras ir vaikams pilna visokių kitokių atrakcijų (dėl daugiau info parašykite man). \nhttps://www.restoreamador.com/ Amador jail house experience \nGold Country Lanes\nhttps://g.co/kgs/FgBShQp \nKiekvieną užsiėmimą galima rinktis. Galima tik šiaip pasivaikščioti ir susipažinti su istoriniu aukso kasimo laikotarpio miesteliu Jackson\, kuris dabar yra Amador apylinkių sostinė. \nPats Jackson senamiestis yra įspūdingas vien dėlto\, kad kiekvienas pastatas pasakoja savo istoriją. Su miesteliu galėsime susipažinti šeštadienio vakare\, kada jums papasakosiu daug įdomių praeities istorijų. \nPavakarieniauti siūlau Luka’s restorane\, vos keletas minučių nuo viešbučio. Happy hour 15-17:30 vakaro. \nTaip pat galite rinktis tik vieną nakvynę vietoj dviejų ir atvykti šeštadienio ryte. \nŠeštadienio rytą einame į žygį aplink Tabeaud ežerą po pusryčių. Renkamės mano sodyboje 9:30 ryto. Grįžtam 12-tą dienos. \nhttps://www.amadorgold.net/tours/lakes/tabeaud/tabeaud.html \nRuošiamės į kelionę po vynines su limuzinu. Aplankysime dvi vyninės Plymouth vyno krašte. (Dvi grupės\, du limo Po 8 žmones) \nIšvažiuojame 13val. \nHeldvig vynų degustacija su pietumis vyno rūsiuose ir Story vyninė su vynų ir gruziniškų koldūnų degustacija bei edukacija. \nLimo pirmyn atgal $40\nDegustacija Heldvig rūsiuose su pietumis $50\nDegustacija Story vyninėje su vyno gaminimo edukacija $20 \nHelwig Vineyards & Winery\nhttps://g.co/kgs/HzMEf4s \nStory Winery\nhttps://g.co/kgs/KxTa2bD \nTuo metu vaikai su priežiūra lieka mano sodyboje\, maudosi jacuzzi\, valgo pietus. Bus galima užsakyti picą į namus. \nBūtina 6+ vaikų grupė arba vienas iš tėvų lieka su vaikais ir žaidžia įvairius žaidimus\, dideliame ekrane gali žiūrėti filmą ar žaisti lauke ieškant velykinių kiaušinių. Jeigu susidarys vaikų grupė kainą nustatysime vėliau. \nVakare visi renkamės apie 8pm bendram vakarėliui\, kur taip pat nauji LDK Algirdo šaulių sąjungos išeivijoje nariai duos priesaiką.\nUžkandžių ir gėrimų kaina priklausys nuo žmonių skaičiaus. \nSekmadienį išvyka į urvus ir pietūs gražioje terasoje su jacuzzi mano sodyboje. Nepamirškite maudimukų. \nPietūs $15\nEkskursija po urvus $25\, vaikams $15 \nBlack Chasm Cavern National Natural Landmark\nhttps://g.co/kgs/sfwcZiA \nKiekvieną užsiėmimą galima rinktis atskirai\, bet vieta bus garantuota tik tiems\, kurie iš anksto susimokės. Visi atvykstantys turi rezervuoti vietas ir susimokėti iki balandžio 4d. Dėl visos info ir visų klausimų rašykite Vita Gailiunaite FACEBOOK: https://www.facebook.com/vita.gailiunaite \n Sukurta Tautvydas Kaltenis
URL:https://vakaruvejai.com/renginys/isvyka-i-jackson-su-ekskursijomis-ir-programa-jackson-ca/
LOCATION:National Hotel Jackson\, 2 Water St.\, Jackson\, CA\, 95642
CATEGORIES:San Franciskas
ATTACH;FMTTYPE=image/png:https://vakaruvejai.com/wp-content/uploads/2025/03/Screen-Shot-2025-03-28-at-10.26.48-AM.png
END:VEVENT
END:VCALENDAR