BEGIN:VCALENDAR
VERSION:2.0
PRODID:-//Vakarų Vėjai - ECPv6.15.3//NONSGML v1.0//EN
CALSCALE:GREGORIAN
METHOD:PUBLISH
X-WR-CALNAME:Vakarų Vėjai
X-ORIGINAL-URL:https://vakaruvejai.com
X-WR-CALDESC:Vakarų Vėjai renginiai
REFRESH-INTERVAL;VALUE=DURATION:PT1H
X-Robots-Tag:noindex
X-PUBLISHED-TTL:PT1H
BEGIN:VTIMEZONE
TZID:America/Los_Angeles
BEGIN:DAYLIGHT
TZOFFSETFROM:-0800
TZOFFSETTO:-0700
TZNAME:PDT
DTSTART:20200308T100000
END:DAYLIGHT
BEGIN:STANDARD
TZOFFSETFROM:-0700
TZOFFSETTO:-0800
TZNAME:PST
DTSTART:20201101T090000
END:STANDARD
BEGIN:DAYLIGHT
TZOFFSETFROM:-0800
TZOFFSETTO:-0700
TZNAME:PDT
DTSTART:20210314T100000
END:DAYLIGHT
BEGIN:STANDARD
TZOFFSETFROM:-0700
TZOFFSETTO:-0800
TZNAME:PST
DTSTART:20211107T090000
END:STANDARD
END:VTIMEZONE
BEGIN:VEVENT
DTSTART;VALUE=DATE:20210330
DTEND;VALUE=DATE:20210331
DTSTAMP:20260423T162044
CREATED:20210219T174546Z
LAST-MODIFIED:20210219T174546Z
UID:15308-1617062400-1617148799@vakaruvejai.com
SUMMARY:Vaikų talentų konkursas 2021
DESCRIPTION:JAV LB Kultūros taryba skelbia visos JAV VAIKŲ TALENTŲ KONKURSĄ!\nPirmos vietos nugalėtojo/-os laukia $1000 dol. piniginis prizas!\nDaugiau informacijos – www.javlb.org puslapyje – https://javlb.org/konkursas/\nPrašome dalintis su muzikos\, vokalo\, bei estetinio judesio meno mokytojais bei mokiniais ir jų tėveliais!\nPagrindinis konkurso remėjas – Lietuvių Fondas.
URL:https://vakaruvejai.com/renginys/vaiku-talentu-konkursas-2021/
CATEGORIES:Arizona,Hawaii,Los Andželas,Nevada,Portlandas,San Diego,San Franciskas,Seattle
ATTACH;FMTTYPE=image/jpeg:https://vakaruvejai.com/wp-content/uploads/2021/02/32343B85-2ABF-4E16-AFC1-464D11062A57.jpeg
ORGANIZER;CN="JAV LB Kra%C5%A1to Valdyba":MAILTO:informacija@javlb.org
END:VEVENT
BEGIN:VEVENT
DTSTART;TZID=America/Los_Angeles:20210302T060000
DTEND;TZID=America/Los_Angeles:20210302T070000
DTSTAMP:20260423T162044
CREATED:20210219T172331Z
LAST-MODIFIED:20210219T172331Z
UID:15270-1614664800-1614668400@vakaruvejai.com
SUMMARY:Susitikimas su seimo nare Dalia Asanavičiūte\, Virtualus renginys
DESCRIPTION:2021 m. kovo 2 d. 6:00 am JAV Vakarų pakrantės laiku vyks virtualus susitikimas su Lietuvos Respublikos Seimo nare\, Lietuvos Respublikos Seimo ir Pasaulio lietuvių bendruomenės komisijos pirmininke Dalia Asanavičiūte. Susitikime taip pat dalyvaus Lietuvos Respublikos Seimo ir Pasaulio lietuvių bendruomenės komisijos ko-pirmininkas\, JAV Lietuvių Bendruomenės atstovas šioje komisijoje Jonas Bružas. Susitikime bus kalbama apie LR Seimo ir Pasaulio lietuvių bendruomenės komisijos planus\, susijusius su JAV lietuvių veikla – kas numatoma siekiant stiprinti Lietuvos ir JAV Lietuvių Bendruomenės bei profesionalų bendradarbiavimą.\n\n \n\n\n\nSusitikimas vyks Zoom platformoje\, prisijungimo ID: 912 7024 0865\, slaptažodis: 683924. Trukmė – 1 val.  \nKviečiame dalyvauti šiame susitikime ir prašome iš anksto (iki vasario 28 d.) atsiųsti klausimus kalbėtojams. Klausimus siųskite el. paštu ekonomika@javlb.org \nJAV LB KRAŠTO VALDYBA
URL:https://vakaruvejai.com/renginys/susitikimas-su-seimo-nare-dalia-asanaviciute-virtualus-renginys/
LOCATION:Virtualus renginys
CATEGORIES:Arizona,Hawaii,Lietuviški renginiai,Los Andželas,Nevada,Portlandas,San Diego,San Franciskas,Seattle,Virtualus renginys
ATTACH;FMTTYPE=image/jpeg:https://vakaruvejai.com/wp-content/uploads/2021/02/9B52874A-A7C8-4734-A8CC-4D6AAF3A3BE6.jpeg
ORGANIZER;CN="JAV LB Kra%C5%A1to Valdyba":MAILTO:informacija@javlb.org
END:VEVENT
BEGIN:VEVENT
DTSTART;TZID=America/Los_Angeles:20210228T100000
DTEND;TZID=America/Los_Angeles:20210228T110000
DTSTAMP:20260423T162044
CREATED:20210217T220822Z
LAST-MODIFIED:20210217T225011Z
UID:15273-1614506400-1614510000@vakaruvejai.com
SUMMARY:Susitikimas su seimo nare Aušrine Armonaite\, Virtualus renginys
DESCRIPTION:LT \nMieli JAV Lietuvių Bendruomenės nariai\, \nKviečiame į virtualų susitikimą su LR Ekonomikos ir inovacijų ministre\, Seimo nare Aušrine Armonaite\, išrinkta Pasaulio lietuvių apygardoje. Susitikimui reikalinga išankstinė registracija: https://zoom.us/meeting/register/tJUtf-uorz0sG9CiN9Ml0s0hk5z4_l_02irV \nJAV Lietuvių Bendruomenės Krašto valdyba \nEN \nDear Lithuanian American Community leaders\, \nJoin in a Zoom Town Hall meeting with Ausrine Armonaite\, the first person elected to the newly established diaspora seat in the Lithuanian Parliament. Please register here: https://zoom.us/meeting/register/tJUtf-uorz0sG9CiN9Ml0s0hk5z4_l_02irV \nLithuanian American Community\, Inc.
URL:https://vakaruvejai.com/renginys/susitikimas-su-seimo-nare-ausrine-armonaite-virtualus-renginys/
LOCATION:Virtualus renginys
CATEGORIES:Arizona,Hawaii,Lietuviški renginiai,Los Andželas,Nevada,Portlandas,San Diego,San Franciskas,Seattle,Virtualus renginys
ATTACH;FMTTYPE=image/jpeg:https://vakaruvejai.com/wp-content/uploads/2021/02/IMG_4575-scaled.jpg
ORGANIZER;CN="JAV LB Kra%C5%A1to Valdyba":MAILTO:informacija@javlb.org
END:VEVENT
BEGIN:VEVENT
DTSTART;TZID=America/Los_Angeles:20201220T110000
DTEND;TZID=America/Los_Angeles:20201220T120000
DTSTAMP:20260423T162044
CREATED:20201210T104208Z
LAST-MODIFIED:20201210T104208Z
UID:14204-1608462000-1608465600@vakaruvejai.com
SUMMARY:Virtualus susitikimas su Kalėdų Seneliu ir spektaklis vaikams
DESCRIPTION:Mielieji\, \nar Jūsų apylinkės vaikams įdomu iš kur Kalėdų senis moka kalbėti lietuviškai? Ar žinote\, ką Kalėdų senis valgo pusryčiams?\nKviečiame prisijungti arba stebėti susitikimą per JAV Lietuvių Bendruomenės FB puslapį su Kalėdų seneliu iš Lietuvos ir asmeniškai jam užduoti visus rūpimus klausimus!\nTa pačia proga vaikams dovana – spektakliukas.\nVisa informacija prisegtame plakate. \n\nJAV LB Krašto Valdybos Kultūros Taryba
URL:https://vakaruvejai.com/renginys/virtualus-susitikimas-su-kaledu-seneliu-ir-spektaklis-vaikams/
LOCATION:Virtualus renginys
CATEGORIES:Arizona,Hawaii,Lietuviški renginiai,Los Andželas,Nevada,Portlandas,San Diego,San Franciskas,Seattle,Virtualus renginys
ATTACH;FMTTYPE=image/jpeg:https://vakaruvejai.com/wp-content/uploads/2020/12/A4BECC5B-1521-4917-BF4A-D40F5FCF3784.jpeg
END:VEVENT
END:VCALENDAR