BEGIN:VCALENDAR
VERSION:2.0
PRODID:-//Vakarų Vėjai - ECPv6.15.3//NONSGML v1.0//EN
CALSCALE:GREGORIAN
METHOD:PUBLISH
X-ORIGINAL-URL:https://vakaruvejai.com
X-WR-CALDESC:Vakarų Vėjai renginiai
REFRESH-INTERVAL;VALUE=DURATION:PT1H
X-Robots-Tag:noindex
X-PUBLISHED-TTL:PT1H
BEGIN:VTIMEZONE
TZID:America/Los_Angeles
BEGIN:DAYLIGHT
TZOFFSETFROM:-0800
TZOFFSETTO:-0700
TZNAME:PDT
DTSTART:20210314T100000
END:DAYLIGHT
BEGIN:STANDARD
TZOFFSETFROM:-0700
TZOFFSETTO:-0800
TZNAME:PST
DTSTART:20211107T090000
END:STANDARD
END:VTIMEZONE
BEGIN:VEVENT
DTSTART;TZID=America/Los_Angeles:20210512T100000
DTEND;TZID=America/Los_Angeles:20210512T110000
DTSTAMP:20260423T174903
CREATED:20210510T152239Z
LAST-MODIFIED:20210510T152239Z
UID:16320-1620813600-1620817200@vakaruvejai.com
SUMMARY:JAV bendruomenės tarybą renka internetu! Sektina? Virtualus renginys
DESCRIPTION:Pokalbiai su #Pilietybe | Vol. 3\n2021-ieji gausūs #PLB bendruomenių vadovų ir tarybų rinkimais.\n70-metį švenčiančios JAV lietuvių bendruomenės Tarybos rinkimai jau vyksta – gyvai\, paštu ir internetu!\nRimvydas gyvai kalbins INGRIDĄ MISEVIČIENĘ\, JAV LB rinkimų komisijos pirmininkę.\nPer pusvalandį #Pilietybės FB #išpirmųlūpų sužinosime:\n– kaip JAV LB ruošėsi internetiniam balsavimui\,\n– kiek balsuojančiųjų renkasi šį būdą\,\n– ką reiktų tobulinti.
URL:https://vakaruvejai.com/renginys/jav-bendruomenes-taryba-renka-internetu-sektina-virtualus-renginys/
LOCATION:Virtualus renginys
CATEGORIES:Arizona,Hawaii,Lietuviški renginiai,Los Andželas,Nevada,Portlandas,San Diego,San Franciskas,Seattle,Virtualus renginys
ATTACH;FMTTYPE=image/jpeg:https://vakaruvejai.com/wp-content/uploads/2021/05/BD9C605F-A9BA-43BD-B7D0-D81E75E7D37C.jpeg
END:VEVENT
END:VCALENDAR