BEGIN:VCALENDAR
VERSION:2.0
PRODID:-//Vakarų Vėjai - ECPv6.15.3//NONSGML v1.0//EN
CALSCALE:GREGORIAN
METHOD:PUBLISH
X-ORIGINAL-URL:https://vakaruvejai.com
X-WR-CALDESC:Vakarų Vėjai renginiai
REFRESH-INTERVAL;VALUE=DURATION:PT1H
X-Robots-Tag:noindex
X-PUBLISHED-TTL:PT1H
BEGIN:VTIMEZONE
TZID:America/Los_Angeles
BEGIN:DAYLIGHT
TZOFFSETFROM:-0800
TZOFFSETTO:-0700
TZNAME:PDT
DTSTART:20200308T100000
END:DAYLIGHT
BEGIN:STANDARD
TZOFFSETFROM:-0700
TZOFFSETTO:-0800
TZNAME:PST
DTSTART:20201101T090000
END:STANDARD
BEGIN:DAYLIGHT
TZOFFSETFROM:-0800
TZOFFSETTO:-0700
TZNAME:PDT
DTSTART:20210314T100000
END:DAYLIGHT
BEGIN:STANDARD
TZOFFSETFROM:-0700
TZOFFSETTO:-0800
TZNAME:PST
DTSTART:20211107T090000
END:STANDARD
BEGIN:DAYLIGHT
TZOFFSETFROM:-0800
TZOFFSETTO:-0700
TZNAME:PDT
DTSTART:20220313T100000
END:DAYLIGHT
BEGIN:STANDARD
TZOFFSETFROM:-0700
TZOFFSETTO:-0800
TZNAME:PST
DTSTART:20221106T090000
END:STANDARD
BEGIN:DAYLIGHT
TZOFFSETFROM:-0800
TZOFFSETTO:-0700
TZNAME:PDT
DTSTART:20230312T100000
END:DAYLIGHT
BEGIN:STANDARD
TZOFFSETFROM:-0700
TZOFFSETTO:-0800
TZNAME:PST
DTSTART:20231105T090000
END:STANDARD
BEGIN:DAYLIGHT
TZOFFSETFROM:-0800
TZOFFSETTO:-0700
TZNAME:PDT
DTSTART:20240310T100000
END:DAYLIGHT
BEGIN:STANDARD
TZOFFSETFROM:-0700
TZOFFSETTO:-0800
TZNAME:PST
DTSTART:20241103T090000
END:STANDARD
BEGIN:DAYLIGHT
TZOFFSETFROM:-0800
TZOFFSETTO:-0700
TZNAME:PDT
DTSTART:20250309T100000
END:DAYLIGHT
BEGIN:STANDARD
TZOFFSETFROM:-0700
TZOFFSETTO:-0800
TZNAME:PST
DTSTART:20251102T090000
END:STANDARD
END:VTIMEZONE
BEGIN:VEVENT
DTSTART;VALUE=DATE:20251003
DTEND;VALUE=DATE:20251006
DTSTAMP:20260423T144109
CREATED:20250830T053045Z
LAST-MODIFIED:20250830T053045Z
UID:29638-1759449600-1759708799@vakaruvejai.com
SUMMARY:JAV Lietuvių bendruomenės Tarybos sesija\, Los Andželas
DESCRIPTION:Dėmesio\, lietuvių bendruomenės nariai! \nSpalio 3-5 dienomis Los Andžele vyks JAV Lietuvių bendruomenės Tarybos sesija! Šia proga kviečiame į dvi ypatingas vakarones! Jūsų lauks nuotaikingos programos su gyva muzika\, šokiais ir gardžiomis vaišėmis! \nRegistracija į sesiją ir koncertinius vakarus priimama iki š.m. rugsėjo 25d. \nPenktadienis\, spalio 3d. 18:00 val. \nTema: „Kalifornijos svajos” (La La Land) \nAprangos kodas: „La La Land” įkvėpta apranga \nKaina: $125 (vakarienė ir koncertas) \nŠeštadienis\, spalio 4d. 18:00 val. \nTema: „(Ne)Oskarų naktis” \nAprangos kodas: „Black tie” (iškilminga vakarinė apranga) \nKaina: $150 (vakarienė ir koncertas) \nVieta: \nHiltos Los Angeles Culver City \n6161 W Centinela Ave\, Culver City\, CA 90230 \nNorintys apsistoti viešbutyje su grupės nuolaida\, dalyvauti sesijoje ar koncertuose\, turi nuskanuoti QR kodą\, užsiregistruoti ir atlikti mokėjimą. \nMokėjimas: \nČekiu\, išrašytu: Lithuanian American Community / Session 24 \nPrašome „Memo” eilutėje nurodyti\, už kurį renginį mokate ir siųsti adresu: 306 Arlington Dr.\, Pasadena\, CA 91105 arba nuskanavę PayPal QR kodą. \nJei turite klausimų\, rašykite: tarybossesija@javlb.org
URL:https://vakaruvejai.com/renginys/jav-lietuviu-bendruomenes-tarybos-sesija-los-andzelas/
LOCATION:Hilton Los Angeles Culver City\, 6161 W Centinela Ave\, Culver City\, CA\, 90230
CATEGORIES:Lietuviški renginiai,Los Andželas
ATTACH;FMTTYPE=image/png:https://vakaruvejai.com/wp-content/uploads/2025/08/image1.png
END:VEVENT
BEGIN:VEVENT
DTSTART;TZID=America/Los_Angeles:20200820T180000
DTEND;TZID=America/Los_Angeles:20200820T190000
DTSTAMP:20260423T144109
CREATED:20200820T130859Z
LAST-MODIFIED:20200820T130859Z
UID:13438-1597946400-1597950000@vakaruvejai.com
SUMMARY:Pokalbiai: Strategijos plėtoti karjerai
DESCRIPTION:Please join the Lithuanian-American Youth Association (JAV LJS) on Thursday August 20th at 9 pm ET for a discussion on strategies for developing your career! Our first session of Pokalbiai generated great responses and tips for taking the first steps in your career. Come join us for our next session to hear some lessons learned and best practices from young Lithuanians in different career fields. \nRegister in advance for this webinar:\nhttps://us02web.zoom.us/webinar/register/WN_CPP1W_EAQbe0KRfRlQ7Abw \n  \nhttps://www.facebook.com/events/2658700801014620/
URL:https://vakaruvejai.com/renginys/pokalbiai-strategijos-pletoti-karjerai/
LOCATION:Virtualus renginys
CATEGORIES:Arizona,Hawaii,Los Andželas,Nevada,Portlandas,San Diego,San Franciskas,Seattle,Virtualus renginys
ATTACH;FMTTYPE=image/jpeg:https://vakaruvejai.com/wp-content/uploads/2020/08/A85A3867-FA6A-4F40-A21A-645B44EF8C87.jpeg
END:VEVENT
END:VCALENDAR